BEGIN:VCALENDAR
VERSION:2.0
PRODID:-//OGMBC - ECPv6.15.20//NONSGML v1.0//EN
CALSCALE:GREGORIAN
METHOD:PUBLISH
X-ORIGINAL-URL:https://oakgrove-mbc.org
X-WR-CALDESC:Events for OGMBC
REFRESH-INTERVAL;VALUE=DURATION:PT1H
X-Robots-Tag:noindex
X-PUBLISHED-TTL:PT1H
BEGIN:VTIMEZONE
TZID:America/New_York
BEGIN:DAYLIGHT
TZOFFSETFROM:-0500
TZOFFSETTO:-0400
TZNAME:EDT
DTSTART:20230312T070000
END:DAYLIGHT
BEGIN:STANDARD
TZOFFSETFROM:-0400
TZOFFSETTO:-0500
TZNAME:EST
DTSTART:20231105T060000
END:STANDARD
BEGIN:DAYLIGHT
TZOFFSETFROM:-0500
TZOFFSETTO:-0400
TZNAME:EDT
DTSTART:20240310T070000
END:DAYLIGHT
BEGIN:STANDARD
TZOFFSETFROM:-0400
TZOFFSETTO:-0500
TZNAME:EST
DTSTART:20241103T060000
END:STANDARD
BEGIN:DAYLIGHT
TZOFFSETFROM:-0500
TZOFFSETTO:-0400
TZNAME:EDT
DTSTART:20250309T070000
END:DAYLIGHT
BEGIN:STANDARD
TZOFFSETFROM:-0400
TZOFFSETTO:-0500
TZNAME:EST
DTSTART:20251102T060000
END:STANDARD
END:VTIMEZONE
BEGIN:VEVENT
DTSTART;VALUE=DATE:20241001
DTEND;VALUE=DATE:20241101
DTSTAMP:20260426T003142
CREATED:20240323T051652Z
LAST-MODIFIED:20240323T052154Z
UID:10002233-1727740800-1730419199@oakgrove-mbc.org
SUMMARY:Pastor Appreciation Month
DESCRIPTION:October is Pastor Appreciation Month! \n 
URL:https://oakgrove-mbc.org/event/pastor-appreciation-month/
LOCATION:Oak Grove\, 9457 Baumhart Road\, Amherst\, OH\, 44001\, United States
END:VEVENT
END:VCALENDAR