BEGIN:VCALENDAR
VERSION:2.0
PRODID:-//OGMBC - ECPv6.15.20//NONSGML v1.0//EN
CALSCALE:GREGORIAN
METHOD:PUBLISH
X-ORIGINAL-URL:https://oakgrove-mbc.org
X-WR-CALDESC:Events for OGMBC
REFRESH-INTERVAL;VALUE=DURATION:PT1H
X-Robots-Tag:noindex
X-PUBLISHED-TTL:PT1H
BEGIN:VTIMEZONE
TZID:America/New_York
BEGIN:DAYLIGHT
TZOFFSETFROM:-0500
TZOFFSETTO:-0400
TZNAME:EDT
DTSTART:20240310T070000
END:DAYLIGHT
BEGIN:STANDARD
TZOFFSETFROM:-0400
TZOFFSETTO:-0500
TZNAME:EST
DTSTART:20241103T060000
END:STANDARD
BEGIN:DAYLIGHT
TZOFFSETFROM:-0500
TZOFFSETTO:-0400
TZNAME:EDT
DTSTART:20250309T070000
END:DAYLIGHT
BEGIN:STANDARD
TZOFFSETFROM:-0400
TZOFFSETTO:-0500
TZNAME:EST
DTSTART:20251102T060000
END:STANDARD
BEGIN:DAYLIGHT
TZOFFSETFROM:-0500
TZOFFSETTO:-0400
TZNAME:EDT
DTSTART:20260308T070000
END:DAYLIGHT
BEGIN:STANDARD
TZOFFSETFROM:-0400
TZOFFSETTO:-0500
TZNAME:EST
DTSTART:20261101T060000
END:STANDARD
END:VTIMEZONE
BEGIN:VEVENT
DTSTART;VALUE=DATE:20251225
DTEND;VALUE=DATE:20251226
DTSTAMP:20260423T171502
CREATED:20240323T053435Z
LAST-MODIFIED:20240323T125016Z
UID:10002236-1766620800-1766707199@oakgrove-mbc.org
SUMMARY:Christmas
DESCRIPTION:We rejoice as we celebrate the birth of Jesus Christ! \nMatthew 1:18-25 – King James Version \n\n\n18 Now the birth of Jesus Christ was on this wise: When as his mother Mary was espoused to Joseph\, before they came together\, she was found with child of the Holy Ghost.\n\n\n\n\n\n19 Then Joseph her husband\, being a just man\, and not willing to make her a public example\, was minded to put her away privily. \n20 But while he thought on these things\, behold\, the angel of the Lord appeared unto him in a dream\, saying\, Joseph\, thou son of David\, fear not to take unto thee Mary thy wife: for that which is conceived in her is of the Holy Ghost. \n21 And she shall bring forth a son\, and thou shalt call his name Jesus: for he shall save his people from their sins. \n22 Now all this was done\, that it might be fulfilled which was spoken of the Lord by the prophet\, saying\, \n23 Behold\, a virgin shall be with child\, and shall bring forth a son\, and they shall call his name Emmanuel\, which being interpreted is\, God with us. \n24 Then Joseph being raised from sleep did as the angel of the Lord had bidden him\, and took unto him his wife: \n25 And knew her not till she had brought forth her firstborn son: and he called his name Jesus.
URL:https://oakgrove-mbc.org/event/christmas/2025-12-25/
LOCATION:Oak Grove\, 9457 Baumhart Road\, Amherst\, OH\, 44001\, United States
END:VEVENT
END:VCALENDAR