BEGIN:VCALENDAR
VERSION:2.0
PRODID:-//OGMBC - ECPv6.15.20//NONSGML v1.0//EN
CALSCALE:GREGORIAN
METHOD:PUBLISH
X-WR-CALNAME:OGMBC
X-ORIGINAL-URL:https://oakgrove-mbc.org
X-WR-CALDESC:Events for OGMBC
REFRESH-INTERVAL;VALUE=DURATION:PT1H
X-Robots-Tag:noindex
X-PUBLISHED-TTL:PT1H
BEGIN:VTIMEZONE
TZID:America/New_York
BEGIN:DAYLIGHT
TZOFFSETFROM:-0500
TZOFFSETTO:-0400
TZNAME:EDT
DTSTART:20240310T070000
END:DAYLIGHT
BEGIN:STANDARD
TZOFFSETFROM:-0400
TZOFFSETTO:-0500
TZNAME:EST
DTSTART:20241103T060000
END:STANDARD
BEGIN:DAYLIGHT
TZOFFSETFROM:-0500
TZOFFSETTO:-0400
TZNAME:EDT
DTSTART:20250309T070000
END:DAYLIGHT
BEGIN:STANDARD
TZOFFSETFROM:-0400
TZOFFSETTO:-0500
TZNAME:EST
DTSTART:20251102T060000
END:STANDARD
BEGIN:DAYLIGHT
TZOFFSETFROM:-0500
TZOFFSETTO:-0400
TZNAME:EDT
DTSTART:20260308T070000
END:DAYLIGHT
BEGIN:STANDARD
TZOFFSETFROM:-0400
TZOFFSETTO:-0500
TZNAME:EST
DTSTART:20261101T060000
END:STANDARD
END:VTIMEZONE
BEGIN:VEVENT
DTSTART;TZID=America/New_York:20250928T093000
DTEND;TZID=America/New_York:20250928T120000
DTSTAMP:20260425T093317
CREATED:20240323T041906Z
LAST-MODIFIED:20240323T043154Z
UID:10001947-1759051800-1759060800@oakgrove-mbc.org
SUMMARY:Breakfast / Sunday School / Church Service
DESCRIPTION:Join us for a morning of fellowship\, bible study\, and church.  We meet in the Fellowship Hall at 9:30am for breakfast and fellowship.  Sunday School starts at 10am (we have classes pre-school thru adults).  The morning church service begins at 11am. \nWe hope you can join us on Sunday!  To learn more about: \n\nWhere do you go when you arrive?\nWhere do my kids go?\nWhat should I wear?\nHow can I connect?\nAm I expected to give money?\nWhat does OGMBC believe?\n\nClick here.
URL:https://oakgrove-mbc.org/event/breakfast-sunday-school-church-service/2025-09-28/
LOCATION:OH
END:VEVENT
BEGIN:VEVENT
DTSTART;TZID=America/New_York:20250924T060000
DTEND;TZID=America/New_York:20250924T190000
DTSTAMP:20260425T093317
CREATED:20240116T180021Z
LAST-MODIFIED:20240824T155410Z
UID:10001293-1758693600-1758740400@oakgrove-mbc.org
SUMMARY:Bible Study (6pm)
DESCRIPTION:Join us for our weekly prayer meeting and bible study.
URL:https://oakgrove-mbc.org/event/bible-study-6pm-2/2025-09-24/
LOCATION:Oak Grove\, 9457 Baumhart Road\, Amherst\, OH\, 44001\, United States
END:VEVENT
BEGIN:VEVENT
DTSTART;TZID=America/New_York:20250921T093000
DTEND;TZID=America/New_York:20250921T120000
DTSTAMP:20260425T093317
CREATED:20240323T041906Z
LAST-MODIFIED:20240323T043154Z
UID:10001946-1758447000-1758456000@oakgrove-mbc.org
SUMMARY:Breakfast / Sunday School / Church Service
DESCRIPTION:Join us for a morning of fellowship\, bible study\, and church.  We meet in the Fellowship Hall at 9:30am for breakfast and fellowship.  Sunday School starts at 10am (we have classes pre-school thru adults).  The morning church service begins at 11am. \nWe hope you can join us on Sunday!  To learn more about: \n\nWhere do you go when you arrive?\nWhere do my kids go?\nWhat should I wear?\nHow can I connect?\nAm I expected to give money?\nWhat does OGMBC believe?\n\nClick here.
URL:https://oakgrove-mbc.org/event/breakfast-sunday-school-church-service/2025-09-21/
LOCATION:OH
END:VEVENT
BEGIN:VEVENT
DTSTART;TZID=America/New_York:20250917T060000
DTEND;TZID=America/New_York:20250917T190000
DTSTAMP:20260425T093317
CREATED:20240116T180021Z
LAST-MODIFIED:20240824T155410Z
UID:10001292-1758088800-1758135600@oakgrove-mbc.org
SUMMARY:Bible Study (6pm)
DESCRIPTION:Join us for our weekly prayer meeting and bible study.
URL:https://oakgrove-mbc.org/event/bible-study-6pm-2/2025-09-17/
LOCATION:Oak Grove\, 9457 Baumhart Road\, Amherst\, OH\, 44001\, United States
END:VEVENT
BEGIN:VEVENT
DTSTART;TZID=America/New_York:20250914T093000
DTEND;TZID=America/New_York:20250914T120000
DTSTAMP:20260425T093317
CREATED:20240323T041906Z
LAST-MODIFIED:20240323T043154Z
UID:10001945-1757842200-1757851200@oakgrove-mbc.org
SUMMARY:Breakfast / Sunday School / Church Service
DESCRIPTION:Join us for a morning of fellowship\, bible study\, and church.  We meet in the Fellowship Hall at 9:30am for breakfast and fellowship.  Sunday School starts at 10am (we have classes pre-school thru adults).  The morning church service begins at 11am. \nWe hope you can join us on Sunday!  To learn more about: \n\nWhere do you go when you arrive?\nWhere do my kids go?\nWhat should I wear?\nHow can I connect?\nAm I expected to give money?\nWhat does OGMBC believe?\n\nClick here.
URL:https://oakgrove-mbc.org/event/breakfast-sunday-school-church-service/2025-09-14/
LOCATION:OH
END:VEVENT
BEGIN:VEVENT
DTSTART;TZID=America/New_York:20250913T083000
DTEND;TZID=America/New_York:20250913T100000
DTSTAMP:20260425T093317
CREATED:20241013T223838Z
LAST-MODIFIED:20241013T224632Z
UID:10002370-1757752200-1757757600@oakgrove-mbc.org
SUMMARY:Men's Breakfast (8:30am)
DESCRIPTION:Join us on the 2nd Saturday monthly for our men’s breakfast.  Typically involves either a short bible study and/or work party to address some church facility needs.
URL:https://oakgrove-mbc.org/event/mens-breakfast-830am-2/2025-09-13/
LOCATION:Oak Grove\, 9457 Baumhart Road\, Amherst\, OH\, 44001\, United States
END:VEVENT
BEGIN:VEVENT
DTSTART;TZID=America/New_York:20250910T060000
DTEND;TZID=America/New_York:20250910T190000
DTSTAMP:20260425T093317
CREATED:20240116T180021Z
LAST-MODIFIED:20240824T155410Z
UID:10001291-1757484000-1757530800@oakgrove-mbc.org
SUMMARY:Bible Study (6pm)
DESCRIPTION:Join us for our weekly prayer meeting and bible study.
URL:https://oakgrove-mbc.org/event/bible-study-6pm-2/2025-09-10/
LOCATION:Oak Grove\, 9457 Baumhart Road\, Amherst\, OH\, 44001\, United States
END:VEVENT
BEGIN:VEVENT
DTSTART;TZID=America/New_York:20250907T120000
DTEND;TZID=America/New_York:20250907T133000
DTSTAMP:20260425T093317
CREATED:20240323T125417Z
LAST-MODIFIED:20240323T125417Z
UID:10002260-1757246400-1757251800@oakgrove-mbc.org
SUMMARY:Fellowship Luncheon
DESCRIPTION:Immediately following the morning service\, OGMBC holds a luncheon in the fellowship hall.
URL:https://oakgrove-mbc.org/event/fellowship-luncheon/2025-09-07/
LOCATION:Oak Grove\, 9457 Baumhart Road\, Amherst\, OH\, 44001\, United States
END:VEVENT
BEGIN:VEVENT
DTSTART;TZID=America/New_York:20250907T093000
DTEND;TZID=America/New_York:20250907T120000
DTSTAMP:20260425T093317
CREATED:20240323T041906Z
LAST-MODIFIED:20240323T043154Z
UID:10001944-1757237400-1757246400@oakgrove-mbc.org
SUMMARY:Breakfast / Sunday School / Church Service
DESCRIPTION:Join us for a morning of fellowship\, bible study\, and church.  We meet in the Fellowship Hall at 9:30am for breakfast and fellowship.  Sunday School starts at 10am (we have classes pre-school thru adults).  The morning church service begins at 11am. \nWe hope you can join us on Sunday!  To learn more about: \n\nWhere do you go when you arrive?\nWhere do my kids go?\nWhat should I wear?\nHow can I connect?\nAm I expected to give money?\nWhat does OGMBC believe?\n\nClick here.
URL:https://oakgrove-mbc.org/event/breakfast-sunday-school-church-service/2025-09-07/
LOCATION:OH
END:VEVENT
BEGIN:VEVENT
DTSTART;VALUE=DATE:20250907
DTEND;VALUE=DATE:20250908
DTSTAMP:20260425T093317
CREATED:20240323T043021Z
LAST-MODIFIED:20240323T125301Z
UID:10002150-1757203200-1757289599@oakgrove-mbc.org
SUMMARY:Missions Fund Offering
DESCRIPTION:OGMBC is proud to support many missionaries!  A special offering is taken during the morning service on the first Sunday of each month. \nA luncheon is also held at 12:15pm in the Fellowship Hall. \nTo see a complete listing of missionaries – see: https://oakgrove-mbc.org/missions/
URL:https://oakgrove-mbc.org/event/missions-fund-offering/2025-09-07/
LOCATION:Oak Grove\, 9457 Baumhart Road\, Amherst\, OH\, 44001\, United States
END:VEVENT
BEGIN:VEVENT
DTSTART;TZID=America/New_York:20250903T060000
DTEND;TZID=America/New_York:20250903T190000
DTSTAMP:20260425T093317
CREATED:20240116T180021Z
LAST-MODIFIED:20240824T155410Z
UID:10001290-1756879200-1756926000@oakgrove-mbc.org
SUMMARY:Bible Study (6pm)
DESCRIPTION:Join us for our weekly prayer meeting and bible study.
URL:https://oakgrove-mbc.org/event/bible-study-6pm-2/2025-09-03/
LOCATION:Oak Grove\, 9457 Baumhart Road\, Amherst\, OH\, 44001\, United States
END:VEVENT
BEGIN:VEVENT
DTSTART;TZID=America/New_York:20250831T093000
DTEND;TZID=America/New_York:20250831T120000
DTSTAMP:20260425T093317
CREATED:20240323T041906Z
LAST-MODIFIED:20240323T043154Z
UID:10001943-1756632600-1756641600@oakgrove-mbc.org
SUMMARY:Breakfast / Sunday School / Church Service
DESCRIPTION:Join us for a morning of fellowship\, bible study\, and church.  We meet in the Fellowship Hall at 9:30am for breakfast and fellowship.  Sunday School starts at 10am (we have classes pre-school thru adults).  The morning church service begins at 11am. \nWe hope you can join us on Sunday!  To learn more about: \n\nWhere do you go when you arrive?\nWhere do my kids go?\nWhat should I wear?\nHow can I connect?\nAm I expected to give money?\nWhat does OGMBC believe?\n\nClick here.
URL:https://oakgrove-mbc.org/event/breakfast-sunday-school-church-service/2025-08-31/
LOCATION:OH
END:VEVENT
BEGIN:VEVENT
DTSTART;TZID=America/New_York:20250827T060000
DTEND;TZID=America/New_York:20250827T190000
DTSTAMP:20260425T093317
CREATED:20240116T180021Z
LAST-MODIFIED:20240824T155410Z
UID:10001289-1756274400-1756321200@oakgrove-mbc.org
SUMMARY:Bible Study (6pm)
DESCRIPTION:Join us for our weekly prayer meeting and bible study.
URL:https://oakgrove-mbc.org/event/bible-study-6pm-2/2025-08-27/
LOCATION:Oak Grove\, 9457 Baumhart Road\, Amherst\, OH\, 44001\, United States
END:VEVENT
BEGIN:VEVENT
DTSTART;TZID=America/New_York:20250824T093000
DTEND;TZID=America/New_York:20250824T120000
DTSTAMP:20260425T093317
CREATED:20240323T041906Z
LAST-MODIFIED:20240323T043154Z
UID:10001942-1756027800-1756036800@oakgrove-mbc.org
SUMMARY:Breakfast / Sunday School / Church Service
DESCRIPTION:Join us for a morning of fellowship\, bible study\, and church.  We meet in the Fellowship Hall at 9:30am for breakfast and fellowship.  Sunday School starts at 10am (we have classes pre-school thru adults).  The morning church service begins at 11am. \nWe hope you can join us on Sunday!  To learn more about: \n\nWhere do you go when you arrive?\nWhere do my kids go?\nWhat should I wear?\nHow can I connect?\nAm I expected to give money?\nWhat does OGMBC believe?\n\nClick here.
URL:https://oakgrove-mbc.org/event/breakfast-sunday-school-church-service/2025-08-24/
LOCATION:OH
END:VEVENT
BEGIN:VEVENT
DTSTART;TZID=America/New_York:20250820T060000
DTEND;TZID=America/New_York:20250820T190000
DTSTAMP:20260425T093317
CREATED:20240116T180021Z
LAST-MODIFIED:20240824T155410Z
UID:10001288-1755669600-1755716400@oakgrove-mbc.org
SUMMARY:Bible Study (6pm)
DESCRIPTION:Join us for our weekly prayer meeting and bible study.
URL:https://oakgrove-mbc.org/event/bible-study-6pm-2/2025-08-20/
LOCATION:Oak Grove\, 9457 Baumhart Road\, Amherst\, OH\, 44001\, United States
END:VEVENT
BEGIN:VEVENT
DTSTART;TZID=America/New_York:20250817T093000
DTEND;TZID=America/New_York:20250817T120000
DTSTAMP:20260425T093317
CREATED:20240323T041906Z
LAST-MODIFIED:20240323T043154Z
UID:10001941-1755423000-1755432000@oakgrove-mbc.org
SUMMARY:Breakfast / Sunday School / Church Service
DESCRIPTION:Join us for a morning of fellowship\, bible study\, and church.  We meet in the Fellowship Hall at 9:30am for breakfast and fellowship.  Sunday School starts at 10am (we have classes pre-school thru adults).  The morning church service begins at 11am. \nWe hope you can join us on Sunday!  To learn more about: \n\nWhere do you go when you arrive?\nWhere do my kids go?\nWhat should I wear?\nHow can I connect?\nAm I expected to give money?\nWhat does OGMBC believe?\n\nClick here.
URL:https://oakgrove-mbc.org/event/breakfast-sunday-school-church-service/2025-08-17/
LOCATION:OH
END:VEVENT
BEGIN:VEVENT
DTSTART;TZID=America/New_York:20250813T060000
DTEND;TZID=America/New_York:20250813T190000
DTSTAMP:20260425T093317
CREATED:20240116T180021Z
LAST-MODIFIED:20240824T155410Z
UID:10001287-1755064800-1755111600@oakgrove-mbc.org
SUMMARY:Bible Study (6pm)
DESCRIPTION:Join us for our weekly prayer meeting and bible study.
URL:https://oakgrove-mbc.org/event/bible-study-6pm-2/2025-08-13/
LOCATION:Oak Grove\, 9457 Baumhart Road\, Amherst\, OH\, 44001\, United States
END:VEVENT
BEGIN:VEVENT
DTSTART;TZID=America/New_York:20250810T093000
DTEND;TZID=America/New_York:20250810T120000
DTSTAMP:20260425T093317
CREATED:20240323T041906Z
LAST-MODIFIED:20240323T043154Z
UID:10001940-1754818200-1754827200@oakgrove-mbc.org
SUMMARY:Breakfast / Sunday School / Church Service
DESCRIPTION:Join us for a morning of fellowship\, bible study\, and church.  We meet in the Fellowship Hall at 9:30am for breakfast and fellowship.  Sunday School starts at 10am (we have classes pre-school thru adults).  The morning church service begins at 11am. \nWe hope you can join us on Sunday!  To learn more about: \n\nWhere do you go when you arrive?\nWhere do my kids go?\nWhat should I wear?\nHow can I connect?\nAm I expected to give money?\nWhat does OGMBC believe?\n\nClick here.
URL:https://oakgrove-mbc.org/event/breakfast-sunday-school-church-service/2025-08-10/
LOCATION:OH
END:VEVENT
BEGIN:VEVENT
DTSTART;TZID=America/New_York:20250809T083000
DTEND;TZID=America/New_York:20250809T100000
DTSTAMP:20260425T093317
CREATED:20241013T223838Z
LAST-MODIFIED:20241013T224632Z
UID:10002369-1754728200-1754733600@oakgrove-mbc.org
SUMMARY:Men's Breakfast (8:30am)
DESCRIPTION:Join us on the 2nd Saturday monthly for our men’s breakfast.  Typically involves either a short bible study and/or work party to address some church facility needs.
URL:https://oakgrove-mbc.org/event/mens-breakfast-830am-2/2025-08-09/
LOCATION:Oak Grove\, 9457 Baumhart Road\, Amherst\, OH\, 44001\, United States
END:VEVENT
BEGIN:VEVENT
DTSTART;TZID=America/New_York:20250806T060000
DTEND;TZID=America/New_York:20250806T190000
DTSTAMP:20260425T093317
CREATED:20240116T180021Z
LAST-MODIFIED:20240824T155410Z
UID:10001286-1754460000-1754506800@oakgrove-mbc.org
SUMMARY:Bible Study (6pm)
DESCRIPTION:Join us for our weekly prayer meeting and bible study.
URL:https://oakgrove-mbc.org/event/bible-study-6pm-2/2025-08-06/
LOCATION:Oak Grove\, 9457 Baumhart Road\, Amherst\, OH\, 44001\, United States
END:VEVENT
BEGIN:VEVENT
DTSTART;TZID=America/New_York:20250803T120000
DTEND;TZID=America/New_York:20250803T133000
DTSTAMP:20260425T093317
CREATED:20240323T125417Z
LAST-MODIFIED:20240323T125417Z
UID:10002259-1754222400-1754227800@oakgrove-mbc.org
SUMMARY:Fellowship Luncheon
DESCRIPTION:Immediately following the morning service\, OGMBC holds a luncheon in the fellowship hall.
URL:https://oakgrove-mbc.org/event/fellowship-luncheon/2025-08-03/
LOCATION:Oak Grove\, 9457 Baumhart Road\, Amherst\, OH\, 44001\, United States
END:VEVENT
BEGIN:VEVENT
DTSTART;TZID=America/New_York:20250803T093000
DTEND;TZID=America/New_York:20250803T120000
DTSTAMP:20260425T093317
CREATED:20240323T041906Z
LAST-MODIFIED:20240323T043154Z
UID:10001939-1754213400-1754222400@oakgrove-mbc.org
SUMMARY:Breakfast / Sunday School / Church Service
DESCRIPTION:Join us for a morning of fellowship\, bible study\, and church.  We meet in the Fellowship Hall at 9:30am for breakfast and fellowship.  Sunday School starts at 10am (we have classes pre-school thru adults).  The morning church service begins at 11am. \nWe hope you can join us on Sunday!  To learn more about: \n\nWhere do you go when you arrive?\nWhere do my kids go?\nWhat should I wear?\nHow can I connect?\nAm I expected to give money?\nWhat does OGMBC believe?\n\nClick here.
URL:https://oakgrove-mbc.org/event/breakfast-sunday-school-church-service/2025-08-03/
LOCATION:OH
END:VEVENT
BEGIN:VEVENT
DTSTART;VALUE=DATE:20250803
DTEND;VALUE=DATE:20250804
DTSTAMP:20260425T093317
CREATED:20240323T043021Z
LAST-MODIFIED:20240323T125301Z
UID:10002149-1754179200-1754265599@oakgrove-mbc.org
SUMMARY:Missions Fund Offering
DESCRIPTION:OGMBC is proud to support many missionaries!  A special offering is taken during the morning service on the first Sunday of each month. \nA luncheon is also held at 12:15pm in the Fellowship Hall. \nTo see a complete listing of missionaries – see: https://oakgrove-mbc.org/missions/
URL:https://oakgrove-mbc.org/event/missions-fund-offering/2025-08-03/
LOCATION:Oak Grove\, 9457 Baumhart Road\, Amherst\, OH\, 44001\, United States
END:VEVENT
BEGIN:VEVENT
DTSTART;TZID=America/New_York:20250730T060000
DTEND;TZID=America/New_York:20250730T190000
DTSTAMP:20260425T093317
CREATED:20240116T180021Z
LAST-MODIFIED:20240824T155410Z
UID:10001285-1753855200-1753902000@oakgrove-mbc.org
SUMMARY:Bible Study (6pm)
DESCRIPTION:Join us for our weekly prayer meeting and bible study.
URL:https://oakgrove-mbc.org/event/bible-study-6pm-2/2025-07-30/
LOCATION:Oak Grove\, 9457 Baumhart Road\, Amherst\, OH\, 44001\, United States
END:VEVENT
BEGIN:VEVENT
DTSTART;TZID=America/New_York:20250727T093000
DTEND;TZID=America/New_York:20250727T120000
DTSTAMP:20260425T093317
CREATED:20240323T041906Z
LAST-MODIFIED:20240323T043154Z
UID:10001938-1753608600-1753617600@oakgrove-mbc.org
SUMMARY:Breakfast / Sunday School / Church Service
DESCRIPTION:Join us for a morning of fellowship\, bible study\, and church.  We meet in the Fellowship Hall at 9:30am for breakfast and fellowship.  Sunday School starts at 10am (we have classes pre-school thru adults).  The morning church service begins at 11am. \nWe hope you can join us on Sunday!  To learn more about: \n\nWhere do you go when you arrive?\nWhere do my kids go?\nWhat should I wear?\nHow can I connect?\nAm I expected to give money?\nWhat does OGMBC believe?\n\nClick here.
URL:https://oakgrove-mbc.org/event/breakfast-sunday-school-church-service/2025-07-27/
LOCATION:OH
END:VEVENT
BEGIN:VEVENT
DTSTART;TZID=America/New_York:20250723T060000
DTEND;TZID=America/New_York:20250723T190000
DTSTAMP:20260425T093317
CREATED:20240116T180021Z
LAST-MODIFIED:20240824T155410Z
UID:10001284-1753250400-1753297200@oakgrove-mbc.org
SUMMARY:Bible Study (6pm)
DESCRIPTION:Join us for our weekly prayer meeting and bible study.
URL:https://oakgrove-mbc.org/event/bible-study-6pm-2/2025-07-23/
LOCATION:Oak Grove\, 9457 Baumhart Road\, Amherst\, OH\, 44001\, United States
END:VEVENT
BEGIN:VEVENT
DTSTART;TZID=America/New_York:20250720T093000
DTEND;TZID=America/New_York:20250720T120000
DTSTAMP:20260425T093317
CREATED:20240323T041906Z
LAST-MODIFIED:20240323T043154Z
UID:10001937-1753003800-1753012800@oakgrove-mbc.org
SUMMARY:Breakfast / Sunday School / Church Service
DESCRIPTION:Join us for a morning of fellowship\, bible study\, and church.  We meet in the Fellowship Hall at 9:30am for breakfast and fellowship.  Sunday School starts at 10am (we have classes pre-school thru adults).  The morning church service begins at 11am. \nWe hope you can join us on Sunday!  To learn more about: \n\nWhere do you go when you arrive?\nWhere do my kids go?\nWhat should I wear?\nHow can I connect?\nAm I expected to give money?\nWhat does OGMBC believe?\n\nClick here.
URL:https://oakgrove-mbc.org/event/breakfast-sunday-school-church-service/2025-07-20/
LOCATION:OH
END:VEVENT
BEGIN:VEVENT
DTSTART;TZID=America/New_York:20250716T060000
DTEND;TZID=America/New_York:20250716T190000
DTSTAMP:20260425T093317
CREATED:20240116T180021Z
LAST-MODIFIED:20240824T155410Z
UID:10001283-1752645600-1752692400@oakgrove-mbc.org
SUMMARY:Bible Study (6pm)
DESCRIPTION:Join us for our weekly prayer meeting and bible study.
URL:https://oakgrove-mbc.org/event/bible-study-6pm-2/2025-07-16/
LOCATION:Oak Grove\, 9457 Baumhart Road\, Amherst\, OH\, 44001\, United States
END:VEVENT
BEGIN:VEVENT
DTSTART;TZID=America/New_York:20250713T093000
DTEND;TZID=America/New_York:20250713T120000
DTSTAMP:20260425T093317
CREATED:20240323T041906Z
LAST-MODIFIED:20240323T043154Z
UID:10001936-1752399000-1752408000@oakgrove-mbc.org
SUMMARY:Breakfast / Sunday School / Church Service
DESCRIPTION:Join us for a morning of fellowship\, bible study\, and church.  We meet in the Fellowship Hall at 9:30am for breakfast and fellowship.  Sunday School starts at 10am (we have classes pre-school thru adults).  The morning church service begins at 11am. \nWe hope you can join us on Sunday!  To learn more about: \n\nWhere do you go when you arrive?\nWhere do my kids go?\nWhat should I wear?\nHow can I connect?\nAm I expected to give money?\nWhat does OGMBC believe?\n\nClick here.
URL:https://oakgrove-mbc.org/event/breakfast-sunday-school-church-service/2025-07-13/
LOCATION:OH
END:VEVENT
BEGIN:VEVENT
DTSTART;TZID=America/New_York:20250712T083000
DTEND;TZID=America/New_York:20250712T100000
DTSTAMP:20260425T093317
CREATED:20241013T223838Z
LAST-MODIFIED:20241013T224632Z
UID:10002368-1752309000-1752314400@oakgrove-mbc.org
SUMMARY:Men's Breakfast (8:30am)
DESCRIPTION:Join us on the 2nd Saturday monthly for our men’s breakfast.  Typically involves either a short bible study and/or work party to address some church facility needs.
URL:https://oakgrove-mbc.org/event/mens-breakfast-830am-2/2025-07-12/
LOCATION:Oak Grove\, 9457 Baumhart Road\, Amherst\, OH\, 44001\, United States
END:VEVENT
END:VCALENDAR