BEGIN:VCALENDAR
VERSION:2.0
PRODID:-//OGMBC - ECPv6.15.20//NONSGML v1.0//EN
CALSCALE:GREGORIAN
METHOD:PUBLISH
X-WR-CALNAME:OGMBC
X-ORIGINAL-URL:https://oakgrove-mbc.org
X-WR-CALDESC:Events for OGMBC
REFRESH-INTERVAL;VALUE=DURATION:PT1H
X-Robots-Tag:noindex
X-PUBLISHED-TTL:PT1H
BEGIN:VTIMEZONE
TZID:America/New_York
BEGIN:DAYLIGHT
TZOFFSETFROM:-0500
TZOFFSETTO:-0400
TZNAME:EDT
DTSTART:20260308T070000
END:DAYLIGHT
BEGIN:STANDARD
TZOFFSETFROM:-0400
TZOFFSETTO:-0500
TZNAME:EST
DTSTART:20261101T060000
END:STANDARD
BEGIN:DAYLIGHT
TZOFFSETFROM:-0500
TZOFFSETTO:-0400
TZNAME:EDT
DTSTART:20270314T070000
END:DAYLIGHT
BEGIN:STANDARD
TZOFFSETFROM:-0400
TZOFFSETTO:-0500
TZNAME:EST
DTSTART:20271107T060000
END:STANDARD
BEGIN:DAYLIGHT
TZOFFSETFROM:-0500
TZOFFSETTO:-0400
TZNAME:EDT
DTSTART:20280312T070000
END:DAYLIGHT
BEGIN:STANDARD
TZOFFSETFROM:-0400
TZOFFSETTO:-0500
TZNAME:EST
DTSTART:20281105T060000
END:STANDARD
BEGIN:DAYLIGHT
TZOFFSETFROM:-0500
TZOFFSETTO:-0400
TZNAME:EDT
DTSTART:20290311T070000
END:DAYLIGHT
BEGIN:STANDARD
TZOFFSETFROM:-0400
TZOFFSETTO:-0500
TZNAME:EST
DTSTART:20291104T060000
END:STANDARD
END:VTIMEZONE
BEGIN:VEVENT
DTSTART;TZID=America/New_York:20271121T093000
DTEND;TZID=America/New_York:20271121T120000
DTSTAMP:20260424T150836
CREATED:20240323T041906Z
LAST-MODIFIED:20240323T043154Z
UID:10002059-1826789400-1826798400@oakgrove-mbc.org
SUMMARY:Breakfast / Sunday School / Church Service
DESCRIPTION:Join us for a morning of fellowship\, bible study\, and church.  We meet in the Fellowship Hall at 9:30am for breakfast and fellowship.  Sunday School starts at 10am (we have classes pre-school thru adults).  The morning church service begins at 11am. \nWe hope you can join us on Sunday!  To learn more about: \n\nWhere do you go when you arrive?\nWhere do my kids go?\nWhat should I wear?\nHow can I connect?\nAm I expected to give money?\nWhat does OGMBC believe?\n\nClick here.
URL:https://oakgrove-mbc.org/event/breakfast-sunday-school-church-service/2027-11-21/
LOCATION:OH
END:VEVENT
BEGIN:VEVENT
DTSTART;TZID=America/New_York:20271124T060000
DTEND;TZID=America/New_York:20271124T190000
DTSTAMP:20260424T150836
CREATED:20240116T180021Z
LAST-MODIFIED:20240824T155410Z
UID:10001406-1827036000-1827082800@oakgrove-mbc.org
SUMMARY:Bible Study (6pm)
DESCRIPTION:Join us for our weekly prayer meeting and bible study.
URL:https://oakgrove-mbc.org/event/bible-study-6pm-2/2027-11-24/
LOCATION:Oak Grove\, 9457 Baumhart Road\, Amherst\, OH\, 44001\, United States
END:VEVENT
BEGIN:VEVENT
DTSTART;TZID=America/New_York:20271128T093000
DTEND;TZID=America/New_York:20271128T120000
DTSTAMP:20260424T150836
CREATED:20240323T041906Z
LAST-MODIFIED:20240323T043154Z
UID:10002060-1827394200-1827403200@oakgrove-mbc.org
SUMMARY:Breakfast / Sunday School / Church Service
DESCRIPTION:Join us for a morning of fellowship\, bible study\, and church.  We meet in the Fellowship Hall at 9:30am for breakfast and fellowship.  Sunday School starts at 10am (we have classes pre-school thru adults).  The morning church service begins at 11am. \nWe hope you can join us on Sunday!  To learn more about: \n\nWhere do you go when you arrive?\nWhere do my kids go?\nWhat should I wear?\nHow can I connect?\nAm I expected to give money?\nWhat does OGMBC believe?\n\nClick here.
URL:https://oakgrove-mbc.org/event/breakfast-sunday-school-church-service/2027-11-28/
LOCATION:OH
END:VEVENT
BEGIN:VEVENT
DTSTART;TZID=America/New_York:20271201T060000
DTEND;TZID=America/New_York:20271201T190000
DTSTAMP:20260424T150836
CREATED:20240116T180021Z
LAST-MODIFIED:20240824T155410Z
UID:10001407-1827640800-1827687600@oakgrove-mbc.org
SUMMARY:Bible Study (6pm)
DESCRIPTION:Join us for our weekly prayer meeting and bible study.
URL:https://oakgrove-mbc.org/event/bible-study-6pm-2/2027-12-01/
LOCATION:Oak Grove\, 9457 Baumhart Road\, Amherst\, OH\, 44001\, United States
END:VEVENT
BEGIN:VEVENT
DTSTART;VALUE=DATE:20271205
DTEND;VALUE=DATE:20271206
DTSTAMP:20260424T150836
CREATED:20240323T043021Z
LAST-MODIFIED:20240323T125301Z
UID:10002177-1827964800-1828051199@oakgrove-mbc.org
SUMMARY:Missions Fund Offering
DESCRIPTION:OGMBC is proud to support many missionaries!  A special offering is taken during the morning service on the first Sunday of each month. \nA luncheon is also held at 12:15pm in the Fellowship Hall. \nTo see a complete listing of missionaries – see: https://oakgrove-mbc.org/missions/
URL:https://oakgrove-mbc.org/event/missions-fund-offering/2027-12-05/
LOCATION:Oak Grove\, 9457 Baumhart Road\, Amherst\, OH\, 44001\, United States
END:VEVENT
BEGIN:VEVENT
DTSTART;TZID=America/New_York:20271205T093000
DTEND;TZID=America/New_York:20271205T120000
DTSTAMP:20260424T150836
CREATED:20240323T041906Z
LAST-MODIFIED:20240323T043154Z
UID:10002061-1827999000-1828008000@oakgrove-mbc.org
SUMMARY:Breakfast / Sunday School / Church Service
DESCRIPTION:Join us for a morning of fellowship\, bible study\, and church.  We meet in the Fellowship Hall at 9:30am for breakfast and fellowship.  Sunday School starts at 10am (we have classes pre-school thru adults).  The morning church service begins at 11am. \nWe hope you can join us on Sunday!  To learn more about: \n\nWhere do you go when you arrive?\nWhere do my kids go?\nWhat should I wear?\nHow can I connect?\nAm I expected to give money?\nWhat does OGMBC believe?\n\nClick here.
URL:https://oakgrove-mbc.org/event/breakfast-sunday-school-church-service/2027-12-05/
LOCATION:OH
END:VEVENT
BEGIN:VEVENT
DTSTART;TZID=America/New_York:20271205T120000
DTEND;TZID=America/New_York:20271205T133000
DTSTAMP:20260424T150836
CREATED:20240323T125417Z
LAST-MODIFIED:20240323T125417Z
UID:10002287-1828008000-1828013400@oakgrove-mbc.org
SUMMARY:Fellowship Luncheon
DESCRIPTION:Immediately following the morning service\, OGMBC holds a luncheon in the fellowship hall.
URL:https://oakgrove-mbc.org/event/fellowship-luncheon/2027-12-05/
LOCATION:Oak Grove\, 9457 Baumhart Road\, Amherst\, OH\, 44001\, United States
END:VEVENT
BEGIN:VEVENT
DTSTART;TZID=America/New_York:20271208T060000
DTEND;TZID=America/New_York:20271208T190000
DTSTAMP:20260424T150836
CREATED:20240116T180021Z
LAST-MODIFIED:20240824T155410Z
UID:10001408-1828245600-1828292400@oakgrove-mbc.org
SUMMARY:Bible Study (6pm)
DESCRIPTION:Join us for our weekly prayer meeting and bible study.
URL:https://oakgrove-mbc.org/event/bible-study-6pm-2/2027-12-08/
LOCATION:Oak Grove\, 9457 Baumhart Road\, Amherst\, OH\, 44001\, United States
END:VEVENT
BEGIN:VEVENT
DTSTART;TZID=America/New_York:20271212T093000
DTEND;TZID=America/New_York:20271212T120000
DTSTAMP:20260424T150836
CREATED:20240323T041906Z
LAST-MODIFIED:20240323T043154Z
UID:10002062-1828603800-1828612800@oakgrove-mbc.org
SUMMARY:Breakfast / Sunday School / Church Service
DESCRIPTION:Join us for a morning of fellowship\, bible study\, and church.  We meet in the Fellowship Hall at 9:30am for breakfast and fellowship.  Sunday School starts at 10am (we have classes pre-school thru adults).  The morning church service begins at 11am. \nWe hope you can join us on Sunday!  To learn more about: \n\nWhere do you go when you arrive?\nWhere do my kids go?\nWhat should I wear?\nHow can I connect?\nAm I expected to give money?\nWhat does OGMBC believe?\n\nClick here.
URL:https://oakgrove-mbc.org/event/breakfast-sunday-school-church-service/2027-12-12/
LOCATION:OH
END:VEVENT
BEGIN:VEVENT
DTSTART;TZID=America/New_York:20271215T060000
DTEND;TZID=America/New_York:20271215T190000
DTSTAMP:20260424T150836
CREATED:20240116T180021Z
LAST-MODIFIED:20240824T155410Z
UID:10001409-1828850400-1828897200@oakgrove-mbc.org
SUMMARY:Bible Study (6pm)
DESCRIPTION:Join us for our weekly prayer meeting and bible study.
URL:https://oakgrove-mbc.org/event/bible-study-6pm-2/2027-12-15/
LOCATION:Oak Grove\, 9457 Baumhart Road\, Amherst\, OH\, 44001\, United States
END:VEVENT
BEGIN:VEVENT
DTSTART;TZID=America/New_York:20271219T093000
DTEND;TZID=America/New_York:20271219T120000
DTSTAMP:20260424T150836
CREATED:20240323T041906Z
LAST-MODIFIED:20240323T043154Z
UID:10002063-1829208600-1829217600@oakgrove-mbc.org
SUMMARY:Breakfast / Sunday School / Church Service
DESCRIPTION:Join us for a morning of fellowship\, bible study\, and church.  We meet in the Fellowship Hall at 9:30am for breakfast and fellowship.  Sunday School starts at 10am (we have classes pre-school thru adults).  The morning church service begins at 11am. \nWe hope you can join us on Sunday!  To learn more about: \n\nWhere do you go when you arrive?\nWhere do my kids go?\nWhat should I wear?\nHow can I connect?\nAm I expected to give money?\nWhat does OGMBC believe?\n\nClick here.
URL:https://oakgrove-mbc.org/event/breakfast-sunday-school-church-service/2027-12-19/
LOCATION:OH
END:VEVENT
BEGIN:VEVENT
DTSTART;TZID=America/New_York:20271222T060000
DTEND;TZID=America/New_York:20271222T190000
DTSTAMP:20260424T150836
CREATED:20240116T180021Z
LAST-MODIFIED:20240824T155410Z
UID:10001410-1829455200-1829502000@oakgrove-mbc.org
SUMMARY:Bible Study (6pm)
DESCRIPTION:Join us for our weekly prayer meeting and bible study.
URL:https://oakgrove-mbc.org/event/bible-study-6pm-2/2027-12-22/
LOCATION:Oak Grove\, 9457 Baumhart Road\, Amherst\, OH\, 44001\, United States
END:VEVENT
BEGIN:VEVENT
DTSTART;VALUE=DATE:20271225
DTEND;VALUE=DATE:20271226
DTSTAMP:20260424T150836
CREATED:20240323T053435Z
LAST-MODIFIED:20240323T125016Z
UID:10002238-1829692800-1829779199@oakgrove-mbc.org
SUMMARY:Christmas
DESCRIPTION:We rejoice as we celebrate the birth of Jesus Christ! \nMatthew 1:18-25 – King James Version \n\n\n18 Now the birth of Jesus Christ was on this wise: When as his mother Mary was espoused to Joseph\, before they came together\, she was found with child of the Holy Ghost.\n\n\n\n\n\n19 Then Joseph her husband\, being a just man\, and not willing to make her a public example\, was minded to put her away privily. \n20 But while he thought on these things\, behold\, the angel of the Lord appeared unto him in a dream\, saying\, Joseph\, thou son of David\, fear not to take unto thee Mary thy wife: for that which is conceived in her is of the Holy Ghost. \n21 And she shall bring forth a son\, and thou shalt call his name Jesus: for he shall save his people from their sins. \n22 Now all this was done\, that it might be fulfilled which was spoken of the Lord by the prophet\, saying\, \n23 Behold\, a virgin shall be with child\, and shall bring forth a son\, and they shall call his name Emmanuel\, which being interpreted is\, God with us. \n24 Then Joseph being raised from sleep did as the angel of the Lord had bidden him\, and took unto him his wife: \n25 And knew her not till she had brought forth her firstborn son: and he called his name Jesus.
URL:https://oakgrove-mbc.org/event/christmas/2027-12-25/
LOCATION:Oak Grove\, 9457 Baumhart Road\, Amherst\, OH\, 44001\, United States
END:VEVENT
BEGIN:VEVENT
DTSTART;TZID=America/New_York:20271226T093000
DTEND;TZID=America/New_York:20271226T120000
DTSTAMP:20260424T150836
CREATED:20240323T041906Z
LAST-MODIFIED:20240323T043154Z
UID:10002064-1829813400-1829822400@oakgrove-mbc.org
SUMMARY:Breakfast / Sunday School / Church Service
DESCRIPTION:Join us for a morning of fellowship\, bible study\, and church.  We meet in the Fellowship Hall at 9:30am for breakfast and fellowship.  Sunday School starts at 10am (we have classes pre-school thru adults).  The morning church service begins at 11am. \nWe hope you can join us on Sunday!  To learn more about: \n\nWhere do you go when you arrive?\nWhere do my kids go?\nWhat should I wear?\nHow can I connect?\nAm I expected to give money?\nWhat does OGMBC believe?\n\nClick here.
URL:https://oakgrove-mbc.org/event/breakfast-sunday-school-church-service/2027-12-26/
LOCATION:OH
END:VEVENT
BEGIN:VEVENT
DTSTART;TZID=America/New_York:20271229T060000
DTEND;TZID=America/New_York:20271229T190000
DTSTAMP:20260424T150836
CREATED:20240116T180021Z
LAST-MODIFIED:20240824T155410Z
UID:10001411-1830060000-1830106800@oakgrove-mbc.org
SUMMARY:Bible Study (6pm)
DESCRIPTION:Join us for our weekly prayer meeting and bible study.
URL:https://oakgrove-mbc.org/event/bible-study-6pm-2/2027-12-29/
LOCATION:Oak Grove\, 9457 Baumhart Road\, Amherst\, OH\, 44001\, United States
END:VEVENT
BEGIN:VEVENT
DTSTART;VALUE=DATE:20280102
DTEND;VALUE=DATE:20280103
DTSTAMP:20260424T150836
CREATED:20240323T043021Z
LAST-MODIFIED:20240323T125301Z
UID:10002178-1830384000-1830470399@oakgrove-mbc.org
SUMMARY:Missions Fund Offering
DESCRIPTION:OGMBC is proud to support many missionaries!  A special offering is taken during the morning service on the first Sunday of each month. \nA luncheon is also held at 12:15pm in the Fellowship Hall. \nTo see a complete listing of missionaries – see: https://oakgrove-mbc.org/missions/
URL:https://oakgrove-mbc.org/event/missions-fund-offering/2028-01-02/
LOCATION:Oak Grove\, 9457 Baumhart Road\, Amherst\, OH\, 44001\, United States
END:VEVENT
BEGIN:VEVENT
DTSTART;TZID=America/New_York:20280102T093000
DTEND;TZID=America/New_York:20280102T120000
DTSTAMP:20260424T150836
CREATED:20240323T041906Z
LAST-MODIFIED:20240323T043154Z
UID:10002065-1830418200-1830427200@oakgrove-mbc.org
SUMMARY:Breakfast / Sunday School / Church Service
DESCRIPTION:Join us for a morning of fellowship\, bible study\, and church.  We meet in the Fellowship Hall at 9:30am for breakfast and fellowship.  Sunday School starts at 10am (we have classes pre-school thru adults).  The morning church service begins at 11am. \nWe hope you can join us on Sunday!  To learn more about: \n\nWhere do you go when you arrive?\nWhere do my kids go?\nWhat should I wear?\nHow can I connect?\nAm I expected to give money?\nWhat does OGMBC believe?\n\nClick here.
URL:https://oakgrove-mbc.org/event/breakfast-sunday-school-church-service/2028-01-02/
LOCATION:OH
END:VEVENT
BEGIN:VEVENT
DTSTART;TZID=America/New_York:20280102T120000
DTEND;TZID=America/New_York:20280102T133000
DTSTAMP:20260424T150836
CREATED:20240323T125417Z
LAST-MODIFIED:20240323T125417Z
UID:10002288-1830427200-1830432600@oakgrove-mbc.org
SUMMARY:Fellowship Luncheon
DESCRIPTION:Immediately following the morning service\, OGMBC holds a luncheon in the fellowship hall.
URL:https://oakgrove-mbc.org/event/fellowship-luncheon/2028-01-02/
LOCATION:Oak Grove\, 9457 Baumhart Road\, Amherst\, OH\, 44001\, United States
END:VEVENT
BEGIN:VEVENT
DTSTART;TZID=America/New_York:20280105T060000
DTEND;TZID=America/New_York:20280105T190000
DTSTAMP:20260424T150836
CREATED:20240116T180021Z
LAST-MODIFIED:20240824T155410Z
UID:10001412-1830664800-1830711600@oakgrove-mbc.org
SUMMARY:Bible Study (6pm)
DESCRIPTION:Join us for our weekly prayer meeting and bible study.
URL:https://oakgrove-mbc.org/event/bible-study-6pm-2/2028-01-05/
LOCATION:Oak Grove\, 9457 Baumhart Road\, Amherst\, OH\, 44001\, United States
END:VEVENT
BEGIN:VEVENT
DTSTART;TZID=America/New_York:20280109T093000
DTEND;TZID=America/New_York:20280109T120000
DTSTAMP:20260424T150836
CREATED:20240323T041906Z
LAST-MODIFIED:20240323T043154Z
UID:10002066-1831023000-1831032000@oakgrove-mbc.org
SUMMARY:Breakfast / Sunday School / Church Service
DESCRIPTION:Join us for a morning of fellowship\, bible study\, and church.  We meet in the Fellowship Hall at 9:30am for breakfast and fellowship.  Sunday School starts at 10am (we have classes pre-school thru adults).  The morning church service begins at 11am. \nWe hope you can join us on Sunday!  To learn more about: \n\nWhere do you go when you arrive?\nWhere do my kids go?\nWhat should I wear?\nHow can I connect?\nAm I expected to give money?\nWhat does OGMBC believe?\n\nClick here.
URL:https://oakgrove-mbc.org/event/breakfast-sunday-school-church-service/2028-01-09/
LOCATION:OH
END:VEVENT
BEGIN:VEVENT
DTSTART;TZID=America/New_York:20280112T060000
DTEND;TZID=America/New_York:20280112T190000
DTSTAMP:20260424T150836
CREATED:20240116T180021Z
LAST-MODIFIED:20240824T155410Z
UID:10001413-1831269600-1831316400@oakgrove-mbc.org
SUMMARY:Bible Study (6pm)
DESCRIPTION:Join us for our weekly prayer meeting and bible study.
URL:https://oakgrove-mbc.org/event/bible-study-6pm-2/2028-01-12/
LOCATION:Oak Grove\, 9457 Baumhart Road\, Amherst\, OH\, 44001\, United States
END:VEVENT
BEGIN:VEVENT
DTSTART;TZID=America/New_York:20280116T093000
DTEND;TZID=America/New_York:20280116T120000
DTSTAMP:20260424T150836
CREATED:20240323T041906Z
LAST-MODIFIED:20240323T043154Z
UID:10002067-1831627800-1831636800@oakgrove-mbc.org
SUMMARY:Breakfast / Sunday School / Church Service
DESCRIPTION:Join us for a morning of fellowship\, bible study\, and church.  We meet in the Fellowship Hall at 9:30am for breakfast and fellowship.  Sunday School starts at 10am (we have classes pre-school thru adults).  The morning church service begins at 11am. \nWe hope you can join us on Sunday!  To learn more about: \n\nWhere do you go when you arrive?\nWhere do my kids go?\nWhat should I wear?\nHow can I connect?\nAm I expected to give money?\nWhat does OGMBC believe?\n\nClick here.
URL:https://oakgrove-mbc.org/event/breakfast-sunday-school-church-service/2028-01-16/
LOCATION:OH
END:VEVENT
BEGIN:VEVENT
DTSTART;TZID=America/New_York:20280119T060000
DTEND;TZID=America/New_York:20280119T190000
DTSTAMP:20260424T150836
CREATED:20240116T180021Z
LAST-MODIFIED:20240824T155410Z
UID:10001414-1831874400-1831921200@oakgrove-mbc.org
SUMMARY:Bible Study (6pm)
DESCRIPTION:Join us for our weekly prayer meeting and bible study.
URL:https://oakgrove-mbc.org/event/bible-study-6pm-2/2028-01-19/
LOCATION:Oak Grove\, 9457 Baumhart Road\, Amherst\, OH\, 44001\, United States
END:VEVENT
BEGIN:VEVENT
DTSTART;TZID=America/New_York:20280123T093000
DTEND;TZID=America/New_York:20280123T120000
DTSTAMP:20260424T150836
CREATED:20240323T041906Z
LAST-MODIFIED:20240323T043154Z
UID:10002068-1832232600-1832241600@oakgrove-mbc.org
SUMMARY:Breakfast / Sunday School / Church Service
DESCRIPTION:Join us for a morning of fellowship\, bible study\, and church.  We meet in the Fellowship Hall at 9:30am for breakfast and fellowship.  Sunday School starts at 10am (we have classes pre-school thru adults).  The morning church service begins at 11am. \nWe hope you can join us on Sunday!  To learn more about: \n\nWhere do you go when you arrive?\nWhere do my kids go?\nWhat should I wear?\nHow can I connect?\nAm I expected to give money?\nWhat does OGMBC believe?\n\nClick here.
URL:https://oakgrove-mbc.org/event/breakfast-sunday-school-church-service/2028-01-23/
LOCATION:OH
END:VEVENT
BEGIN:VEVENT
DTSTART;TZID=America/New_York:20280126T060000
DTEND;TZID=America/New_York:20280126T190000
DTSTAMP:20260424T150836
CREATED:20240116T180021Z
LAST-MODIFIED:20240824T155410Z
UID:10001415-1832479200-1832526000@oakgrove-mbc.org
SUMMARY:Bible Study (6pm)
DESCRIPTION:Join us for our weekly prayer meeting and bible study.
URL:https://oakgrove-mbc.org/event/bible-study-6pm-2/2028-01-26/
LOCATION:Oak Grove\, 9457 Baumhart Road\, Amherst\, OH\, 44001\, United States
END:VEVENT
BEGIN:VEVENT
DTSTART;TZID=America/New_York:20280130T093000
DTEND;TZID=America/New_York:20280130T120000
DTSTAMP:20260424T150836
CREATED:20240323T041906Z
LAST-MODIFIED:20240323T043154Z
UID:10002069-1832837400-1832846400@oakgrove-mbc.org
SUMMARY:Breakfast / Sunday School / Church Service
DESCRIPTION:Join us for a morning of fellowship\, bible study\, and church.  We meet in the Fellowship Hall at 9:30am for breakfast and fellowship.  Sunday School starts at 10am (we have classes pre-school thru adults).  The morning church service begins at 11am. \nWe hope you can join us on Sunday!  To learn more about: \n\nWhere do you go when you arrive?\nWhere do my kids go?\nWhat should I wear?\nHow can I connect?\nAm I expected to give money?\nWhat does OGMBC believe?\n\nClick here.
URL:https://oakgrove-mbc.org/event/breakfast-sunday-school-church-service/2028-01-30/
LOCATION:OH
END:VEVENT
BEGIN:VEVENT
DTSTART;TZID=America/New_York:20280202T060000
DTEND;TZID=America/New_York:20280202T190000
DTSTAMP:20260424T150836
CREATED:20240116T180021Z
LAST-MODIFIED:20240824T155410Z
UID:10001416-1833084000-1833130800@oakgrove-mbc.org
SUMMARY:Bible Study (6pm)
DESCRIPTION:Join us for our weekly prayer meeting and bible study.
URL:https://oakgrove-mbc.org/event/bible-study-6pm-2/2028-02-02/
LOCATION:Oak Grove\, 9457 Baumhart Road\, Amherst\, OH\, 44001\, United States
END:VEVENT
BEGIN:VEVENT
DTSTART;VALUE=DATE:20280206
DTEND;VALUE=DATE:20280207
DTSTAMP:20260424T150836
CREATED:20240323T043021Z
LAST-MODIFIED:20240323T125301Z
UID:10002179-1833408000-1833494399@oakgrove-mbc.org
SUMMARY:Missions Fund Offering
DESCRIPTION:OGMBC is proud to support many missionaries!  A special offering is taken during the morning service on the first Sunday of each month. \nA luncheon is also held at 12:15pm in the Fellowship Hall. \nTo see a complete listing of missionaries – see: https://oakgrove-mbc.org/missions/
URL:https://oakgrove-mbc.org/event/missions-fund-offering/2028-02-06/
LOCATION:Oak Grove\, 9457 Baumhart Road\, Amherst\, OH\, 44001\, United States
END:VEVENT
BEGIN:VEVENT
DTSTART;TZID=America/New_York:20280206T093000
DTEND;TZID=America/New_York:20280206T120000
DTSTAMP:20260424T150836
CREATED:20240323T041906Z
LAST-MODIFIED:20240323T043154Z
UID:10002070-1833442200-1833451200@oakgrove-mbc.org
SUMMARY:Breakfast / Sunday School / Church Service
DESCRIPTION:Join us for a morning of fellowship\, bible study\, and church.  We meet in the Fellowship Hall at 9:30am for breakfast and fellowship.  Sunday School starts at 10am (we have classes pre-school thru adults).  The morning church service begins at 11am. \nWe hope you can join us on Sunday!  To learn more about: \n\nWhere do you go when you arrive?\nWhere do my kids go?\nWhat should I wear?\nHow can I connect?\nAm I expected to give money?\nWhat does OGMBC believe?\n\nClick here.
URL:https://oakgrove-mbc.org/event/breakfast-sunday-school-church-service/2028-02-06/
LOCATION:OH
END:VEVENT
BEGIN:VEVENT
DTSTART;TZID=America/New_York:20280206T120000
DTEND;TZID=America/New_York:20280206T133000
DTSTAMP:20260424T150836
CREATED:20240323T125417Z
LAST-MODIFIED:20240323T125417Z
UID:10002289-1833451200-1833456600@oakgrove-mbc.org
SUMMARY:Fellowship Luncheon
DESCRIPTION:Immediately following the morning service\, OGMBC holds a luncheon in the fellowship hall.
URL:https://oakgrove-mbc.org/event/fellowship-luncheon/2028-02-06/
LOCATION:Oak Grove\, 9457 Baumhart Road\, Amherst\, OH\, 44001\, United States
END:VEVENT
END:VCALENDAR