BEGIN:VCALENDAR
VERSION:2.0
PRODID:-//OGMBC - ECPv6.15.20//NONSGML v1.0//EN
CALSCALE:GREGORIAN
METHOD:PUBLISH
X-ORIGINAL-URL:https://oakgrove-mbc.org
X-WR-CALDESC:Events for OGMBC
REFRESH-INTERVAL;VALUE=DURATION:PT1H
X-Robots-Tag:noindex
X-PUBLISHED-TTL:PT1H
BEGIN:VTIMEZONE
TZID:America/New_York
BEGIN:DAYLIGHT
TZOFFSETFROM:-0500
TZOFFSETTO:-0400
TZNAME:EDT
DTSTART:20260308T070000
END:DAYLIGHT
BEGIN:STANDARD
TZOFFSETFROM:-0400
TZOFFSETTO:-0500
TZNAME:EST
DTSTART:20261101T060000
END:STANDARD
BEGIN:DAYLIGHT
TZOFFSETFROM:-0500
TZOFFSETTO:-0400
TZNAME:EDT
DTSTART:20270314T070000
END:DAYLIGHT
BEGIN:STANDARD
TZOFFSETFROM:-0400
TZOFFSETTO:-0500
TZNAME:EST
DTSTART:20271107T060000
END:STANDARD
BEGIN:DAYLIGHT
TZOFFSETFROM:-0500
TZOFFSETTO:-0400
TZNAME:EDT
DTSTART:20280312T070000
END:DAYLIGHT
BEGIN:STANDARD
TZOFFSETFROM:-0400
TZOFFSETTO:-0500
TZNAME:EST
DTSTART:20281105T060000
END:STANDARD
END:VTIMEZONE
BEGIN:VEVENT
DTSTART;TZID=America/New_York:20270317T060000
DTEND;TZID=America/New_York:20270317T190000
DTSTAMP:20260424T034405
CREATED:20240116T180021Z
LAST-MODIFIED:20240824T155410Z
UID:10001370-1805263200-1805310000@oakgrove-mbc.org
SUMMARY:Bible Study (6pm)
DESCRIPTION:Join us for our weekly prayer meeting and bible study.
URL:https://oakgrove-mbc.org/event/bible-study-6pm-2/2027-03-17/
LOCATION:Oak Grove\, 9457 Baumhart Road\, Amherst\, OH\, 44001\, United States
END:VEVENT
BEGIN:VEVENT
DTSTART;TZID=America/New_York:20270321T093000
DTEND;TZID=America/New_York:20270321T120000
DTSTAMP:20260424T034405
CREATED:20240323T041906Z
LAST-MODIFIED:20240323T043154Z
UID:10002024-1805621400-1805630400@oakgrove-mbc.org
SUMMARY:Breakfast / Sunday School / Church Service
DESCRIPTION:Join us for a morning of fellowship\, bible study\, and church.  We meet in the Fellowship Hall at 9:30am for breakfast and fellowship.  Sunday School starts at 10am (we have classes pre-school thru adults).  The morning church service begins at 11am. \nWe hope you can join us on Sunday!  To learn more about: \n\nWhere do you go when you arrive?\nWhere do my kids go?\nWhat should I wear?\nHow can I connect?\nAm I expected to give money?\nWhat does OGMBC believe?\n\nClick here.
URL:https://oakgrove-mbc.org/event/breakfast-sunday-school-church-service/2027-03-21/
LOCATION:OH
END:VEVENT
BEGIN:VEVENT
DTSTART;TZID=America/New_York:20270324T060000
DTEND;TZID=America/New_York:20270324T190000
DTSTAMP:20260424T034405
CREATED:20240116T180021Z
LAST-MODIFIED:20240824T155410Z
UID:10001371-1805868000-1805914800@oakgrove-mbc.org
SUMMARY:Bible Study (6pm)
DESCRIPTION:Join us for our weekly prayer meeting and bible study.
URL:https://oakgrove-mbc.org/event/bible-study-6pm-2/2027-03-24/
LOCATION:Oak Grove\, 9457 Baumhart Road\, Amherst\, OH\, 44001\, United States
END:VEVENT
BEGIN:VEVENT
DTSTART;TZID=America/New_York:20270328T093000
DTEND;TZID=America/New_York:20270328T120000
DTSTAMP:20260424T034405
CREATED:20240323T041906Z
LAST-MODIFIED:20240323T043154Z
UID:10002025-1806226200-1806235200@oakgrove-mbc.org
SUMMARY:Breakfast / Sunday School / Church Service
DESCRIPTION:Join us for a morning of fellowship\, bible study\, and church.  We meet in the Fellowship Hall at 9:30am for breakfast and fellowship.  Sunday School starts at 10am (we have classes pre-school thru adults).  The morning church service begins at 11am. \nWe hope you can join us on Sunday!  To learn more about: \n\nWhere do you go when you arrive?\nWhere do my kids go?\nWhat should I wear?\nHow can I connect?\nAm I expected to give money?\nWhat does OGMBC believe?\n\nClick here.
URL:https://oakgrove-mbc.org/event/breakfast-sunday-school-church-service/2027-03-28/
LOCATION:OH
END:VEVENT
BEGIN:VEVENT
DTSTART;TZID=America/New_York:20270331T060000
DTEND;TZID=America/New_York:20270331T190000
DTSTAMP:20260424T034405
CREATED:20240116T180021Z
LAST-MODIFIED:20240824T155410Z
UID:10001372-1806472800-1806519600@oakgrove-mbc.org
SUMMARY:Bible Study (6pm)
DESCRIPTION:Join us for our weekly prayer meeting and bible study.
URL:https://oakgrove-mbc.org/event/bible-study-6pm-2/2027-03-31/
LOCATION:Oak Grove\, 9457 Baumhart Road\, Amherst\, OH\, 44001\, United States
END:VEVENT
BEGIN:VEVENT
DTSTART;VALUE=DATE:20270404
DTEND;VALUE=DATE:20270405
DTSTAMP:20260424T034405
CREATED:20240323T043021Z
LAST-MODIFIED:20240323T125301Z
UID:10002169-1806796800-1806883199@oakgrove-mbc.org
SUMMARY:Missions Fund Offering
DESCRIPTION:OGMBC is proud to support many missionaries!  A special offering is taken during the morning service on the first Sunday of each month. \nA luncheon is also held at 12:15pm in the Fellowship Hall. \nTo see a complete listing of missionaries – see: https://oakgrove-mbc.org/missions/
URL:https://oakgrove-mbc.org/event/missions-fund-offering/2027-04-04/
LOCATION:Oak Grove\, 9457 Baumhart Road\, Amherst\, OH\, 44001\, United States
END:VEVENT
BEGIN:VEVENT
DTSTART;TZID=America/New_York:20270404T093000
DTEND;TZID=America/New_York:20270404T120000
DTSTAMP:20260424T034405
CREATED:20240323T041906Z
LAST-MODIFIED:20240323T043154Z
UID:10002026-1806831000-1806840000@oakgrove-mbc.org
SUMMARY:Breakfast / Sunday School / Church Service
DESCRIPTION:Join us for a morning of fellowship\, bible study\, and church.  We meet in the Fellowship Hall at 9:30am for breakfast and fellowship.  Sunday School starts at 10am (we have classes pre-school thru adults).  The morning church service begins at 11am. \nWe hope you can join us on Sunday!  To learn more about: \n\nWhere do you go when you arrive?\nWhere do my kids go?\nWhat should I wear?\nHow can I connect?\nAm I expected to give money?\nWhat does OGMBC believe?\n\nClick here.
URL:https://oakgrove-mbc.org/event/breakfast-sunday-school-church-service/2027-04-04/
LOCATION:OH
END:VEVENT
BEGIN:VEVENT
DTSTART;TZID=America/New_York:20270404T120000
DTEND;TZID=America/New_York:20270404T133000
DTSTAMP:20260424T034405
CREATED:20240323T125417Z
LAST-MODIFIED:20240323T125417Z
UID:10002279-1806840000-1806845400@oakgrove-mbc.org
SUMMARY:Fellowship Luncheon
DESCRIPTION:Immediately following the morning service\, OGMBC holds a luncheon in the fellowship hall.
URL:https://oakgrove-mbc.org/event/fellowship-luncheon/2027-04-04/
LOCATION:Oak Grove\, 9457 Baumhart Road\, Amherst\, OH\, 44001\, United States
END:VEVENT
BEGIN:VEVENT
DTSTART;TZID=America/New_York:20270407T060000
DTEND;TZID=America/New_York:20270407T190000
DTSTAMP:20260424T034405
CREATED:20240116T180021Z
LAST-MODIFIED:20240824T155410Z
UID:10001373-1807077600-1807124400@oakgrove-mbc.org
SUMMARY:Bible Study (6pm)
DESCRIPTION:Join us for our weekly prayer meeting and bible study.
URL:https://oakgrove-mbc.org/event/bible-study-6pm-2/2027-04-07/
LOCATION:Oak Grove\, 9457 Baumhart Road\, Amherst\, OH\, 44001\, United States
END:VEVENT
BEGIN:VEVENT
DTSTART;TZID=America/New_York:20270411T093000
DTEND;TZID=America/New_York:20270411T120000
DTSTAMP:20260424T034405
CREATED:20240323T041906Z
LAST-MODIFIED:20240323T043154Z
UID:10002027-1807435800-1807444800@oakgrove-mbc.org
SUMMARY:Breakfast / Sunday School / Church Service
DESCRIPTION:Join us for a morning of fellowship\, bible study\, and church.  We meet in the Fellowship Hall at 9:30am for breakfast and fellowship.  Sunday School starts at 10am (we have classes pre-school thru adults).  The morning church service begins at 11am. \nWe hope you can join us on Sunday!  To learn more about: \n\nWhere do you go when you arrive?\nWhere do my kids go?\nWhat should I wear?\nHow can I connect?\nAm I expected to give money?\nWhat does OGMBC believe?\n\nClick here.
URL:https://oakgrove-mbc.org/event/breakfast-sunday-school-church-service/2027-04-11/
LOCATION:OH
END:VEVENT
BEGIN:VEVENT
DTSTART;TZID=America/New_York:20270414T060000
DTEND;TZID=America/New_York:20270414T190000
DTSTAMP:20260424T034405
CREATED:20240116T180021Z
LAST-MODIFIED:20240824T155410Z
UID:10001374-1807682400-1807729200@oakgrove-mbc.org
SUMMARY:Bible Study (6pm)
DESCRIPTION:Join us for our weekly prayer meeting and bible study.
URL:https://oakgrove-mbc.org/event/bible-study-6pm-2/2027-04-14/
LOCATION:Oak Grove\, 9457 Baumhart Road\, Amherst\, OH\, 44001\, United States
END:VEVENT
BEGIN:VEVENT
DTSTART;TZID=America/New_York:20270418T093000
DTEND;TZID=America/New_York:20270418T120000
DTSTAMP:20260424T034405
CREATED:20240323T041906Z
LAST-MODIFIED:20240323T043154Z
UID:10002028-1808040600-1808049600@oakgrove-mbc.org
SUMMARY:Breakfast / Sunday School / Church Service
DESCRIPTION:Join us for a morning of fellowship\, bible study\, and church.  We meet in the Fellowship Hall at 9:30am for breakfast and fellowship.  Sunday School starts at 10am (we have classes pre-school thru adults).  The morning church service begins at 11am. \nWe hope you can join us on Sunday!  To learn more about: \n\nWhere do you go when you arrive?\nWhere do my kids go?\nWhat should I wear?\nHow can I connect?\nAm I expected to give money?\nWhat does OGMBC believe?\n\nClick here.
URL:https://oakgrove-mbc.org/event/breakfast-sunday-school-church-service/2027-04-18/
LOCATION:OH
END:VEVENT
BEGIN:VEVENT
DTSTART;TZID=America/New_York:20270421T060000
DTEND;TZID=America/New_York:20270421T190000
DTSTAMP:20260424T034405
CREATED:20240116T180021Z
LAST-MODIFIED:20240824T155410Z
UID:10001375-1808287200-1808334000@oakgrove-mbc.org
SUMMARY:Bible Study (6pm)
DESCRIPTION:Join us for our weekly prayer meeting and bible study.
URL:https://oakgrove-mbc.org/event/bible-study-6pm-2/2027-04-21/
LOCATION:Oak Grove\, 9457 Baumhart Road\, Amherst\, OH\, 44001\, United States
END:VEVENT
BEGIN:VEVENT
DTSTART;TZID=America/New_York:20270425T093000
DTEND;TZID=America/New_York:20270425T120000
DTSTAMP:20260424T034405
CREATED:20240323T041906Z
LAST-MODIFIED:20240323T043154Z
UID:10002029-1808645400-1808654400@oakgrove-mbc.org
SUMMARY:Breakfast / Sunday School / Church Service
DESCRIPTION:Join us for a morning of fellowship\, bible study\, and church.  We meet in the Fellowship Hall at 9:30am for breakfast and fellowship.  Sunday School starts at 10am (we have classes pre-school thru adults).  The morning church service begins at 11am. \nWe hope you can join us on Sunday!  To learn more about: \n\nWhere do you go when you arrive?\nWhere do my kids go?\nWhat should I wear?\nHow can I connect?\nAm I expected to give money?\nWhat does OGMBC believe?\n\nClick here.
URL:https://oakgrove-mbc.org/event/breakfast-sunday-school-church-service/2027-04-25/
LOCATION:OH
END:VEVENT
BEGIN:VEVENT
DTSTART;TZID=America/New_York:20270428T060000
DTEND;TZID=America/New_York:20270428T190000
DTSTAMP:20260424T034405
CREATED:20240116T180021Z
LAST-MODIFIED:20240824T155410Z
UID:10001376-1808892000-1808938800@oakgrove-mbc.org
SUMMARY:Bible Study (6pm)
DESCRIPTION:Join us for our weekly prayer meeting and bible study.
URL:https://oakgrove-mbc.org/event/bible-study-6pm-2/2027-04-28/
LOCATION:Oak Grove\, 9457 Baumhart Road\, Amherst\, OH\, 44001\, United States
END:VEVENT
BEGIN:VEVENT
DTSTART;VALUE=DATE:20270502
DTEND;VALUE=DATE:20270503
DTSTAMP:20260424T034405
CREATED:20240323T043021Z
LAST-MODIFIED:20240323T125301Z
UID:10002170-1809216000-1809302399@oakgrove-mbc.org
SUMMARY:Missions Fund Offering
DESCRIPTION:OGMBC is proud to support many missionaries!  A special offering is taken during the morning service on the first Sunday of each month. \nA luncheon is also held at 12:15pm in the Fellowship Hall. \nTo see a complete listing of missionaries – see: https://oakgrove-mbc.org/missions/
URL:https://oakgrove-mbc.org/event/missions-fund-offering/2027-05-02/
LOCATION:Oak Grove\, 9457 Baumhart Road\, Amherst\, OH\, 44001\, United States
END:VEVENT
BEGIN:VEVENT
DTSTART;TZID=America/New_York:20270502T093000
DTEND;TZID=America/New_York:20270502T120000
DTSTAMP:20260424T034405
CREATED:20240323T041906Z
LAST-MODIFIED:20240323T043154Z
UID:10002030-1809250200-1809259200@oakgrove-mbc.org
SUMMARY:Breakfast / Sunday School / Church Service
DESCRIPTION:Join us for a morning of fellowship\, bible study\, and church.  We meet in the Fellowship Hall at 9:30am for breakfast and fellowship.  Sunday School starts at 10am (we have classes pre-school thru adults).  The morning church service begins at 11am. \nWe hope you can join us on Sunday!  To learn more about: \n\nWhere do you go when you arrive?\nWhere do my kids go?\nWhat should I wear?\nHow can I connect?\nAm I expected to give money?\nWhat does OGMBC believe?\n\nClick here.
URL:https://oakgrove-mbc.org/event/breakfast-sunday-school-church-service/2027-05-02/
LOCATION:OH
END:VEVENT
BEGIN:VEVENT
DTSTART;TZID=America/New_York:20270502T120000
DTEND;TZID=America/New_York:20270502T133000
DTSTAMP:20260424T034405
CREATED:20240323T125417Z
LAST-MODIFIED:20240323T125417Z
UID:10002280-1809259200-1809264600@oakgrove-mbc.org
SUMMARY:Fellowship Luncheon
DESCRIPTION:Immediately following the morning service\, OGMBC holds a luncheon in the fellowship hall.
URL:https://oakgrove-mbc.org/event/fellowship-luncheon/2027-05-02/
LOCATION:Oak Grove\, 9457 Baumhart Road\, Amherst\, OH\, 44001\, United States
END:VEVENT
BEGIN:VEVENT
DTSTART;TZID=America/New_York:20270505T060000
DTEND;TZID=America/New_York:20270505T190000
DTSTAMP:20260424T034405
CREATED:20240116T180021Z
LAST-MODIFIED:20240824T155410Z
UID:10001377-1809496800-1809543600@oakgrove-mbc.org
SUMMARY:Bible Study (6pm)
DESCRIPTION:Join us for our weekly prayer meeting and bible study.
URL:https://oakgrove-mbc.org/event/bible-study-6pm-2/2027-05-05/
LOCATION:Oak Grove\, 9457 Baumhart Road\, Amherst\, OH\, 44001\, United States
END:VEVENT
BEGIN:VEVENT
DTSTART;TZID=America/New_York:20270509T093000
DTEND;TZID=America/New_York:20270509T120000
DTSTAMP:20260424T034405
CREATED:20240323T041906Z
LAST-MODIFIED:20240323T043154Z
UID:10002031-1809855000-1809864000@oakgrove-mbc.org
SUMMARY:Breakfast / Sunday School / Church Service
DESCRIPTION:Join us for a morning of fellowship\, bible study\, and church.  We meet in the Fellowship Hall at 9:30am for breakfast and fellowship.  Sunday School starts at 10am (we have classes pre-school thru adults).  The morning church service begins at 11am. \nWe hope you can join us on Sunday!  To learn more about: \n\nWhere do you go when you arrive?\nWhere do my kids go?\nWhat should I wear?\nHow can I connect?\nAm I expected to give money?\nWhat does OGMBC believe?\n\nClick here.
URL:https://oakgrove-mbc.org/event/breakfast-sunday-school-church-service/2027-05-09/
LOCATION:OH
END:VEVENT
BEGIN:VEVENT
DTSTART;TZID=America/New_York:20270512T060000
DTEND;TZID=America/New_York:20270512T190000
DTSTAMP:20260424T034405
CREATED:20240116T180021Z
LAST-MODIFIED:20240824T155410Z
UID:10001378-1810101600-1810148400@oakgrove-mbc.org
SUMMARY:Bible Study (6pm)
DESCRIPTION:Join us for our weekly prayer meeting and bible study.
URL:https://oakgrove-mbc.org/event/bible-study-6pm-2/2027-05-12/
LOCATION:Oak Grove\, 9457 Baumhart Road\, Amherst\, OH\, 44001\, United States
END:VEVENT
BEGIN:VEVENT
DTSTART;TZID=America/New_York:20270515T160000
DTEND;TZID=America/New_York:20270515T173000
DTSTAMP:20260424T034405
CREATED:20230506T121744Z
LAST-MODIFIED:20240323T125924Z
UID:10002318-1810396800-1810402200@oakgrove-mbc.org
SUMMARY:Annual Business Discussion
DESCRIPTION:
URL:https://oakgrove-mbc.org/event/annual-business-discussion/2027-05-15/
LOCATION:Oak Grove\, 9457 Baumhart Road\, Amherst\, OH\, 44001\, United States
END:VEVENT
BEGIN:VEVENT
DTSTART;TZID=America/New_York:20270516T093000
DTEND;TZID=America/New_York:20270516T120000
DTSTAMP:20260424T034405
CREATED:20240323T041906Z
LAST-MODIFIED:20240323T043154Z
UID:10002032-1810459800-1810468800@oakgrove-mbc.org
SUMMARY:Breakfast / Sunday School / Church Service
DESCRIPTION:Join us for a morning of fellowship\, bible study\, and church.  We meet in the Fellowship Hall at 9:30am for breakfast and fellowship.  Sunday School starts at 10am (we have classes pre-school thru adults).  The morning church service begins at 11am. \nWe hope you can join us on Sunday!  To learn more about: \n\nWhere do you go when you arrive?\nWhere do my kids go?\nWhat should I wear?\nHow can I connect?\nAm I expected to give money?\nWhat does OGMBC believe?\n\nClick here.
URL:https://oakgrove-mbc.org/event/breakfast-sunday-school-church-service/2027-05-16/
LOCATION:OH
END:VEVENT
BEGIN:VEVENT
DTSTART;TZID=America/New_York:20270519T060000
DTEND;TZID=America/New_York:20270519T190000
DTSTAMP:20260424T034405
CREATED:20240116T180021Z
LAST-MODIFIED:20240824T155410Z
UID:10001379-1810706400-1810753200@oakgrove-mbc.org
SUMMARY:Bible Study (6pm)
DESCRIPTION:Join us for our weekly prayer meeting and bible study.
URL:https://oakgrove-mbc.org/event/bible-study-6pm-2/2027-05-19/
LOCATION:Oak Grove\, 9457 Baumhart Road\, Amherst\, OH\, 44001\, United States
END:VEVENT
BEGIN:VEVENT
DTSTART;TZID=America/New_York:20270523T093000
DTEND;TZID=America/New_York:20270523T120000
DTSTAMP:20260424T034405
CREATED:20240323T041906Z
LAST-MODIFIED:20240323T043154Z
UID:10002033-1811064600-1811073600@oakgrove-mbc.org
SUMMARY:Breakfast / Sunday School / Church Service
DESCRIPTION:Join us for a morning of fellowship\, bible study\, and church.  We meet in the Fellowship Hall at 9:30am for breakfast and fellowship.  Sunday School starts at 10am (we have classes pre-school thru adults).  The morning church service begins at 11am. \nWe hope you can join us on Sunday!  To learn more about: \n\nWhere do you go when you arrive?\nWhere do my kids go?\nWhat should I wear?\nHow can I connect?\nAm I expected to give money?\nWhat does OGMBC believe?\n\nClick here.
URL:https://oakgrove-mbc.org/event/breakfast-sunday-school-church-service/2027-05-23/
LOCATION:OH
END:VEVENT
BEGIN:VEVENT
DTSTART;TZID=America/New_York:20270523T130000
DTEND;TZID=America/New_York:20270523T153000
DTSTAMP:20260424T034405
CREATED:20230306T013304Z
LAST-MODIFIED:20240323T130021Z
UID:10002323-1811077200-1811086200@oakgrove-mbc.org
SUMMARY:Kipton Memorial Day Parade
DESCRIPTION:Join us in Kipton to celebrate memorial day and see the OGMBC Vacation Bible School float!
URL:https://oakgrove-mbc.org/event/kipton-memorial-day-parade/2027-05-23/
LOCATION:Oak Grove\, 9457 Baumhart Road\, Amherst\, OH\, 44001\, United States
END:VEVENT
BEGIN:VEVENT
DTSTART;TZID=America/New_York:20270526T060000
DTEND;TZID=America/New_York:20270526T190000
DTSTAMP:20260424T034405
CREATED:20240116T180021Z
LAST-MODIFIED:20240824T155410Z
UID:10001380-1811311200-1811358000@oakgrove-mbc.org
SUMMARY:Bible Study (6pm)
DESCRIPTION:Join us for our weekly prayer meeting and bible study.
URL:https://oakgrove-mbc.org/event/bible-study-6pm-2/2027-05-26/
LOCATION:Oak Grove\, 9457 Baumhart Road\, Amherst\, OH\, 44001\, United States
END:VEVENT
BEGIN:VEVENT
DTSTART;TZID=America/New_York:20270530T093000
DTEND;TZID=America/New_York:20270530T120000
DTSTAMP:20260424T034405
CREATED:20240323T041906Z
LAST-MODIFIED:20240323T043154Z
UID:10002034-1811669400-1811678400@oakgrove-mbc.org
SUMMARY:Breakfast / Sunday School / Church Service
DESCRIPTION:Join us for a morning of fellowship\, bible study\, and church.  We meet in the Fellowship Hall at 9:30am for breakfast and fellowship.  Sunday School starts at 10am (we have classes pre-school thru adults).  The morning church service begins at 11am. \nWe hope you can join us on Sunday!  To learn more about: \n\nWhere do you go when you arrive?\nWhere do my kids go?\nWhat should I wear?\nHow can I connect?\nAm I expected to give money?\nWhat does OGMBC believe?\n\nClick here.
URL:https://oakgrove-mbc.org/event/breakfast-sunday-school-church-service/2027-05-30/
LOCATION:OH
END:VEVENT
BEGIN:VEVENT
DTSTART;TZID=America/New_York:20270602T060000
DTEND;TZID=America/New_York:20270602T190000
DTSTAMP:20260424T034405
CREATED:20240116T180021Z
LAST-MODIFIED:20240824T155410Z
UID:10001381-1811916000-1811962800@oakgrove-mbc.org
SUMMARY:Bible Study (6pm)
DESCRIPTION:Join us for our weekly prayer meeting and bible study.
URL:https://oakgrove-mbc.org/event/bible-study-6pm-2/2027-06-02/
LOCATION:Oak Grove\, 9457 Baumhart Road\, Amherst\, OH\, 44001\, United States
END:VEVENT
BEGIN:VEVENT
DTSTART;TZID=America/New_York:20270605T170000
DTEND;TZID=America/New_York:20270605T183000
DTSTAMP:20260424T034405
CREATED:20230306T013713Z
LAST-MODIFIED:20240323T125705Z
UID:10002306-1812214800-1812220200@oakgrove-mbc.org
SUMMARY:Annual Business Meeting
DESCRIPTION:OGMBC holds its annual business meeting the first Saturday of June.  At this meeting the church votes on it’s annual budget\, officers\, and other business which is discussed two weeks prior at a “business discussion.”  Consult church bylaws for more information.
URL:https://oakgrove-mbc.org/event/annual-business-meeting-cookout-to-follow/2027-06-05/
LOCATION:Oak Grove\, 9457 Baumhart Road\, Amherst\, OH\, 44001\, United States
END:VEVENT
END:VCALENDAR