BEGIN:VCALENDAR
VERSION:2.0
PRODID:-//OGMBC - ECPv6.15.20//NONSGML v1.0//EN
CALSCALE:GREGORIAN
METHOD:PUBLISH
X-ORIGINAL-URL:https://oakgrove-mbc.org
X-WR-CALDESC:Events for OGMBC
REFRESH-INTERVAL;VALUE=DURATION:PT1H
X-Robots-Tag:noindex
X-PUBLISHED-TTL:PT1H
BEGIN:VTIMEZONE
TZID:America/New_York
BEGIN:DAYLIGHT
TZOFFSETFROM:-0500
TZOFFSETTO:-0400
TZNAME:EDT
DTSTART:20270314T070000
END:DAYLIGHT
BEGIN:STANDARD
TZOFFSETFROM:-0400
TZOFFSETTO:-0500
TZNAME:EST
DTSTART:20271107T060000
END:STANDARD
BEGIN:DAYLIGHT
TZOFFSETFROM:-0500
TZOFFSETTO:-0400
TZNAME:EDT
DTSTART:20280312T070000
END:DAYLIGHT
BEGIN:STANDARD
TZOFFSETFROM:-0400
TZOFFSETTO:-0500
TZNAME:EST
DTSTART:20281105T060000
END:STANDARD
BEGIN:DAYLIGHT
TZOFFSETFROM:-0500
TZOFFSETTO:-0400
TZNAME:EDT
DTSTART:20290311T070000
END:DAYLIGHT
BEGIN:STANDARD
TZOFFSETFROM:-0400
TZOFFSETTO:-0500
TZNAME:EST
DTSTART:20291104T060000
END:STANDARD
END:VTIMEZONE
BEGIN:VEVENT
DTSTART;TZID=America/New_York:20280315T060000
DTEND;TZID=America/New_York:20280315T190000
DTSTAMP:20260424T222740
CREATED:20240116T180021Z
LAST-MODIFIED:20240824T155410Z
UID:10001422-1836712800-1836759600@oakgrove-mbc.org
SUMMARY:Bible Study (6pm)
DESCRIPTION:Join us for our weekly prayer meeting and bible study.
URL:https://oakgrove-mbc.org/event/bible-study-6pm-2/2028-03-15/
LOCATION:Oak Grove\, 9457 Baumhart Road\, Amherst\, OH\, 44001\, United States
END:VEVENT
BEGIN:VEVENT
DTSTART;TZID=America/New_York:20280319T093000
DTEND;TZID=America/New_York:20280319T120000
DTSTAMP:20260424T222740
CREATED:20240323T041906Z
LAST-MODIFIED:20240323T043154Z
UID:10002076-1837071000-1837080000@oakgrove-mbc.org
SUMMARY:Breakfast / Sunday School / Church Service
DESCRIPTION:Join us for a morning of fellowship\, bible study\, and church.  We meet in the Fellowship Hall at 9:30am for breakfast and fellowship.  Sunday School starts at 10am (we have classes pre-school thru adults).  The morning church service begins at 11am. \nWe hope you can join us on Sunday!  To learn more about: \n\nWhere do you go when you arrive?\nWhere do my kids go?\nWhat should I wear?\nHow can I connect?\nAm I expected to give money?\nWhat does OGMBC believe?\n\nClick here.
URL:https://oakgrove-mbc.org/event/breakfast-sunday-school-church-service/2028-03-19/
LOCATION:OH
END:VEVENT
BEGIN:VEVENT
DTSTART;TZID=America/New_York:20280322T060000
DTEND;TZID=America/New_York:20280322T190000
DTSTAMP:20260424T222740
CREATED:20240116T180021Z
LAST-MODIFIED:20240824T155410Z
UID:10001423-1837317600-1837364400@oakgrove-mbc.org
SUMMARY:Bible Study (6pm)
DESCRIPTION:Join us for our weekly prayer meeting and bible study.
URL:https://oakgrove-mbc.org/event/bible-study-6pm-2/2028-03-22/
LOCATION:Oak Grove\, 9457 Baumhart Road\, Amherst\, OH\, 44001\, United States
END:VEVENT
BEGIN:VEVENT
DTSTART;TZID=America/New_York:20280326T093000
DTEND;TZID=America/New_York:20280326T120000
DTSTAMP:20260424T222740
CREATED:20240323T041906Z
LAST-MODIFIED:20240323T043154Z
UID:10002077-1837675800-1837684800@oakgrove-mbc.org
SUMMARY:Breakfast / Sunday School / Church Service
DESCRIPTION:Join us for a morning of fellowship\, bible study\, and church.  We meet in the Fellowship Hall at 9:30am for breakfast and fellowship.  Sunday School starts at 10am (we have classes pre-school thru adults).  The morning church service begins at 11am. \nWe hope you can join us on Sunday!  To learn more about: \n\nWhere do you go when you arrive?\nWhere do my kids go?\nWhat should I wear?\nHow can I connect?\nAm I expected to give money?\nWhat does OGMBC believe?\n\nClick here.
URL:https://oakgrove-mbc.org/event/breakfast-sunday-school-church-service/2028-03-26/
LOCATION:OH
END:VEVENT
BEGIN:VEVENT
DTSTART;TZID=America/New_York:20280329T060000
DTEND;TZID=America/New_York:20280329T190000
DTSTAMP:20260424T222740
CREATED:20240116T180021Z
LAST-MODIFIED:20240824T155410Z
UID:10001424-1837922400-1837969200@oakgrove-mbc.org
SUMMARY:Bible Study (6pm)
DESCRIPTION:Join us for our weekly prayer meeting and bible study.
URL:https://oakgrove-mbc.org/event/bible-study-6pm-2/2028-03-29/
LOCATION:Oak Grove\, 9457 Baumhart Road\, Amherst\, OH\, 44001\, United States
END:VEVENT
BEGIN:VEVENT
DTSTART;VALUE=DATE:20280402
DTEND;VALUE=DATE:20280403
DTSTAMP:20260424T222740
CREATED:20240323T043021Z
LAST-MODIFIED:20240323T125301Z
UID:10002181-1838246400-1838332799@oakgrove-mbc.org
SUMMARY:Missions Fund Offering
DESCRIPTION:OGMBC is proud to support many missionaries!  A special offering is taken during the morning service on the first Sunday of each month. \nA luncheon is also held at 12:15pm in the Fellowship Hall. \nTo see a complete listing of missionaries – see: https://oakgrove-mbc.org/missions/
URL:https://oakgrove-mbc.org/event/missions-fund-offering/2028-04-02/
LOCATION:Oak Grove\, 9457 Baumhart Road\, Amherst\, OH\, 44001\, United States
END:VEVENT
BEGIN:VEVENT
DTSTART;TZID=America/New_York:20280402T093000
DTEND;TZID=America/New_York:20280402T120000
DTSTAMP:20260424T222740
CREATED:20240323T041906Z
LAST-MODIFIED:20240323T043154Z
UID:10002078-1838280600-1838289600@oakgrove-mbc.org
SUMMARY:Breakfast / Sunday School / Church Service
DESCRIPTION:Join us for a morning of fellowship\, bible study\, and church.  We meet in the Fellowship Hall at 9:30am for breakfast and fellowship.  Sunday School starts at 10am (we have classes pre-school thru adults).  The morning church service begins at 11am. \nWe hope you can join us on Sunday!  To learn more about: \n\nWhere do you go when you arrive?\nWhere do my kids go?\nWhat should I wear?\nHow can I connect?\nAm I expected to give money?\nWhat does OGMBC believe?\n\nClick here.
URL:https://oakgrove-mbc.org/event/breakfast-sunday-school-church-service/2028-04-02/
LOCATION:OH
END:VEVENT
BEGIN:VEVENT
DTSTART;TZID=America/New_York:20280402T120000
DTEND;TZID=America/New_York:20280402T133000
DTSTAMP:20260424T222740
CREATED:20240323T125417Z
LAST-MODIFIED:20240323T125417Z
UID:10002291-1838289600-1838295000@oakgrove-mbc.org
SUMMARY:Fellowship Luncheon
DESCRIPTION:Immediately following the morning service\, OGMBC holds a luncheon in the fellowship hall.
URL:https://oakgrove-mbc.org/event/fellowship-luncheon/2028-04-02/
LOCATION:Oak Grove\, 9457 Baumhart Road\, Amherst\, OH\, 44001\, United States
END:VEVENT
BEGIN:VEVENT
DTSTART;TZID=America/New_York:20280405T060000
DTEND;TZID=America/New_York:20280405T190000
DTSTAMP:20260424T222740
CREATED:20240116T180021Z
LAST-MODIFIED:20240824T155410Z
UID:10001425-1838527200-1838574000@oakgrove-mbc.org
SUMMARY:Bible Study (6pm)
DESCRIPTION:Join us for our weekly prayer meeting and bible study.
URL:https://oakgrove-mbc.org/event/bible-study-6pm-2/2028-04-05/
LOCATION:Oak Grove\, 9457 Baumhart Road\, Amherst\, OH\, 44001\, United States
END:VEVENT
BEGIN:VEVENT
DTSTART;TZID=America/New_York:20280409T093000
DTEND;TZID=America/New_York:20280409T120000
DTSTAMP:20260424T222740
CREATED:20240323T041906Z
LAST-MODIFIED:20240323T043154Z
UID:10002079-1838885400-1838894400@oakgrove-mbc.org
SUMMARY:Breakfast / Sunday School / Church Service
DESCRIPTION:Join us for a morning of fellowship\, bible study\, and church.  We meet in the Fellowship Hall at 9:30am for breakfast and fellowship.  Sunday School starts at 10am (we have classes pre-school thru adults).  The morning church service begins at 11am. \nWe hope you can join us on Sunday!  To learn more about: \n\nWhere do you go when you arrive?\nWhere do my kids go?\nWhat should I wear?\nHow can I connect?\nAm I expected to give money?\nWhat does OGMBC believe?\n\nClick here.
URL:https://oakgrove-mbc.org/event/breakfast-sunday-school-church-service/2028-04-09/
LOCATION:OH
END:VEVENT
BEGIN:VEVENT
DTSTART;TZID=America/New_York:20280412T060000
DTEND;TZID=America/New_York:20280412T190000
DTSTAMP:20260424T222740
CREATED:20240116T180021Z
LAST-MODIFIED:20240824T155410Z
UID:10001426-1839132000-1839178800@oakgrove-mbc.org
SUMMARY:Bible Study (6pm)
DESCRIPTION:Join us for our weekly prayer meeting and bible study.
URL:https://oakgrove-mbc.org/event/bible-study-6pm-2/2028-04-12/
LOCATION:Oak Grove\, 9457 Baumhart Road\, Amherst\, OH\, 44001\, United States
END:VEVENT
BEGIN:VEVENT
DTSTART;TZID=America/New_York:20280416T093000
DTEND;TZID=America/New_York:20280416T120000
DTSTAMP:20260424T222740
CREATED:20240323T041906Z
LAST-MODIFIED:20240323T043154Z
UID:10002080-1839490200-1839499200@oakgrove-mbc.org
SUMMARY:Breakfast / Sunday School / Church Service
DESCRIPTION:Join us for a morning of fellowship\, bible study\, and church.  We meet in the Fellowship Hall at 9:30am for breakfast and fellowship.  Sunday School starts at 10am (we have classes pre-school thru adults).  The morning church service begins at 11am. \nWe hope you can join us on Sunday!  To learn more about: \n\nWhere do you go when you arrive?\nWhere do my kids go?\nWhat should I wear?\nHow can I connect?\nAm I expected to give money?\nWhat does OGMBC believe?\n\nClick here.
URL:https://oakgrove-mbc.org/event/breakfast-sunday-school-church-service/2028-04-16/
LOCATION:OH
END:VEVENT
BEGIN:VEVENT
DTSTART;TZID=America/New_York:20280419T060000
DTEND;TZID=America/New_York:20280419T190000
DTSTAMP:20260424T222740
CREATED:20240116T180021Z
LAST-MODIFIED:20240824T155410Z
UID:10001427-1839736800-1839783600@oakgrove-mbc.org
SUMMARY:Bible Study (6pm)
DESCRIPTION:Join us for our weekly prayer meeting and bible study.
URL:https://oakgrove-mbc.org/event/bible-study-6pm-2/2028-04-19/
LOCATION:Oak Grove\, 9457 Baumhart Road\, Amherst\, OH\, 44001\, United States
END:VEVENT
BEGIN:VEVENT
DTSTART;TZID=America/New_York:20280423T093000
DTEND;TZID=America/New_York:20280423T120000
DTSTAMP:20260424T222740
CREATED:20240323T041906Z
LAST-MODIFIED:20240323T043154Z
UID:10002081-1840095000-1840104000@oakgrove-mbc.org
SUMMARY:Breakfast / Sunday School / Church Service
DESCRIPTION:Join us for a morning of fellowship\, bible study\, and church.  We meet in the Fellowship Hall at 9:30am for breakfast and fellowship.  Sunday School starts at 10am (we have classes pre-school thru adults).  The morning church service begins at 11am. \nWe hope you can join us on Sunday!  To learn more about: \n\nWhere do you go when you arrive?\nWhere do my kids go?\nWhat should I wear?\nHow can I connect?\nAm I expected to give money?\nWhat does OGMBC believe?\n\nClick here.
URL:https://oakgrove-mbc.org/event/breakfast-sunday-school-church-service/2028-04-23/
LOCATION:OH
END:VEVENT
BEGIN:VEVENT
DTSTART;TZID=America/New_York:20280426T060000
DTEND;TZID=America/New_York:20280426T190000
DTSTAMP:20260424T222740
CREATED:20240116T180021Z
LAST-MODIFIED:20240824T155410Z
UID:10001428-1840341600-1840388400@oakgrove-mbc.org
SUMMARY:Bible Study (6pm)
DESCRIPTION:Join us for our weekly prayer meeting and bible study.
URL:https://oakgrove-mbc.org/event/bible-study-6pm-2/2028-04-26/
LOCATION:Oak Grove\, 9457 Baumhart Road\, Amherst\, OH\, 44001\, United States
END:VEVENT
BEGIN:VEVENT
DTSTART;TZID=America/New_York:20280430T093000
DTEND;TZID=America/New_York:20280430T120000
DTSTAMP:20260424T222740
CREATED:20240323T041906Z
LAST-MODIFIED:20240323T043154Z
UID:10002082-1840699800-1840708800@oakgrove-mbc.org
SUMMARY:Breakfast / Sunday School / Church Service
DESCRIPTION:Join us for a morning of fellowship\, bible study\, and church.  We meet in the Fellowship Hall at 9:30am for breakfast and fellowship.  Sunday School starts at 10am (we have classes pre-school thru adults).  The morning church service begins at 11am. \nWe hope you can join us on Sunday!  To learn more about: \n\nWhere do you go when you arrive?\nWhere do my kids go?\nWhat should I wear?\nHow can I connect?\nAm I expected to give money?\nWhat does OGMBC believe?\n\nClick here.
URL:https://oakgrove-mbc.org/event/breakfast-sunday-school-church-service/2028-04-30/
LOCATION:OH
END:VEVENT
BEGIN:VEVENT
DTSTART;TZID=America/New_York:20280503T060000
DTEND;TZID=America/New_York:20280503T190000
DTSTAMP:20260424T222740
CREATED:20240116T180021Z
LAST-MODIFIED:20240824T155410Z
UID:10001429-1840946400-1840993200@oakgrove-mbc.org
SUMMARY:Bible Study (6pm)
DESCRIPTION:Join us for our weekly prayer meeting and bible study.
URL:https://oakgrove-mbc.org/event/bible-study-6pm-2/2028-05-03/
LOCATION:Oak Grove\, 9457 Baumhart Road\, Amherst\, OH\, 44001\, United States
END:VEVENT
BEGIN:VEVENT
DTSTART;VALUE=DATE:20280507
DTEND;VALUE=DATE:20280508
DTSTAMP:20260424T222740
CREATED:20240323T043021Z
LAST-MODIFIED:20240323T125301Z
UID:10002182-1841270400-1841356799@oakgrove-mbc.org
SUMMARY:Missions Fund Offering
DESCRIPTION:OGMBC is proud to support many missionaries!  A special offering is taken during the morning service on the first Sunday of each month. \nA luncheon is also held at 12:15pm in the Fellowship Hall. \nTo see a complete listing of missionaries – see: https://oakgrove-mbc.org/missions/
URL:https://oakgrove-mbc.org/event/missions-fund-offering/2028-05-07/
LOCATION:Oak Grove\, 9457 Baumhart Road\, Amherst\, OH\, 44001\, United States
END:VEVENT
BEGIN:VEVENT
DTSTART;TZID=America/New_York:20280507T093000
DTEND;TZID=America/New_York:20280507T120000
DTSTAMP:20260424T222740
CREATED:20240323T041906Z
LAST-MODIFIED:20240323T043154Z
UID:10002083-1841304600-1841313600@oakgrove-mbc.org
SUMMARY:Breakfast / Sunday School / Church Service
DESCRIPTION:Join us for a morning of fellowship\, bible study\, and church.  We meet in the Fellowship Hall at 9:30am for breakfast and fellowship.  Sunday School starts at 10am (we have classes pre-school thru adults).  The morning church service begins at 11am. \nWe hope you can join us on Sunday!  To learn more about: \n\nWhere do you go when you arrive?\nWhere do my kids go?\nWhat should I wear?\nHow can I connect?\nAm I expected to give money?\nWhat does OGMBC believe?\n\nClick here.
URL:https://oakgrove-mbc.org/event/breakfast-sunday-school-church-service/2028-05-07/
LOCATION:OH
END:VEVENT
BEGIN:VEVENT
DTSTART;TZID=America/New_York:20280507T120000
DTEND;TZID=America/New_York:20280507T133000
DTSTAMP:20260424T222740
CREATED:20240323T125417Z
LAST-MODIFIED:20240323T125417Z
UID:10002292-1841313600-1841319000@oakgrove-mbc.org
SUMMARY:Fellowship Luncheon
DESCRIPTION:Immediately following the morning service\, OGMBC holds a luncheon in the fellowship hall.
URL:https://oakgrove-mbc.org/event/fellowship-luncheon/2028-05-07/
LOCATION:Oak Grove\, 9457 Baumhart Road\, Amherst\, OH\, 44001\, United States
END:VEVENT
BEGIN:VEVENT
DTSTART;TZID=America/New_York:20280510T060000
DTEND;TZID=America/New_York:20280510T190000
DTSTAMP:20260424T222740
CREATED:20240116T180021Z
LAST-MODIFIED:20240824T155410Z
UID:10001430-1841551200-1841598000@oakgrove-mbc.org
SUMMARY:Bible Study (6pm)
DESCRIPTION:Join us for our weekly prayer meeting and bible study.
URL:https://oakgrove-mbc.org/event/bible-study-6pm-2/2028-05-10/
LOCATION:Oak Grove\, 9457 Baumhart Road\, Amherst\, OH\, 44001\, United States
END:VEVENT
BEGIN:VEVENT
DTSTART;TZID=America/New_York:20280514T093000
DTEND;TZID=America/New_York:20280514T120000
DTSTAMP:20260424T222740
CREATED:20240323T041906Z
LAST-MODIFIED:20240323T043154Z
UID:10002084-1841909400-1841918400@oakgrove-mbc.org
SUMMARY:Breakfast / Sunday School / Church Service
DESCRIPTION:Join us for a morning of fellowship\, bible study\, and church.  We meet in the Fellowship Hall at 9:30am for breakfast and fellowship.  Sunday School starts at 10am (we have classes pre-school thru adults).  The morning church service begins at 11am. \nWe hope you can join us on Sunday!  To learn more about: \n\nWhere do you go when you arrive?\nWhere do my kids go?\nWhat should I wear?\nHow can I connect?\nAm I expected to give money?\nWhat does OGMBC believe?\n\nClick here.
URL:https://oakgrove-mbc.org/event/breakfast-sunday-school-church-service/2028-05-14/
LOCATION:OH
END:VEVENT
BEGIN:VEVENT
DTSTART;TZID=America/New_York:20280517T060000
DTEND;TZID=America/New_York:20280517T190000
DTSTAMP:20260424T222740
CREATED:20240116T180021Z
LAST-MODIFIED:20240824T155410Z
UID:10001431-1842156000-1842202800@oakgrove-mbc.org
SUMMARY:Bible Study (6pm)
DESCRIPTION:Join us for our weekly prayer meeting and bible study.
URL:https://oakgrove-mbc.org/event/bible-study-6pm-2/2028-05-17/
LOCATION:Oak Grove\, 9457 Baumhart Road\, Amherst\, OH\, 44001\, United States
END:VEVENT
BEGIN:VEVENT
DTSTART;TZID=America/New_York:20280520T160000
DTEND;TZID=America/New_York:20280520T173000
DTSTAMP:20260424T222740
CREATED:20230506T121744Z
LAST-MODIFIED:20240323T125924Z
UID:10002319-1842451200-1842456600@oakgrove-mbc.org
SUMMARY:Annual Business Discussion
DESCRIPTION:
URL:https://oakgrove-mbc.org/event/annual-business-discussion/2028-05-20/
LOCATION:Oak Grove\, 9457 Baumhart Road\, Amherst\, OH\, 44001\, United States
END:VEVENT
BEGIN:VEVENT
DTSTART;TZID=America/New_York:20280521T093000
DTEND;TZID=America/New_York:20280521T120000
DTSTAMP:20260424T222740
CREATED:20240323T041906Z
LAST-MODIFIED:20240323T043154Z
UID:10002085-1842514200-1842523200@oakgrove-mbc.org
SUMMARY:Breakfast / Sunday School / Church Service
DESCRIPTION:Join us for a morning of fellowship\, bible study\, and church.  We meet in the Fellowship Hall at 9:30am for breakfast and fellowship.  Sunday School starts at 10am (we have classes pre-school thru adults).  The morning church service begins at 11am. \nWe hope you can join us on Sunday!  To learn more about: \n\nWhere do you go when you arrive?\nWhere do my kids go?\nWhat should I wear?\nHow can I connect?\nAm I expected to give money?\nWhat does OGMBC believe?\n\nClick here.
URL:https://oakgrove-mbc.org/event/breakfast-sunday-school-church-service/2028-05-21/
LOCATION:OH
END:VEVENT
BEGIN:VEVENT
DTSTART;TZID=America/New_York:20280524T060000
DTEND;TZID=America/New_York:20280524T190000
DTSTAMP:20260424T222740
CREATED:20240116T180021Z
LAST-MODIFIED:20240824T155410Z
UID:10001432-1842760800-1842807600@oakgrove-mbc.org
SUMMARY:Bible Study (6pm)
DESCRIPTION:Join us for our weekly prayer meeting and bible study.
URL:https://oakgrove-mbc.org/event/bible-study-6pm-2/2028-05-24/
LOCATION:Oak Grove\, 9457 Baumhart Road\, Amherst\, OH\, 44001\, United States
END:VEVENT
BEGIN:VEVENT
DTSTART;TZID=America/New_York:20280528T093000
DTEND;TZID=America/New_York:20280528T120000
DTSTAMP:20260424T222740
CREATED:20240323T041906Z
LAST-MODIFIED:20240323T043154Z
UID:10002086-1843119000-1843128000@oakgrove-mbc.org
SUMMARY:Breakfast / Sunday School / Church Service
DESCRIPTION:Join us for a morning of fellowship\, bible study\, and church.  We meet in the Fellowship Hall at 9:30am for breakfast and fellowship.  Sunday School starts at 10am (we have classes pre-school thru adults).  The morning church service begins at 11am. \nWe hope you can join us on Sunday!  To learn more about: \n\nWhere do you go when you arrive?\nWhere do my kids go?\nWhat should I wear?\nHow can I connect?\nAm I expected to give money?\nWhat does OGMBC believe?\n\nClick here.
URL:https://oakgrove-mbc.org/event/breakfast-sunday-school-church-service/2028-05-28/
LOCATION:OH
END:VEVENT
BEGIN:VEVENT
DTSTART;TZID=America/New_York:20280528T130000
DTEND;TZID=America/New_York:20280528T153000
DTSTAMP:20260424T222740
CREATED:20230306T013304Z
LAST-MODIFIED:20240323T130021Z
UID:10002324-1843131600-1843140600@oakgrove-mbc.org
SUMMARY:Kipton Memorial Day Parade
DESCRIPTION:Join us in Kipton to celebrate memorial day and see the OGMBC Vacation Bible School float!
URL:https://oakgrove-mbc.org/event/kipton-memorial-day-parade/2028-05-28/
LOCATION:Oak Grove\, 9457 Baumhart Road\, Amherst\, OH\, 44001\, United States
END:VEVENT
BEGIN:VEVENT
DTSTART;TZID=America/New_York:20280531T060000
DTEND;TZID=America/New_York:20280531T190000
DTSTAMP:20260424T222740
CREATED:20240116T180021Z
LAST-MODIFIED:20240824T155410Z
UID:10001433-1843365600-1843412400@oakgrove-mbc.org
SUMMARY:Bible Study (6pm)
DESCRIPTION:Join us for our weekly prayer meeting and bible study.
URL:https://oakgrove-mbc.org/event/bible-study-6pm-2/2028-05-31/
LOCATION:Oak Grove\, 9457 Baumhart Road\, Amherst\, OH\, 44001\, United States
END:VEVENT
BEGIN:VEVENT
DTSTART;TZID=America/New_York:20280603T170000
DTEND;TZID=America/New_York:20280603T183000
DTSTAMP:20260424T222740
CREATED:20230306T013713Z
LAST-MODIFIED:20240323T125705Z
UID:10002307-1843664400-1843669800@oakgrove-mbc.org
SUMMARY:Annual Business Meeting
DESCRIPTION:OGMBC holds its annual business meeting the first Saturday of June.  At this meeting the church votes on it’s annual budget\, officers\, and other business which is discussed two weeks prior at a “business discussion.”  Consult church bylaws for more information.
URL:https://oakgrove-mbc.org/event/annual-business-meeting-cookout-to-follow/2028-06-03/
LOCATION:Oak Grove\, 9457 Baumhart Road\, Amherst\, OH\, 44001\, United States
END:VEVENT
END:VCALENDAR