BEGIN:VCALENDAR
VERSION:2.0
PRODID:-//OGMBC - ECPv6.15.20//NONSGML v1.0//EN
CALSCALE:GREGORIAN
METHOD:PUBLISH
X-WR-CALNAME:OGMBC
X-ORIGINAL-URL:https://oakgrove-mbc.org
X-WR-CALDESC:Events for OGMBC
REFRESH-INTERVAL;VALUE=DURATION:PT1H
X-Robots-Tag:noindex
X-PUBLISHED-TTL:PT1H
BEGIN:VTIMEZONE
TZID:America/New_York
BEGIN:DAYLIGHT
TZOFFSETFROM:-0500
TZOFFSETTO:-0400
TZNAME:EDT
DTSTART:20210314T070000
END:DAYLIGHT
BEGIN:STANDARD
TZOFFSETFROM:-0400
TZOFFSETTO:-0500
TZNAME:EST
DTSTART:20211107T060000
END:STANDARD
BEGIN:DAYLIGHT
TZOFFSETFROM:-0500
TZOFFSETTO:-0400
TZNAME:EDT
DTSTART:20220313T070000
END:DAYLIGHT
BEGIN:STANDARD
TZOFFSETFROM:-0400
TZOFFSETTO:-0500
TZNAME:EST
DTSTART:20221106T060000
END:STANDARD
BEGIN:DAYLIGHT
TZOFFSETFROM:-0500
TZOFFSETTO:-0400
TZNAME:EDT
DTSTART:20230312T070000
END:DAYLIGHT
BEGIN:STANDARD
TZOFFSETFROM:-0400
TZOFFSETTO:-0500
TZNAME:EST
DTSTART:20231105T060000
END:STANDARD
END:VTIMEZONE
BEGIN:VEVENT
DTSTART;TZID=America/New_York:20220605T110000
DTEND;TZID=America/New_York:20220605T140000
DTSTAMP:20260425T105754
CREATED:20220327T081713Z
LAST-MODIFIED:20220327T081713Z
UID:10000040-1654426800-1654437600@oakgrove-mbc.org
SUMMARY:Mission’s Sunday (special offering) and Fellowship Luncheon
DESCRIPTION:
URL:https://oakgrove-mbc.org/event/missions-sunday-special-offering-and-fellowship-luncheon-3/
LOCATION:Oak Grove\, 9457 Baumhart Road\, Amherst\, OH\, 44001\, United States
END:VEVENT
BEGIN:VEVENT
DTSTART;TZID=America/New_York:20220514T083000
DTEND;TZID=America/New_York:20220514T103000
DTSTAMP:20260425T105754
CREATED:20220327T081548Z
LAST-MODIFIED:20220327T081548Z
UID:10000039-1652517000-1652524200@oakgrove-mbc.org
SUMMARY:Men’s Breakfast
DESCRIPTION:
URL:https://oakgrove-mbc.org/event/mens-breakfast-2/
LOCATION:Oak Grove\, 9457 Baumhart Road\, Amherst\, OH\, 44001\, United States
END:VEVENT
BEGIN:VEVENT
DTSTART;TZID=America/New_York:20220508T110000
DTEND;TZID=America/New_York:20220508T123000
DTSTAMP:20260425T105754
CREATED:20220327T081459Z
LAST-MODIFIED:20220327T081459Z
UID:10000038-1652007600-1652013000@oakgrove-mbc.org
SUMMARY:Mother’s Day Service
DESCRIPTION:
URL:https://oakgrove-mbc.org/event/mothers-day-service/
LOCATION:Oak Grove\, 9457 Baumhart Road\, Amherst\, OH\, 44001\, United States
END:VEVENT
BEGIN:VEVENT
DTSTART;TZID=America/New_York:20220507T083000
DTEND;TZID=America/New_York:20220507T103000
DTSTAMP:20260425T105754
CREATED:20220327T081404Z
LAST-MODIFIED:20220327T081404Z
UID:10000037-1651912200-1651919400@oakgrove-mbc.org
SUMMARY:Spring Clean-up
DESCRIPTION:
URL:https://oakgrove-mbc.org/event/spring-clean-up/
LOCATION:Oak Grove\, 9457 Baumhart Road\, Amherst\, OH\, 44001\, United States
END:VEVENT
BEGIN:VEVENT
DTSTART;TZID=America/New_York:20220501T110000
DTEND;TZID=America/New_York:20220501T140000
DTSTAMP:20260425T105754
CREATED:20220327T081242Z
LAST-MODIFIED:20220327T081242Z
UID:10000036-1651402800-1651413600@oakgrove-mbc.org
SUMMARY:Mission’s Sunday (special offering) and Fellowship Luncheon
DESCRIPTION:
URL:https://oakgrove-mbc.org/event/missions-sunday-special-offering-and-fellowship-luncheon-2/
LOCATION:Oak Grove\, 9457 Baumhart Road\, Amherst\, OH\, 44001\, United States
END:VEVENT
BEGIN:VEVENT
DTSTART;VALUE=DATE:20220424
DTEND;VALUE=DATE:20220430
DTSTAMP:20260425T105754
CREATED:20220327T080927Z
LAST-MODIFIED:20220327T080927Z
UID:10000035-1650758400-1651276799@oakgrove-mbc.org
SUMMARY:Spring Revival
DESCRIPTION:Revival Schedule: \n• Sunday\, April 24th (11am / 6pm): Pastor Rod Black \n• Monday\, April 25th (7pm): Pastor Jack Williams \n• Tuesday\, April 26th (7pm): Pastor Gary Dorsey \n• Wednesday\, April 27th (7pm): Pastor Chuck Keesee \n• Thursday\, April 28th (7pm): Pastor Ken Puskas \n• Friday\, April 29th (7pm): Pastor Josh Smith
URL:https://oakgrove-mbc.org/event/spring-revival/
LOCATION:Oak Grove\, 9457 Baumhart Road\, Amherst\, OH\, 44001\, United States
END:VEVENT
BEGIN:VEVENT
DTSTART;TZID=America/New_York:20220423T170000
DTEND;TZID=America/New_York:20220423T190000
DTSTAMP:20260425T105754
CREATED:20220327T080658Z
LAST-MODIFIED:20220327T080658Z
UID:10000034-1650733200-1650740400@oakgrove-mbc.org
SUMMARY:Deacon Ordination Service
DESCRIPTION:
URL:https://oakgrove-mbc.org/event/deacon-ordination-service/
LOCATION:Oak Grove\, 9457 Baumhart Road\, Amherst\, OH\, 44001\, United States
END:VEVENT
BEGIN:VEVENT
DTSTART;TZID=America/New_York:20220417T120000
DTEND;TZID=America/New_York:20220417T130000
DTSTAMP:20260425T105754
CREATED:20220327T080534Z
LAST-MODIFIED:20220327T080534Z
UID:10000033-1650196800-1650200400@oakgrove-mbc.org
SUMMARY:Easter Egg Hunt (after morning service)
DESCRIPTION:
URL:https://oakgrove-mbc.org/event/easter-egg-hunt-after-morning-service/
LOCATION:Oak Grove\, 9457 Baumhart Road\, Amherst\, OH\, 44001\, United States
END:VEVENT
BEGIN:VEVENT
DTSTART;TZID=America/New_York:20220409T083000
DTEND;TZID=America/New_York:20220409T100000
DTSTAMP:20260425T105754
CREATED:20220327T063949Z
LAST-MODIFIED:20220327T063949Z
UID:10000032-1649493000-1649498400@oakgrove-mbc.org
SUMMARY:Men’s Breakfast
DESCRIPTION:
URL:https://oakgrove-mbc.org/event/mens-breakfast/
LOCATION:Oak Grove\, 9457 Baumhart Road\, Amherst\, OH\, 44001\, United States
END:VEVENT
BEGIN:VEVENT
DTSTART;TZID=America/New_York:20220403T110000
DTEND;TZID=America/New_York:20220403T140000
DTSTAMP:20260425T105754
CREATED:20220327T063206Z
LAST-MODIFIED:20220327T063517Z
UID:10000031-1648983600-1648994400@oakgrove-mbc.org
SUMMARY:Mission’s Sunday (special offering) and Fellowship Luncheon
DESCRIPTION:[et_pb_section fb_built=”1″ admin_label=”section” _builder_version=”4.15″ global_colors_info=”{}”][et_pb_row admin_label=”row” _builder_version=”4.15″ background_size=”initial” background_position=”top_left” background_repeat=”repeat” global_colors_info=”{}”][et_pb_column type=”4_4″ _builder_version=”4.15″ custom_padding=”|||” global_colors_info=”{}” custom_padding__hover=”|||”][/et_pb_column][/et_pb_row][/et_pb_section]
URL:https://oakgrove-mbc.org/event/missions-sunday-special-offering-and-fellowship-luncheon/
LOCATION:Oak Grove\, 9457 Baumhart Road\, Amherst\, OH\, 44001\, United States
END:VEVENT
END:VCALENDAR