BEGIN:VCALENDAR
VERSION:2.0
PRODID:-//OGMBC - ECPv6.15.20//NONSGML v1.0//EN
CALSCALE:GREGORIAN
METHOD:PUBLISH
X-WR-CALNAME:OGMBC
X-ORIGINAL-URL:https://oakgrove-mbc.org
X-WR-CALDESC:Events for OGMBC
REFRESH-INTERVAL;VALUE=DURATION:PT1H
X-Robots-Tag:noindex
X-PUBLISHED-TTL:PT1H
BEGIN:VTIMEZONE
TZID:America/New_York
BEGIN:DAYLIGHT
TZOFFSETFROM:-0500
TZOFFSETTO:-0400
TZNAME:EDT
DTSTART:20210314T070000
END:DAYLIGHT
BEGIN:STANDARD
TZOFFSETFROM:-0400
TZOFFSETTO:-0500
TZNAME:EST
DTSTART:20211107T060000
END:STANDARD
BEGIN:DAYLIGHT
TZOFFSETFROM:-0500
TZOFFSETTO:-0400
TZNAME:EDT
DTSTART:20220313T070000
END:DAYLIGHT
BEGIN:STANDARD
TZOFFSETFROM:-0400
TZOFFSETTO:-0500
TZNAME:EST
DTSTART:20221106T060000
END:STANDARD
BEGIN:DAYLIGHT
TZOFFSETFROM:-0500
TZOFFSETTO:-0400
TZNAME:EDT
DTSTART:20230312T070000
END:DAYLIGHT
BEGIN:STANDARD
TZOFFSETFROM:-0400
TZOFFSETTO:-0500
TZNAME:EST
DTSTART:20231105T060000
END:STANDARD
BEGIN:DAYLIGHT
TZOFFSETFROM:-0500
TZOFFSETTO:-0400
TZNAME:EDT
DTSTART:20240310T070000
END:DAYLIGHT
BEGIN:STANDARD
TZOFFSETFROM:-0400
TZOFFSETTO:-0500
TZNAME:EST
DTSTART:20241103T060000
END:STANDARD
END:VTIMEZONE
BEGIN:VTIMEZONE
TZID:UTC
BEGIN:STANDARD
TZOFFSETFROM:+0000
TZOFFSETTO:+0000
TZNAME:UTC
DTSTART:20210101T000000
END:STANDARD
END:VTIMEZONE
BEGIN:VEVENT
DTSTART;TZID=America/New_York:20230125T180000
DTEND;TZID=America/New_York:20230125T190000
DTSTAMP:20260423T182033
CREATED:20230113T033222Z
LAST-MODIFIED:20230113T033222Z
UID:10000190-1674669600-1674673200@oakgrove-mbc.org
SUMMARY:Bible Study
DESCRIPTION:
URL:https://oakgrove-mbc.org/event/bible-study/2023-01-25/
LOCATION:OH
END:VEVENT
BEGIN:VEVENT
DTSTART;TZID=America/New_York:20230121T180000
DTEND;TZID=America/New_York:20230121T200000
DTSTAMP:20260423T182033
CREATED:20230113T032938Z
LAST-MODIFIED:20230113T032938Z
UID:10000178-1674324000-1674331200@oakgrove-mbc.org
SUMMARY:Gospel Singing
DESCRIPTION:Enjoy one hour of gospel singing followed by fellowship and food!
URL:https://oakgrove-mbc.org/event/gospel-singing/2023-01-21/
LOCATION:OH
END:VEVENT
BEGIN:VEVENT
DTSTART;TZID=America/New_York:20230118T180000
DTEND;TZID=America/New_York:20230118T190000
DTSTAMP:20260423T182033
CREATED:20230113T033222Z
LAST-MODIFIED:20230113T033222Z
UID:10000189-1674064800-1674068400@oakgrove-mbc.org
SUMMARY:Bible Study
DESCRIPTION:
URL:https://oakgrove-mbc.org/event/bible-study/2023-01-18/
LOCATION:OH
END:VEVENT
BEGIN:VEVENT
DTSTART;TZID=America/New_York:20230114T083000
DTEND;TZID=America/New_York:20230114T100000
DTSTAMP:20260423T182033
CREATED:20230110T033204Z
LAST-MODIFIED:20230110T035840Z
UID:10000064-1673685000-1673690400@oakgrove-mbc.org
SUMMARY:Men's Breakfast
DESCRIPTION:Opportunity to enjoy fellowship\, breakfast\, and a short bible study with men of the church.  The typical schedule includes: \n\n8:30am:  Cooking begins / good discussion\n9:00am:  Breakfast is served\n9:30am:  Short Bible Study\nFrom time-to-time several men stay longer at the church to focus attention on church cleaning or building projects.\n\nJoin us! \n \n 
URL:https://oakgrove-mbc.org/event/mens-breakfast-8/
LOCATION:OH
END:VEVENT
BEGIN:VEVENT
DTSTART;TZID=America/New_York:20230113T180000
DTEND;TZID=America/New_York:20230113T200000
DTSTAMP:20260423T182033
CREATED:20230113T033727Z
LAST-MODIFIED:20230113T033840Z
UID:10000239-1673632800-1673640000@oakgrove-mbc.org
SUMMARY:Family Fun Night
DESCRIPTION:Family Fun Nights are an opportunity to enjoy fellowship\, food\, and some fun.
URL:https://oakgrove-mbc.org/event/family-fun-night-2/2023-01-13/
LOCATION:OH
END:VEVENT
BEGIN:VEVENT
DTSTART;TZID=America/New_York:20230111T180000
DTEND;TZID=America/New_York:20230111T190000
DTSTAMP:20260423T182033
CREATED:20230113T033222Z
LAST-MODIFIED:20230113T033222Z
UID:10000188-1673460000-1673463600@oakgrove-mbc.org
SUMMARY:Bible Study
DESCRIPTION:
URL:https://oakgrove-mbc.org/event/bible-study/2023-01-11/
LOCATION:OH
END:VEVENT
BEGIN:VEVENT
DTSTART;TZID=America/New_York:20221218T180000
DTEND;TZID=America/New_York:20221218T210000
DTSTAMP:20260423T182033
CREATED:20221011T150435Z
LAST-MODIFIED:20221128T223604Z
UID:10000060-1671386400-1671397200@oakgrove-mbc.org
SUMMARY:Christmas Dinner Theater
DESCRIPTION:Come and enjoy dinner and watch Good News Great Joy by Heidi Olson
URL:https://oakgrove-mbc.org/event/christmas-dinner-theater/
LOCATION:OH
END:VEVENT
BEGIN:VEVENT
DTSTART;TZID=America/New_York:20221217T083000
DTEND;TZID=America/New_York:20221217T093000
DTSTAMP:20260423T182033
CREATED:20221011T150309Z
LAST-MODIFIED:20240323T051104Z
UID:10000059-1671265800-1671269400@oakgrove-mbc.org
SUMMARY:Holiday Basket Assembly
DESCRIPTION:Volunteers gather at OGMBC to assemble Holiday Baskets.  Great fun!
URL:https://oakgrove-mbc.org/event/holiday-basket-assembly/2022-12-17/
LOCATION:OH
END:VEVENT
BEGIN:VEVENT
DTSTART;TZID=America/New_York:20221210T083000
DTEND;TZID=America/New_York:20221210T100000
DTSTAMP:20260423T182033
CREATED:20221011T150225Z
LAST-MODIFIED:20221011T151014Z
UID:10000058-1670661000-1670666400@oakgrove-mbc.org
SUMMARY:Men’s Breakfast
DESCRIPTION:Men’s Breakfast
URL:https://oakgrove-mbc.org/event/mens-breakfast-7/
LOCATION:OH
END:VEVENT
BEGIN:VEVENT
DTSTART;TZID=America/New_York:20221204T110000
DTEND;TZID=America/New_York:20221204T150000
DTSTAMP:20260423T182033
CREATED:20221011T150142Z
LAST-MODIFIED:20221011T150142Z
UID:10000057-1670151600-1670166000@oakgrove-mbc.org
SUMMARY:Mission’s Sunday (special offering) and Fellowship Luncheon
DESCRIPTION:Come to Church and stay for the Luncheon
URL:https://oakgrove-mbc.org/event/missions-sunday-special-offering-and-fellowship-luncheon-9/
LOCATION:OH
END:VEVENT
BEGIN:VEVENT
DTSTART;TZID=America/New_York:20221119T183000
DTEND;TZID=America/New_York:20221119T210000
DTSTAMP:20260423T182033
CREATED:20221011T150042Z
LAST-MODIFIED:20221011T150042Z
UID:10000056-1668882600-1668891600@oakgrove-mbc.org
SUMMARY:Christmas Craft Night
DESCRIPTION:Christmas Craft Night
URL:https://oakgrove-mbc.org/event/christmas-craft-night/
LOCATION:OH
END:VEVENT
BEGIN:VEVENT
DTSTART;TZID=America/New_York:20221112T083000
DTEND;TZID=America/New_York:20221112T100000
DTSTAMP:20260423T182033
CREATED:20221011T150003Z
LAST-MODIFIED:20221011T150003Z
UID:10000055-1668241800-1668247200@oakgrove-mbc.org
SUMMARY:Men’s Breakfast
DESCRIPTION:Men’s Breakfast
URL:https://oakgrove-mbc.org/event/mens-breakfast-6/
LOCATION:OH
END:VEVENT
BEGIN:VEVENT
DTSTART;TZID=America/New_York:20221106T110000
DTEND;TZID=America/New_York:20221106T150000
DTSTAMP:20260423T182033
CREATED:20221011T145908Z
LAST-MODIFIED:20221011T150842Z
UID:10000054-1667732400-1667746800@oakgrove-mbc.org
SUMMARY:Mission’s Sunday (special offering) and Fellowship Luncheon
DESCRIPTION:Come to Church and stay for the Luncheon
URL:https://oakgrove-mbc.org/event/missions-sunday-special-offering-and-fellowship-luncheon-8/
LOCATION:OH
END:VEVENT
BEGIN:VEVENT
DTSTART;TZID=America/New_York:20221015T183000
DTEND;TZID=America/New_York:20221015T210000
DTSTAMP:20260423T182033
CREATED:20221011T145756Z
LAST-MODIFIED:20221011T145756Z
UID:10000053-1665858600-1665867600@oakgrove-mbc.org
SUMMARY:Craft Night
DESCRIPTION:Craft Night starts at 6:30 PM.
URL:https://oakgrove-mbc.org/event/craft-night/
LOCATION:OH
END:VEVENT
BEGIN:VEVENT
DTSTART;TZID=UTC:20221002T123000
DTEND;TZID=UTC:20221002T133000
DTSTAMP:20260423T182033
CREATED:20220823T011553Z
LAST-MODIFIED:20220823T011553Z
UID:10000052-1664713800-1664717400@oakgrove-mbc.org
SUMMARY:Business Meeting
DESCRIPTION:
URL:https://oakgrove-mbc.org/event/business-meeting/
LOCATION:Oak Grove\, 9457 Baumhart Road\, Amherst\, OH\, 44001\, United States
END:VEVENT
BEGIN:VEVENT
DTSTART;VALUE=DATE:20221002
DTEND;VALUE=DATE:20221003
DTSTAMP:20260423T182033
CREATED:20220823T011506Z
LAST-MODIFIED:20220823T011506Z
UID:10000051-1664668800-1664755199@oakgrove-mbc.org
SUMMARY:Mission’s Sunday (special offering) and Fellowship Luncheon
DESCRIPTION:
URL:https://oakgrove-mbc.org/event/missions-sunday-special-offering-and-fellowship-luncheon-7/
LOCATION:Oak Grove\, 9457 Baumhart Road\, Amherst\, OH\, 44001\, United States
END:VEVENT
BEGIN:VEVENT
DTSTART;TZID=UTC:20220917T170000
DTEND;TZID=UTC:20220917T180000
DTSTAMP:20260423T182033
CREATED:20220823T011409Z
LAST-MODIFIED:20220823T011409Z
UID:10000050-1663434000-1663437600@oakgrove-mbc.org
SUMMARY:Business Discussion
DESCRIPTION:
URL:https://oakgrove-mbc.org/event/business-discussion/
LOCATION:Oak Grove\, 9457 Baumhart Road\, Amherst\, OH\, 44001\, United States
END:VEVENT
BEGIN:VEVENT
DTSTART;TZID=UTC:20220910T170000
DTEND;TZID=UTC:20220910T200000
DTSTAMP:20260423T182033
CREATED:20220823T004337Z
LAST-MODIFIED:20220823T004337Z
UID:10000049-1662829200-1662840000@oakgrove-mbc.org
SUMMARY:Mission’s Singing
DESCRIPTION:
URL:https://oakgrove-mbc.org/event/missions-singing/
LOCATION:Oak Grove\, 9457 Baumhart Road\, Amherst\, OH\, 44001\, United States
END:VEVENT
BEGIN:VEVENT
DTSTART;TZID=UTC:20220910T083000
DTEND;TZID=UTC:20220910T110000
DTSTAMP:20260423T182033
CREATED:20220823T004247Z
LAST-MODIFIED:20220823T004247Z
UID:10000048-1662798600-1662807600@oakgrove-mbc.org
SUMMARY:Men’s Breakfast
DESCRIPTION:
URL:https://oakgrove-mbc.org/event/mens-breakfast-4/
LOCATION:Oak Grove\, 9457 Baumhart Road\, Amherst\, OH\, 44001\, United States
END:VEVENT
BEGIN:VEVENT
DTSTART;VALUE=DATE:20220904
DTEND;VALUE=DATE:20220905
DTSTAMP:20260423T182033
CREATED:20220823T004153Z
LAST-MODIFIED:20220823T011617Z
UID:10000047-1662249600-1662335999@oakgrove-mbc.org
SUMMARY:Mission’s Sunday (special offering) and Fellowship Luncheon
DESCRIPTION:
URL:https://oakgrove-mbc.org/event/missions-sunday-special-offering-and-fellowship-luncheon-6/
LOCATION:Oak Grove\, 9457 Baumhart Road\, Amherst\, OH\, 44001\, United States
END:VEVENT
BEGIN:VEVENT
DTSTART;TZID=UTC:20220821T110000
DTEND;TZID=UTC:20220821T130000
DTSTAMP:20260423T182033
CREATED:20220328T174205Z
LAST-MODIFIED:20220328T174212Z
UID:10000046-1661079600-1661086800@oakgrove-mbc.org
SUMMARY:Homecoming Service
DESCRIPTION:
URL:https://oakgrove-mbc.org/event/homecoming-service/
LOCATION:Oak Grove\, 9457 Baumhart Road\, Amherst\, OH\, 44001\, United States
END:VEVENT
BEGIN:VEVENT
DTSTART;TZID=America/New_York:20220813T083000
DTEND;TZID=America/New_York:20220813T123000
DTSTAMP:20260423T182033
CREATED:20220328T174111Z
LAST-MODIFIED:20220328T174111Z
UID:10000045-1660379400-1660393800@oakgrove-mbc.org
SUMMARY:Men’s Breakfast / Clay-Pigeon Shoot
DESCRIPTION:
URL:https://oakgrove-mbc.org/event/mens-breakfast-clay-pigeon-shoot/
LOCATION:Oak Grove\, 9457 Baumhart Road\, Amherst\, OH\, 44001\, United States
END:VEVENT
BEGIN:VEVENT
DTSTART;TZID=UTC:20220807T110000
DTEND;TZID=UTC:20220807T143000
DTSTAMP:20260423T182033
CREATED:20220328T173822Z
LAST-MODIFIED:20220328T173830Z
UID:10000044-1659870000-1659882600@oakgrove-mbc.org
SUMMARY:Mission’s Sunday (special offering) and Fellowship Luncheon
DESCRIPTION:
URL:https://oakgrove-mbc.org/event/missions-sunday-special-offering-and-fellowship-luncheon-5/
LOCATION:Oak Grove\, 9457 Baumhart Road\, Amherst\, OH\, 44001\, United States
END:VEVENT
BEGIN:VEVENT
DTSTART;TZID=America/New_York:20220709T083000
DTEND;TZID=America/New_York:20220709T103000
DTSTAMP:20260423T182033
CREATED:20220328T173733Z
LAST-MODIFIED:20220328T173733Z
UID:10000043-1657355400-1657362600@oakgrove-mbc.org
SUMMARY:Men’s Breakfast
DESCRIPTION:
URL:https://oakgrove-mbc.org/event/mens-breakfast-5/
LOCATION:OH
END:VEVENT
BEGIN:VEVENT
DTSTART;TZID=America/New_York:20220703T110000
DTEND;TZID=America/New_York:20220703T140000
DTSTAMP:20260423T182033
CREATED:20220327T081912Z
LAST-MODIFIED:20220327T081912Z
UID:10000042-1656846000-1656856800@oakgrove-mbc.org
SUMMARY:Mission’s Sunday (special offering) and Fellowship Luncheon
DESCRIPTION:
URL:https://oakgrove-mbc.org/event/missions-sunday-special-offering-and-fellowship-luncheon-4/
LOCATION:Oak Grove\, 9457 Baumhart Road\, Amherst\, OH\, 44001\, United States
END:VEVENT
BEGIN:VEVENT
DTSTART;TZID=America/New_York:20220611T083000
DTEND;TZID=America/New_York:20220611T103000
DTSTAMP:20260423T182033
CREATED:20220327T081756Z
LAST-MODIFIED:20220327T081756Z
UID:10000041-1654936200-1654943400@oakgrove-mbc.org
SUMMARY:Men’s Breakfast
DESCRIPTION:
URL:https://oakgrove-mbc.org/event/mens-breakfast-3/
LOCATION:Oak Grove\, 9457 Baumhart Road\, Amherst\, OH\, 44001\, United States
END:VEVENT
BEGIN:VEVENT
DTSTART;TZID=America/New_York:20220605T110000
DTEND;TZID=America/New_York:20220605T140000
DTSTAMP:20260423T182033
CREATED:20220327T081713Z
LAST-MODIFIED:20220327T081713Z
UID:10000040-1654426800-1654437600@oakgrove-mbc.org
SUMMARY:Mission’s Sunday (special offering) and Fellowship Luncheon
DESCRIPTION:
URL:https://oakgrove-mbc.org/event/missions-sunday-special-offering-and-fellowship-luncheon-3/
LOCATION:Oak Grove\, 9457 Baumhart Road\, Amherst\, OH\, 44001\, United States
END:VEVENT
BEGIN:VEVENT
DTSTART;TZID=America/New_York:20220514T083000
DTEND;TZID=America/New_York:20220514T103000
DTSTAMP:20260423T182033
CREATED:20220327T081548Z
LAST-MODIFIED:20220327T081548Z
UID:10000039-1652517000-1652524200@oakgrove-mbc.org
SUMMARY:Men’s Breakfast
DESCRIPTION:
URL:https://oakgrove-mbc.org/event/mens-breakfast-2/
LOCATION:Oak Grove\, 9457 Baumhart Road\, Amherst\, OH\, 44001\, United States
END:VEVENT
BEGIN:VEVENT
DTSTART;TZID=America/New_York:20220508T110000
DTEND;TZID=America/New_York:20220508T123000
DTSTAMP:20260423T182033
CREATED:20220327T081459Z
LAST-MODIFIED:20220327T081459Z
UID:10000038-1652007600-1652013000@oakgrove-mbc.org
SUMMARY:Mother’s Day Service
DESCRIPTION:
URL:https://oakgrove-mbc.org/event/mothers-day-service/
LOCATION:Oak Grove\, 9457 Baumhart Road\, Amherst\, OH\, 44001\, United States
END:VEVENT
BEGIN:VEVENT
DTSTART;TZID=America/New_York:20220507T083000
DTEND;TZID=America/New_York:20220507T103000
DTSTAMP:20260423T182033
CREATED:20220327T081404Z
LAST-MODIFIED:20220327T081404Z
UID:10000037-1651912200-1651919400@oakgrove-mbc.org
SUMMARY:Spring Clean-up
DESCRIPTION:
URL:https://oakgrove-mbc.org/event/spring-clean-up/
LOCATION:Oak Grove\, 9457 Baumhart Road\, Amherst\, OH\, 44001\, United States
END:VEVENT
END:VCALENDAR