BEGIN:VCALENDAR
VERSION:2.0
PRODID:-//OGMBC - ECPv6.15.20//NONSGML v1.0//EN
CALSCALE:GREGORIAN
METHOD:PUBLISH
X-WR-CALNAME:OGMBC
X-ORIGINAL-URL:https://oakgrove-mbc.org
X-WR-CALDESC:Events for OGMBC
REFRESH-INTERVAL;VALUE=DURATION:PT1H
X-Robots-Tag:noindex
X-PUBLISHED-TTL:PT1H
BEGIN:VTIMEZONE
TZID:America/New_York
BEGIN:DAYLIGHT
TZOFFSETFROM:-0500
TZOFFSETTO:-0400
TZNAME:EDT
DTSTART:20220313T070000
END:DAYLIGHT
BEGIN:STANDARD
TZOFFSETFROM:-0400
TZOFFSETTO:-0500
TZNAME:EST
DTSTART:20221106T060000
END:STANDARD
BEGIN:DAYLIGHT
TZOFFSETFROM:-0500
TZOFFSETTO:-0400
TZNAME:EDT
DTSTART:20230312T070000
END:DAYLIGHT
BEGIN:STANDARD
TZOFFSETFROM:-0400
TZOFFSETTO:-0500
TZNAME:EST
DTSTART:20231105T060000
END:STANDARD
BEGIN:DAYLIGHT
TZOFFSETFROM:-0500
TZOFFSETTO:-0400
TZNAME:EDT
DTSTART:20240310T070000
END:DAYLIGHT
BEGIN:STANDARD
TZOFFSETFROM:-0400
TZOFFSETTO:-0500
TZNAME:EST
DTSTART:20241103T060000
END:STANDARD
END:VTIMEZONE
BEGIN:VEVENT
DTSTART;TZID=America/New_York:20230412T180000
DTEND;TZID=America/New_York:20230412T190000
DTSTAMP:20260423T200354
CREATED:20230113T033222Z
LAST-MODIFIED:20230113T033222Z
UID:10000201-1681322400-1681326000@oakgrove-mbc.org
SUMMARY:Bible Study
DESCRIPTION:
URL:https://oakgrove-mbc.org/event/bible-study/2023-04-12/
LOCATION:OH
END:VEVENT
BEGIN:VEVENT
DTSTART;TZID=America/New_York:20230409T180000
DTEND;TZID=America/New_York:20230409T190000
DTSTAMP:20260423T200354
CREATED:20230306T010438Z
LAST-MODIFIED:20230306T010716Z
UID:10000416-1681063200-1681066800@oakgrove-mbc.org
SUMMARY:Soul Winners' Club
DESCRIPTION:After much delay due to situations out of our control I\, Pastor Dorsey\, would like to announce that on March 19\, 6pm Oak Grove will begin training The Soul Winners’ Club\, which is a biblical program designed to “use the early church soul-winning fervor of ‘yesterday’ to train Christians how to win people to Jesus Christ ‘today’ in order that they may be able to experience eternal life ‘tomorrow.'” The Soul Winners’ Club is taught over a 12-week period. It is a highly effective training program that over the years has been used successfully to lead literally thousands to the Lord.
URL:https://oakgrove-mbc.org/event/soul-winners-club/2023-04-09/
LOCATION:Oak Grove\, 9457 Baumhart Road\, Amherst\, OH\, 44001\, United States
END:VEVENT
BEGIN:VEVENT
DTSTART;TZID=America/New_York:20230409T123000
DTEND;TZID=America/New_York:20230409T133000
DTSTAMP:20260423T200354
CREATED:20230306T011617Z
LAST-MODIFIED:20230306T011617Z
UID:10000427-1681043400-1681047000@oakgrove-mbc.org
SUMMARY:Easter Egg Hunt
DESCRIPTION:This fun activity for children will occur immediately following the morning church service
URL:https://oakgrove-mbc.org/event/easter-egg-hunt/
LOCATION:Oak Grove\, 9457 Baumhart Road\, Amherst\, OH\, 44001\, United States
END:VEVENT
BEGIN:VEVENT
DTSTART;TZID=America/New_York:20230408T083000
DTEND;TZID=America/New_York:20230408T100000
DTSTAMP:20260423T200354
CREATED:20230111T132625Z
LAST-MODIFIED:20230114T031715Z
UID:10000069-1680942600-1680948000@oakgrove-mbc.org
SUMMARY:Men's Breakfast
DESCRIPTION:Opportunity to enjoy fellowship\, breakfast\, and a short bible study with men of the church.  The typical schedule includes:\n\n\n8:30am:  Cooking begins / good discussion\n\n\n9:00am:  Breakfast is served\n\n\n9:30am:  Short Bible Study\n\n\nFrom time-to-time several men stay longer at the church to focus attention on church cleaning or building projects.\n\n\nJoin us!\n \n 
URL:https://oakgrove-mbc.org/event/mens-breakfast-9/2023-04-08/
LOCATION:OH
END:VEVENT
BEGIN:VEVENT
DTSTART;TZID=America/New_York:20230405T180000
DTEND;TZID=America/New_York:20230405T190000
DTSTAMP:20260423T200354
CREATED:20230113T033222Z
LAST-MODIFIED:20230113T033222Z
UID:10000200-1680717600-1680721200@oakgrove-mbc.org
SUMMARY:Bible Study
DESCRIPTION:
URL:https://oakgrove-mbc.org/event/bible-study/2023-04-05/
LOCATION:OH
END:VEVENT
BEGIN:VEVENT
DTSTART;TZID=America/New_York:20230402T180000
DTEND;TZID=America/New_York:20230402T190000
DTSTAMP:20260423T200354
CREATED:20230306T010438Z
LAST-MODIFIED:20230306T010716Z
UID:10000415-1680458400-1680462000@oakgrove-mbc.org
SUMMARY:Soul Winners' Club
DESCRIPTION:After much delay due to situations out of our control I\, Pastor Dorsey\, would like to announce that on March 19\, 6pm Oak Grove will begin training The Soul Winners’ Club\, which is a biblical program designed to “use the early church soul-winning fervor of ‘yesterday’ to train Christians how to win people to Jesus Christ ‘today’ in order that they may be able to experience eternal life ‘tomorrow.'” The Soul Winners’ Club is taught over a 12-week period. It is a highly effective training program that over the years has been used successfully to lead literally thousands to the Lord.
URL:https://oakgrove-mbc.org/event/soul-winners-club/2023-04-02/
LOCATION:Oak Grove\, 9457 Baumhart Road\, Amherst\, OH\, 44001\, United States
END:VEVENT
BEGIN:VEVENT
DTSTART;TZID=America/New_York:20230329T180000
DTEND;TZID=America/New_York:20230329T190000
DTSTAMP:20260423T200354
CREATED:20230113T033222Z
LAST-MODIFIED:20230113T033222Z
UID:10000199-1680112800-1680116400@oakgrove-mbc.org
SUMMARY:Bible Study
DESCRIPTION:
URL:https://oakgrove-mbc.org/event/bible-study/2023-03-29/
LOCATION:OH
END:VEVENT
BEGIN:VEVENT
DTSTART;TZID=America/New_York:20230326T180000
DTEND;TZID=America/New_York:20230326T190000
DTSTAMP:20260423T200354
CREATED:20230306T010438Z
LAST-MODIFIED:20230306T010716Z
UID:10000414-1679853600-1679857200@oakgrove-mbc.org
SUMMARY:Soul Winners' Club
DESCRIPTION:After much delay due to situations out of our control I\, Pastor Dorsey\, would like to announce that on March 19\, 6pm Oak Grove will begin training The Soul Winners’ Club\, which is a biblical program designed to “use the early church soul-winning fervor of ‘yesterday’ to train Christians how to win people to Jesus Christ ‘today’ in order that they may be able to experience eternal life ‘tomorrow.'” The Soul Winners’ Club is taught over a 12-week period. It is a highly effective training program that over the years has been used successfully to lead literally thousands to the Lord.
URL:https://oakgrove-mbc.org/event/soul-winners-club/2023-03-26/
LOCATION:Oak Grove\, 9457 Baumhart Road\, Amherst\, OH\, 44001\, United States
END:VEVENT
BEGIN:VEVENT
DTSTART;TZID=America/New_York:20230322T180000
DTEND;TZID=America/New_York:20230322T190000
DTSTAMP:20260423T200354
CREATED:20230113T033222Z
LAST-MODIFIED:20230113T033222Z
UID:10000198-1679508000-1679511600@oakgrove-mbc.org
SUMMARY:Bible Study
DESCRIPTION:
URL:https://oakgrove-mbc.org/event/bible-study/2023-03-22/
LOCATION:OH
END:VEVENT
BEGIN:VEVENT
DTSTART;TZID=America/New_York:20230320T120000
DTEND;TZID=America/New_York:20230320T133000
DTSTAMP:20260423T200354
CREATED:20230114T035110Z
LAST-MODIFIED:20230114T035110Z
UID:10000350-1679313600-1679319000@oakgrove-mbc.org
SUMMARY:Silver Saints
DESCRIPTION:Luncheon / Fellowship for Adults 50 years and older.
URL:https://oakgrove-mbc.org/event/silver-saints/2023-03-20/
LOCATION:OH
END:VEVENT
BEGIN:VEVENT
DTSTART;TZID=America/New_York:20230319T180000
DTEND;TZID=America/New_York:20230319T190000
DTSTAMP:20260423T200354
CREATED:20230306T010438Z
LAST-MODIFIED:20230306T010716Z
UID:10000412-1679248800-1679252400@oakgrove-mbc.org
SUMMARY:Soul Winners' Club
DESCRIPTION:After much delay due to situations out of our control I\, Pastor Dorsey\, would like to announce that on March 19\, 6pm Oak Grove will begin training The Soul Winners’ Club\, which is a biblical program designed to “use the early church soul-winning fervor of ‘yesterday’ to train Christians how to win people to Jesus Christ ‘today’ in order that they may be able to experience eternal life ‘tomorrow.'” The Soul Winners’ Club is taught over a 12-week period. It is a highly effective training program that over the years has been used successfully to lead literally thousands to the Lord.
URL:https://oakgrove-mbc.org/event/soul-winners-club/2023-03-19/
LOCATION:Oak Grove\, 9457 Baumhart Road\, Amherst\, OH\, 44001\, United States
END:VEVENT
BEGIN:VEVENT
DTSTART;TZID=America/New_York:20230318T180000
DTEND;TZID=America/New_York:20230318T200000
DTSTAMP:20260423T200354
CREATED:20230306T015533Z
LAST-MODIFIED:20230306T015546Z
UID:10000180-1679162400-1679169600@oakgrove-mbc.org
SUMMARY:Gospel Singing
DESCRIPTION:Enjoy one hour of gospel singing followed by fellowship and food!
URL:https://oakgrove-mbc.org/event/gospel-singing-2/2023-03-18/
LOCATION:OH
END:VEVENT
BEGIN:VEVENT
DTSTART;TZID=America/New_York:20230317T193000
DTEND;TZID=America/New_York:20230317T210000
DTSTAMP:20260423T200354
CREATED:20230306T011417Z
LAST-MODIFIED:20230306T011417Z
UID:10000426-1679081400-1679086800@oakgrove-mbc.org
SUMMARY:Safety for Faith-Based Events
DESCRIPTION:Church security training is coming to OGMBC (Oak Grove Missionary Baptist Church – Amherst\, OH) please If your church doesn’t have a security plan please come learn the ins and outs by trained professionals. \n 
URL:https://oakgrove-mbc.org/event/safety-for-faith-based-events/
LOCATION:Oak Grove\, 9457 Baumhart Road\, Amherst\, OH\, 44001\, United States
END:VEVENT
BEGIN:VEVENT
DTSTART;TZID=America/New_York:20230315T180000
DTEND;TZID=America/New_York:20230315T190000
DTSTAMP:20260423T200354
CREATED:20230113T033222Z
LAST-MODIFIED:20230113T033222Z
UID:10000197-1678903200-1678906800@oakgrove-mbc.org
SUMMARY:Bible Study
DESCRIPTION:
URL:https://oakgrove-mbc.org/event/bible-study/2023-03-15/
LOCATION:OH
END:VEVENT
BEGIN:VEVENT
DTSTART;TZID=America/New_York:20230311T083000
DTEND;TZID=America/New_York:20230311T100000
DTSTAMP:20260423T200354
CREATED:20230111T132625Z
LAST-MODIFIED:20230114T031715Z
UID:10000068-1678523400-1678528800@oakgrove-mbc.org
SUMMARY:Men's Breakfast
DESCRIPTION:Opportunity to enjoy fellowship\, breakfast\, and a short bible study with men of the church.  The typical schedule includes:\n\n\n8:30am:  Cooking begins / good discussion\n\n\n9:00am:  Breakfast is served\n\n\n9:30am:  Short Bible Study\n\n\nFrom time-to-time several men stay longer at the church to focus attention on church cleaning or building projects.\n\n\nJoin us!\n \n 
URL:https://oakgrove-mbc.org/event/mens-breakfast-9/2023-03-11/
LOCATION:OH
END:VEVENT
BEGIN:VEVENT
DTSTART;TZID=America/New_York:20230310T180000
DTEND;TZID=America/New_York:20230310T200000
DTSTAMP:20260423T200354
CREATED:20230113T033727Z
LAST-MODIFIED:20230113T033840Z
UID:10000241-1678471200-1678478400@oakgrove-mbc.org
SUMMARY:Family Fun Night
DESCRIPTION:Family Fun Nights are an opportunity to enjoy fellowship\, food\, and some fun.
URL:https://oakgrove-mbc.org/event/family-fun-night-2/2023-03-10/
LOCATION:OH
END:VEVENT
BEGIN:VEVENT
DTSTART;TZID=America/New_York:20230308T180000
DTEND;TZID=America/New_York:20230308T190000
DTSTAMP:20260423T200354
CREATED:20230113T033222Z
LAST-MODIFIED:20230113T033222Z
UID:10000196-1678298400-1678302000@oakgrove-mbc.org
SUMMARY:Bible Study
DESCRIPTION:
URL:https://oakgrove-mbc.org/event/bible-study/2023-03-08/
LOCATION:OH
END:VEVENT
BEGIN:VEVENT
DTSTART;TZID=America/New_York:20230301T180000
DTEND;TZID=America/New_York:20230301T190000
DTSTAMP:20260423T200354
CREATED:20230113T033222Z
LAST-MODIFIED:20230113T033222Z
UID:10000195-1677693600-1677697200@oakgrove-mbc.org
SUMMARY:Bible Study
DESCRIPTION:
URL:https://oakgrove-mbc.org/event/bible-study/2023-03-01/
LOCATION:OH
END:VEVENT
BEGIN:VEVENT
DTSTART;TZID=America/New_York:20230222T180000
DTEND;TZID=America/New_York:20230222T190000
DTSTAMP:20260423T200354
CREATED:20230113T033222Z
LAST-MODIFIED:20230113T033222Z
UID:10000194-1677088800-1677092400@oakgrove-mbc.org
SUMMARY:Bible Study
DESCRIPTION:
URL:https://oakgrove-mbc.org/event/bible-study/2023-02-22/
LOCATION:OH
END:VEVENT
BEGIN:VEVENT
DTSTART;TZID=America/New_York:20230218T180000
DTEND;TZID=America/New_York:20230218T200000
DTSTAMP:20260423T200354
CREATED:20230113T032938Z
LAST-MODIFIED:20230113T032938Z
UID:10000179-1676743200-1676750400@oakgrove-mbc.org
SUMMARY:Gospel Singing
DESCRIPTION:Enjoy one hour of gospel singing followed by fellowship and food!
URL:https://oakgrove-mbc.org/event/gospel-singing/2023-02-18/
LOCATION:OH
END:VEVENT
BEGIN:VEVENT
DTSTART;TZID=America/New_York:20230215T180000
DTEND;TZID=America/New_York:20230215T190000
DTSTAMP:20260423T200354
CREATED:20230113T033222Z
LAST-MODIFIED:20230113T033222Z
UID:10000193-1676484000-1676487600@oakgrove-mbc.org
SUMMARY:Bible Study
DESCRIPTION:
URL:https://oakgrove-mbc.org/event/bible-study/2023-02-15/
LOCATION:OH
END:VEVENT
BEGIN:VEVENT
DTSTART;TZID=America/New_York:20230211T083000
DTEND;TZID=America/New_York:20230211T100000
DTSTAMP:20260423T200354
CREATED:20230111T132625Z
LAST-MODIFIED:20230114T031715Z
UID:10000067-1676104200-1676109600@oakgrove-mbc.org
SUMMARY:Men's Breakfast
DESCRIPTION:Opportunity to enjoy fellowship\, breakfast\, and a short bible study with men of the church.  The typical schedule includes:\n\n\n8:30am:  Cooking begins / good discussion\n\n\n9:00am:  Breakfast is served\n\n\n9:30am:  Short Bible Study\n\n\nFrom time-to-time several men stay longer at the church to focus attention on church cleaning or building projects.\n\n\nJoin us!\n \n 
URL:https://oakgrove-mbc.org/event/mens-breakfast-9/2023-02-11/
LOCATION:OH
END:VEVENT
BEGIN:VEVENT
DTSTART;TZID=America/New_York:20230210T180000
DTEND;TZID=America/New_York:20230210T200000
DTSTAMP:20260423T200354
CREATED:20230113T033727Z
LAST-MODIFIED:20230113T033840Z
UID:10000240-1676052000-1676059200@oakgrove-mbc.org
SUMMARY:Family Fun Night
DESCRIPTION:Family Fun Nights are an opportunity to enjoy fellowship\, food\, and some fun.
URL:https://oakgrove-mbc.org/event/family-fun-night-2/2023-02-10/
LOCATION:OH
END:VEVENT
BEGIN:VEVENT
DTSTART;TZID=America/New_York:20230208T180000
DTEND;TZID=America/New_York:20230208T190000
DTSTAMP:20260423T200354
CREATED:20230113T033222Z
LAST-MODIFIED:20230113T033222Z
UID:10000192-1675879200-1675882800@oakgrove-mbc.org
SUMMARY:Bible Study
DESCRIPTION:
URL:https://oakgrove-mbc.org/event/bible-study/2023-02-08/
LOCATION:OH
END:VEVENT
BEGIN:VEVENT
DTSTART;TZID=America/New_York:20230201T180000
DTEND;TZID=America/New_York:20230201T190000
DTSTAMP:20260423T200354
CREATED:20230113T033222Z
LAST-MODIFIED:20230113T033222Z
UID:10000191-1675274400-1675278000@oakgrove-mbc.org
SUMMARY:Bible Study
DESCRIPTION:
URL:https://oakgrove-mbc.org/event/bible-study/2023-02-01/
LOCATION:OH
END:VEVENT
BEGIN:VEVENT
DTSTART;TZID=America/New_York:20230125T180000
DTEND;TZID=America/New_York:20230125T190000
DTSTAMP:20260423T200354
CREATED:20230113T033222Z
LAST-MODIFIED:20230113T033222Z
UID:10000190-1674669600-1674673200@oakgrove-mbc.org
SUMMARY:Bible Study
DESCRIPTION:
URL:https://oakgrove-mbc.org/event/bible-study/2023-01-25/
LOCATION:OH
END:VEVENT
BEGIN:VEVENT
DTSTART;TZID=America/New_York:20230121T180000
DTEND;TZID=America/New_York:20230121T200000
DTSTAMP:20260423T200354
CREATED:20230113T032938Z
LAST-MODIFIED:20230113T032938Z
UID:10000178-1674324000-1674331200@oakgrove-mbc.org
SUMMARY:Gospel Singing
DESCRIPTION:Enjoy one hour of gospel singing followed by fellowship and food!
URL:https://oakgrove-mbc.org/event/gospel-singing/2023-01-21/
LOCATION:OH
END:VEVENT
BEGIN:VEVENT
DTSTART;TZID=America/New_York:20230118T180000
DTEND;TZID=America/New_York:20230118T190000
DTSTAMP:20260423T200354
CREATED:20230113T033222Z
LAST-MODIFIED:20230113T033222Z
UID:10000189-1674064800-1674068400@oakgrove-mbc.org
SUMMARY:Bible Study
DESCRIPTION:
URL:https://oakgrove-mbc.org/event/bible-study/2023-01-18/
LOCATION:OH
END:VEVENT
BEGIN:VEVENT
DTSTART;TZID=America/New_York:20230114T083000
DTEND;TZID=America/New_York:20230114T100000
DTSTAMP:20260423T200354
CREATED:20230110T033204Z
LAST-MODIFIED:20230110T035840Z
UID:10000064-1673685000-1673690400@oakgrove-mbc.org
SUMMARY:Men's Breakfast
DESCRIPTION:Opportunity to enjoy fellowship\, breakfast\, and a short bible study with men of the church.  The typical schedule includes: \n\n8:30am:  Cooking begins / good discussion\n9:00am:  Breakfast is served\n9:30am:  Short Bible Study\nFrom time-to-time several men stay longer at the church to focus attention on church cleaning or building projects.\n\nJoin us! \n \n 
URL:https://oakgrove-mbc.org/event/mens-breakfast-8/
LOCATION:OH
END:VEVENT
BEGIN:VEVENT
DTSTART;TZID=America/New_York:20230113T180000
DTEND;TZID=America/New_York:20230113T200000
DTSTAMP:20260423T200354
CREATED:20230113T033727Z
LAST-MODIFIED:20230113T033840Z
UID:10000239-1673632800-1673640000@oakgrove-mbc.org
SUMMARY:Family Fun Night
DESCRIPTION:Family Fun Nights are an opportunity to enjoy fellowship\, food\, and some fun.
URL:https://oakgrove-mbc.org/event/family-fun-night-2/2023-01-13/
LOCATION:OH
END:VEVENT
END:VCALENDAR