BEGIN:VCALENDAR
VERSION:2.0
PRODID:-//OGMBC - ECPv6.15.20//NONSGML v1.0//EN
CALSCALE:GREGORIAN
METHOD:PUBLISH
X-WR-CALNAME:OGMBC
X-ORIGINAL-URL:https://oakgrove-mbc.org
X-WR-CALDESC:Events for OGMBC
REFRESH-INTERVAL;VALUE=DURATION:PT1H
X-Robots-Tag:noindex
X-PUBLISHED-TTL:PT1H
BEGIN:VTIMEZONE
TZID:America/New_York
BEGIN:DAYLIGHT
TZOFFSETFROM:-0500
TZOFFSETTO:-0400
TZNAME:EDT
DTSTART:20220313T070000
END:DAYLIGHT
BEGIN:STANDARD
TZOFFSETFROM:-0400
TZOFFSETTO:-0500
TZNAME:EST
DTSTART:20221106T060000
END:STANDARD
BEGIN:DAYLIGHT
TZOFFSETFROM:-0500
TZOFFSETTO:-0400
TZNAME:EDT
DTSTART:20230312T070000
END:DAYLIGHT
BEGIN:STANDARD
TZOFFSETFROM:-0400
TZOFFSETTO:-0500
TZNAME:EST
DTSTART:20231105T060000
END:STANDARD
BEGIN:DAYLIGHT
TZOFFSETFROM:-0500
TZOFFSETTO:-0400
TZNAME:EDT
DTSTART:20240310T070000
END:DAYLIGHT
BEGIN:STANDARD
TZOFFSETFROM:-0400
TZOFFSETTO:-0500
TZNAME:EST
DTSTART:20241103T060000
END:STANDARD
END:VTIMEZONE
BEGIN:VEVENT
DTSTART;TZID=America/New_York:20230812T083000
DTEND;TZID=America/New_York:20230812T100000
DTSTAMP:20260424T003441
CREATED:20230111T132625Z
LAST-MODIFIED:20230114T031715Z
UID:10000073-1691829000-1691834400@oakgrove-mbc.org
SUMMARY:Men's Breakfast
DESCRIPTION:Opportunity to enjoy fellowship\, breakfast\, and a short bible study with men of the church.  The typical schedule includes:\n\n\n8:30am:  Cooking begins / good discussion\n\n\n9:00am:  Breakfast is served\n\n\n9:30am:  Short Bible Study\n\n\nFrom time-to-time several men stay longer at the church to focus attention on church cleaning or building projects.\n\n\nJoin us!\n \n 
URL:https://oakgrove-mbc.org/event/mens-breakfast-9/2023-08-12/
LOCATION:OH
END:VEVENT
BEGIN:VEVENT
DTSTART;TZID=America/New_York:20230809T180000
DTEND;TZID=America/New_York:20230809T190000
DTSTAMP:20260424T003441
CREATED:20230113T033222Z
LAST-MODIFIED:20230113T033222Z
UID:10000218-1691604000-1691607600@oakgrove-mbc.org
SUMMARY:Bible Study
DESCRIPTION:
URL:https://oakgrove-mbc.org/event/bible-study/2023-08-09/
LOCATION:OH
END:VEVENT
BEGIN:VEVENT
DTSTART;TZID=America/New_York:20230802T180000
DTEND;TZID=America/New_York:20230802T190000
DTSTAMP:20260424T003441
CREATED:20230113T033222Z
LAST-MODIFIED:20230113T033222Z
UID:10000217-1690999200-1691002800@oakgrove-mbc.org
SUMMARY:Bible Study
DESCRIPTION:
URL:https://oakgrove-mbc.org/event/bible-study/2023-08-02/
LOCATION:OH
END:VEVENT
BEGIN:VEVENT
DTSTART;TZID=America/New_York:20230730T110000
DTEND;TZID=America/New_York:20230730T110000
DTSTAMP:20260424T003441
CREATED:20230306T014336Z
LAST-MODIFIED:20230306T014940Z
UID:10000446-1690714800-1690714800@oakgrove-mbc.org
SUMMARY:Building Fund Offering
DESCRIPTION:
URL:https://oakgrove-mbc.org/event/building-fund-offering/2023-07-30/
LOCATION:Oak Grove\, 9457 Baumhart Road\, Amherst\, OH\, 44001\, United States
END:VEVENT
BEGIN:VEVENT
DTSTART;TZID=America/New_York:20230726T180000
DTEND;TZID=America/New_York:20230726T190000
DTSTAMP:20260424T003441
CREATED:20230113T033222Z
LAST-MODIFIED:20230113T033222Z
UID:10000216-1690394400-1690398000@oakgrove-mbc.org
SUMMARY:Bible Study
DESCRIPTION:
URL:https://oakgrove-mbc.org/event/bible-study/2023-07-26/
LOCATION:OH
END:VEVENT
BEGIN:VEVENT
DTSTART;TZID=America/New_York:20230719T180000
DTEND;TZID=America/New_York:20230719T190000
DTSTAMP:20260424T003441
CREATED:20230113T033222Z
LAST-MODIFIED:20230113T033222Z
UID:10000215-1689789600-1689793200@oakgrove-mbc.org
SUMMARY:Bible Study
DESCRIPTION:
URL:https://oakgrove-mbc.org/event/bible-study/2023-07-19/
LOCATION:OH
END:VEVENT
BEGIN:VEVENT
DTSTART;TZID=America/New_York:20230717T120000
DTEND;TZID=America/New_York:20230717T133000
DTSTAMP:20260424T003441
CREATED:20230114T035110Z
LAST-MODIFIED:20230114T035110Z
UID:10000354-1689595200-1689600600@oakgrove-mbc.org
SUMMARY:Silver Saints
DESCRIPTION:Luncheon / Fellowship for Adults 50 years and older.
URL:https://oakgrove-mbc.org/event/silver-saints/2023-07-17/
LOCATION:OH
END:VEVENT
BEGIN:VEVENT
DTSTART;TZID=America/New_York:20230715T180000
DTEND;TZID=America/New_York:20230715T200000
DTSTAMP:20260424T003441
CREATED:20230306T015533Z
LAST-MODIFIED:20230306T015546Z
UID:10000184-1689444000-1689451200@oakgrove-mbc.org
SUMMARY:Gospel Singing
DESCRIPTION:Enjoy one hour of gospel singing followed by fellowship and food!
URL:https://oakgrove-mbc.org/event/gospel-singing-2/2023-07-15/
LOCATION:OH
END:VEVENT
BEGIN:VEVENT
DTSTART;TZID=America/New_York:20230712T180000
DTEND;TZID=America/New_York:20230712T190000
DTSTAMP:20260424T003441
CREATED:20230113T033222Z
LAST-MODIFIED:20230113T033222Z
UID:10000214-1689184800-1689188400@oakgrove-mbc.org
SUMMARY:Bible Study
DESCRIPTION:
URL:https://oakgrove-mbc.org/event/bible-study/2023-07-12/
LOCATION:OH
END:VEVENT
BEGIN:VEVENT
DTSTART;TZID=America/New_York:20230708T083000
DTEND;TZID=America/New_York:20230708T100000
DTSTAMP:20260424T003441
CREATED:20230111T132625Z
LAST-MODIFIED:20230114T031715Z
UID:10000072-1688805000-1688810400@oakgrove-mbc.org
SUMMARY:Men's Breakfast
DESCRIPTION:Opportunity to enjoy fellowship\, breakfast\, and a short bible study with men of the church.  The typical schedule includes:\n\n\n8:30am:  Cooking begins / good discussion\n\n\n9:00am:  Breakfast is served\n\n\n9:30am:  Short Bible Study\n\n\nFrom time-to-time several men stay longer at the church to focus attention on church cleaning or building projects.\n\n\nJoin us!\n \n 
URL:https://oakgrove-mbc.org/event/mens-breakfast-9/2023-07-08/
LOCATION:OH
END:VEVENT
BEGIN:VEVENT
DTSTART;TZID=America/New_York:20230705T180000
DTEND;TZID=America/New_York:20230705T190000
DTSTAMP:20260424T003441
CREATED:20230113T033222Z
LAST-MODIFIED:20230113T033222Z
UID:10000213-1688580000-1688583600@oakgrove-mbc.org
SUMMARY:Bible Study
DESCRIPTION:
URL:https://oakgrove-mbc.org/event/bible-study/2023-07-05/
LOCATION:OH
END:VEVENT
BEGIN:VEVENT
DTSTART;TZID=America/New_York:20230628T180000
DTEND;TZID=America/New_York:20230628T190000
DTSTAMP:20260424T003441
CREATED:20230113T033222Z
LAST-MODIFIED:20230113T033222Z
UID:10000212-1687975200-1687978800@oakgrove-mbc.org
SUMMARY:Bible Study
DESCRIPTION:
URL:https://oakgrove-mbc.org/event/bible-study/2023-06-28/
LOCATION:OH
END:VEVENT
BEGIN:VEVENT
DTSTART;TZID=America/New_York:20230621T180000
DTEND;TZID=America/New_York:20230621T190000
DTSTAMP:20260424T003441
CREATED:20230113T033222Z
LAST-MODIFIED:20230113T033222Z
UID:10000211-1687370400-1687374000@oakgrove-mbc.org
SUMMARY:Bible Study
DESCRIPTION:
URL:https://oakgrove-mbc.org/event/bible-study/2023-06-21/
LOCATION:OH
END:VEVENT
BEGIN:VEVENT
DTSTART;TZID=America/New_York:20230619T120000
DTEND;TZID=America/New_York:20230619T133000
DTSTAMP:20260424T003441
CREATED:20230114T035110Z
LAST-MODIFIED:20230114T035110Z
UID:10000353-1687176000-1687181400@oakgrove-mbc.org
SUMMARY:Silver Saints
DESCRIPTION:Luncheon / Fellowship for Adults 50 years and older.
URL:https://oakgrove-mbc.org/event/silver-saints/2023-06-19/
LOCATION:OH
END:VEVENT
BEGIN:VEVENT
DTSTART;TZID=America/New_York:20230617T180000
DTEND;TZID=America/New_York:20230617T200000
DTSTAMP:20260424T003441
CREATED:20230306T015533Z
LAST-MODIFIED:20230306T015546Z
UID:10000183-1687024800-1687032000@oakgrove-mbc.org
SUMMARY:Gospel Singing
DESCRIPTION:Enjoy one hour of gospel singing followed by fellowship and food!
URL:https://oakgrove-mbc.org/event/gospel-singing-2/2023-06-17/
LOCATION:OH
END:VEVENT
BEGIN:VEVENT
DTSTART;TZID=America/New_York:20230616T180000
DTEND;TZID=America/New_York:20230616T200000
DTSTAMP:20260424T003441
CREATED:20230306T014024Z
LAST-MODIFIED:20230306T014102Z
UID:10000445-1686938400-1686945600@oakgrove-mbc.org
SUMMARY:Vacation Bible School (VBS)
DESCRIPTION:More details to follow
URL:https://oakgrove-mbc.org/event/vacation-bible-school-vbs/2023-06-16/
LOCATION:Oak Grove\, 9457 Baumhart Road\, Amherst\, OH\, 44001\, United States
END:VEVENT
BEGIN:VEVENT
DTSTART;TZID=America/New_York:20230615T180000
DTEND;TZID=America/New_York:20230615T200000
DTSTAMP:20260424T003441
CREATED:20230306T014024Z
LAST-MODIFIED:20230306T014102Z
UID:10000444-1686852000-1686859200@oakgrove-mbc.org
SUMMARY:Vacation Bible School (VBS)
DESCRIPTION:More details to follow
URL:https://oakgrove-mbc.org/event/vacation-bible-school-vbs/2023-06-15/
LOCATION:Oak Grove\, 9457 Baumhart Road\, Amherst\, OH\, 44001\, United States
END:VEVENT
BEGIN:VEVENT
DTSTART;TZID=America/New_York:20230614T180000
DTEND;TZID=America/New_York:20230614T200000
DTSTAMP:20260424T003441
CREATED:20230306T014024Z
LAST-MODIFIED:20230306T014102Z
UID:10000443-1686765600-1686772800@oakgrove-mbc.org
SUMMARY:Vacation Bible School (VBS)
DESCRIPTION:More details to follow
URL:https://oakgrove-mbc.org/event/vacation-bible-school-vbs/2023-06-14/
LOCATION:Oak Grove\, 9457 Baumhart Road\, Amherst\, OH\, 44001\, United States
END:VEVENT
BEGIN:VEVENT
DTSTART;TZID=America/New_York:20230611T180000
DTEND;TZID=America/New_York:20230611T190000
DTSTAMP:20260424T003441
CREATED:20230306T010438Z
LAST-MODIFIED:20230306T010716Z
UID:10000425-1686506400-1686510000@oakgrove-mbc.org
SUMMARY:Soul Winners' Club
DESCRIPTION:After much delay due to situations out of our control I\, Pastor Dorsey\, would like to announce that on March 19\, 6pm Oak Grove will begin training The Soul Winners’ Club\, which is a biblical program designed to “use the early church soul-winning fervor of ‘yesterday’ to train Christians how to win people to Jesus Christ ‘today’ in order that they may be able to experience eternal life ‘tomorrow.'” The Soul Winners’ Club is taught over a 12-week period. It is a highly effective training program that over the years has been used successfully to lead literally thousands to the Lord.
URL:https://oakgrove-mbc.org/event/soul-winners-club/2023-06-11/
LOCATION:Oak Grove\, 9457 Baumhart Road\, Amherst\, OH\, 44001\, United States
END:VEVENT
BEGIN:VEVENT
DTSTART;TZID=America/New_York:20230610T083000
DTEND;TZID=America/New_York:20230610T100000
DTSTAMP:20260424T003441
CREATED:20230111T132625Z
LAST-MODIFIED:20230114T031715Z
UID:10000071-1686385800-1686391200@oakgrove-mbc.org
SUMMARY:Men's Breakfast
DESCRIPTION:Opportunity to enjoy fellowship\, breakfast\, and a short bible study with men of the church.  The typical schedule includes:\n\n\n8:30am:  Cooking begins / good discussion\n\n\n9:00am:  Breakfast is served\n\n\n9:30am:  Short Bible Study\n\n\nFrom time-to-time several men stay longer at the church to focus attention on church cleaning or building projects.\n\n\nJoin us!\n \n 
URL:https://oakgrove-mbc.org/event/mens-breakfast-9/2023-06-10/
LOCATION:OH
END:VEVENT
BEGIN:VEVENT
DTSTART;TZID=America/New_York:20230607T180000
DTEND;TZID=America/New_York:20230607T190000
DTSTAMP:20260424T003441
CREATED:20230113T033222Z
LAST-MODIFIED:20230113T033222Z
UID:10000209-1686160800-1686164400@oakgrove-mbc.org
SUMMARY:Bible Study
DESCRIPTION:
URL:https://oakgrove-mbc.org/event/bible-study/2023-06-07/
LOCATION:OH
END:VEVENT
BEGIN:VEVENT
DTSTART;TZID=America/New_York:20230604T180000
DTEND;TZID=America/New_York:20230604T190000
DTSTAMP:20260424T003441
CREATED:20230306T010438Z
LAST-MODIFIED:20230306T010716Z
UID:10000424-1685901600-1685905200@oakgrove-mbc.org
SUMMARY:Soul Winners' Club
DESCRIPTION:After much delay due to situations out of our control I\, Pastor Dorsey\, would like to announce that on March 19\, 6pm Oak Grove will begin training The Soul Winners’ Club\, which is a biblical program designed to “use the early church soul-winning fervor of ‘yesterday’ to train Christians how to win people to Jesus Christ ‘today’ in order that they may be able to experience eternal life ‘tomorrow.'” The Soul Winners’ Club is taught over a 12-week period. It is a highly effective training program that over the years has been used successfully to lead literally thousands to the Lord.
URL:https://oakgrove-mbc.org/event/soul-winners-club/2023-06-04/
LOCATION:Oak Grove\, 9457 Baumhart Road\, Amherst\, OH\, 44001\, United States
END:VEVENT
BEGIN:VEVENT
DTSTART;TZID=America/New_York:20230603T170000
DTEND;TZID=America/New_York:20230603T183000
DTSTAMP:20260424T003441
CREATED:20230306T013713Z
LAST-MODIFIED:20240323T125705Z
UID:10000439-1685811600-1685817000@oakgrove-mbc.org
SUMMARY:Annual Business Meeting
DESCRIPTION:OGMBC holds its annual business meeting the first Saturday of June.  At this meeting the church votes on it’s annual budget\, officers\, and other business which is discussed two weeks prior at a “business discussion.”  Consult church bylaws for more information.
URL:https://oakgrove-mbc.org/event/annual-business-meeting-cookout-to-follow/2023-06-03/
LOCATION:Oak Grove\, 9457 Baumhart Road\, Amherst\, OH\, 44001\, United States
END:VEVENT
BEGIN:VEVENT
DTSTART;TZID=America/New_York:20230531T180000
DTEND;TZID=America/New_York:20230531T190000
DTSTAMP:20260424T003441
CREATED:20230113T033222Z
LAST-MODIFIED:20230113T033222Z
UID:10000208-1685556000-1685559600@oakgrove-mbc.org
SUMMARY:Bible Study
DESCRIPTION:
URL:https://oakgrove-mbc.org/event/bible-study/2023-05-31/
LOCATION:OH
END:VEVENT
BEGIN:VEVENT
DTSTART;TZID=America/New_York:20230529T090000
DTEND;TZID=America/New_York:20230529T150000
DTSTAMP:20260424T003441
CREATED:20230306T013440Z
LAST-MODIFIED:20240324T010755Z
UID:10000438-1685350800-1685372400@oakgrove-mbc.org
SUMMARY:South Amherst & Birmingham Memorial Day Parades
DESCRIPTION:Join us in both South Amherst & Birmingham to celebrate Memorial Day and see the OGMBC Vacation Bible School float!
URL:https://oakgrove-mbc.org/event/south-amherst-birmingham-memorial-day-parades/2023-05-29/
LOCATION:Oak Grove\, 9457 Baumhart Road\, Amherst\, OH\, 44001\, United States
END:VEVENT
BEGIN:VEVENT
DTSTART;TZID=America/New_York:20230528T180000
DTEND;TZID=America/New_York:20230528T190000
DTSTAMP:20260424T003441
CREATED:20230306T010438Z
LAST-MODIFIED:20230306T010716Z
UID:10000423-1685296800-1685300400@oakgrove-mbc.org
SUMMARY:Soul Winners' Club
DESCRIPTION:After much delay due to situations out of our control I\, Pastor Dorsey\, would like to announce that on March 19\, 6pm Oak Grove will begin training The Soul Winners’ Club\, which is a biblical program designed to “use the early church soul-winning fervor of ‘yesterday’ to train Christians how to win people to Jesus Christ ‘today’ in order that they may be able to experience eternal life ‘tomorrow.'” The Soul Winners’ Club is taught over a 12-week period. It is a highly effective training program that over the years has been used successfully to lead literally thousands to the Lord.
URL:https://oakgrove-mbc.org/event/soul-winners-club/2023-05-28/
LOCATION:Oak Grove\, 9457 Baumhart Road\, Amherst\, OH\, 44001\, United States
END:VEVENT
BEGIN:VEVENT
DTSTART;TZID=America/New_York:20230528T130000
DTEND;TZID=America/New_York:20230528T153000
DTSTAMP:20260424T003441
CREATED:20230306T013304Z
LAST-MODIFIED:20240323T130021Z
UID:10000437-1685278800-1685287800@oakgrove-mbc.org
SUMMARY:Kipton Memorial Day Parade
DESCRIPTION:Join us in Kipton to celebrate memorial day and see the OGMBC Vacation Bible School float!
URL:https://oakgrove-mbc.org/event/kipton-memorial-day-parade/2023-05-28/
LOCATION:Oak Grove\, 9457 Baumhart Road\, Amherst\, OH\, 44001\, United States
END:VEVENT
BEGIN:VEVENT
DTSTART;TZID=America/New_York:20230524T180000
DTEND;TZID=America/New_York:20230524T190000
DTSTAMP:20260424T003441
CREATED:20230113T033222Z
LAST-MODIFIED:20230113T033222Z
UID:10000207-1684951200-1684954800@oakgrove-mbc.org
SUMMARY:Bible Study
DESCRIPTION:
URL:https://oakgrove-mbc.org/event/bible-study/2023-05-24/
LOCATION:OH
END:VEVENT
BEGIN:VEVENT
DTSTART;TZID=America/New_York:20230522T120000
DTEND;TZID=America/New_York:20230522T133000
DTSTAMP:20260424T003441
CREATED:20230114T035110Z
LAST-MODIFIED:20230114T035110Z
UID:10000352-1684756800-1684762200@oakgrove-mbc.org
SUMMARY:Silver Saints
DESCRIPTION:Luncheon / Fellowship for Adults 50 years and older.
URL:https://oakgrove-mbc.org/event/silver-saints/2023-05-22/
LOCATION:OH
END:VEVENT
BEGIN:VEVENT
DTSTART;TZID=America/New_York:20230521T180000
DTEND;TZID=America/New_York:20230521T190000
DTSTAMP:20260424T003441
CREATED:20230306T010438Z
LAST-MODIFIED:20230306T010716Z
UID:10000422-1684692000-1684695600@oakgrove-mbc.org
SUMMARY:Soul Winners' Club
DESCRIPTION:After much delay due to situations out of our control I\, Pastor Dorsey\, would like to announce that on March 19\, 6pm Oak Grove will begin training The Soul Winners’ Club\, which is a biblical program designed to “use the early church soul-winning fervor of ‘yesterday’ to train Christians how to win people to Jesus Christ ‘today’ in order that they may be able to experience eternal life ‘tomorrow.'” The Soul Winners’ Club is taught over a 12-week period. It is a highly effective training program that over the years has been used successfully to lead literally thousands to the Lord.
URL:https://oakgrove-mbc.org/event/soul-winners-club/2023-05-21/
LOCATION:Oak Grove\, 9457 Baumhart Road\, Amherst\, OH\, 44001\, United States
END:VEVENT
END:VCALENDAR