BEGIN:VCALENDAR
VERSION:2.0
PRODID:-//OGMBC - ECPv6.15.20//NONSGML v1.0//EN
CALSCALE:GREGORIAN
METHOD:PUBLISH
X-WR-CALNAME:OGMBC
X-ORIGINAL-URL:https://oakgrove-mbc.org
X-WR-CALDESC:Events for OGMBC
REFRESH-INTERVAL;VALUE=DURATION:PT1H
X-Robots-Tag:noindex
X-PUBLISHED-TTL:PT1H
BEGIN:VTIMEZONE
TZID:America/New_York
BEGIN:DAYLIGHT
TZOFFSETFROM:-0500
TZOFFSETTO:-0400
TZNAME:EDT
DTSTART:20220313T070000
END:DAYLIGHT
BEGIN:STANDARD
TZOFFSETFROM:-0400
TZOFFSETTO:-0500
TZNAME:EST
DTSTART:20221106T060000
END:STANDARD
BEGIN:DAYLIGHT
TZOFFSETFROM:-0500
TZOFFSETTO:-0400
TZNAME:EDT
DTSTART:20230312T070000
END:DAYLIGHT
BEGIN:STANDARD
TZOFFSETFROM:-0400
TZOFFSETTO:-0500
TZNAME:EST
DTSTART:20231105T060000
END:STANDARD
BEGIN:DAYLIGHT
TZOFFSETFROM:-0500
TZOFFSETTO:-0400
TZNAME:EDT
DTSTART:20240310T070000
END:DAYLIGHT
BEGIN:STANDARD
TZOFFSETFROM:-0400
TZOFFSETTO:-0500
TZNAME:EST
DTSTART:20241103T060000
END:STANDARD
END:VTIMEZONE
BEGIN:VEVENT
DTSTART;TZID=America/New_York:20231206T180000
DTEND;TZID=America/New_York:20231206T190000
DTSTAMP:20260424T052253
CREATED:20230113T033222Z
LAST-MODIFIED:20230113T033222Z
UID:10000235-1701885600-1701889200@oakgrove-mbc.org
SUMMARY:Bible Study
DESCRIPTION:
URL:https://oakgrove-mbc.org/event/bible-study/2023-12-06/
LOCATION:OH
END:VEVENT
BEGIN:VEVENT
DTSTART;TZID=America/New_York:20231129T180000
DTEND;TZID=America/New_York:20231129T190000
DTSTAMP:20260424T052253
CREATED:20230113T033222Z
LAST-MODIFIED:20230113T033222Z
UID:10000234-1701280800-1701284400@oakgrove-mbc.org
SUMMARY:Bible Study
DESCRIPTION:
URL:https://oakgrove-mbc.org/event/bible-study/2023-11-29/
LOCATION:OH
END:VEVENT
BEGIN:VEVENT
DTSTART;TZID=America/New_York:20231122T180000
DTEND;TZID=America/New_York:20231122T190000
DTSTAMP:20260424T052253
CREATED:20230113T033222Z
LAST-MODIFIED:20230113T033222Z
UID:10000233-1700676000-1700679600@oakgrove-mbc.org
SUMMARY:Bible Study
DESCRIPTION:
URL:https://oakgrove-mbc.org/event/bible-study/2023-11-22/
LOCATION:OH
END:VEVENT
BEGIN:VEVENT
DTSTART;TZID=America/New_York:20231115T180000
DTEND;TZID=America/New_York:20231115T190000
DTSTAMP:20260424T052253
CREATED:20230113T033222Z
LAST-MODIFIED:20230113T033222Z
UID:10000232-1700071200-1700074800@oakgrove-mbc.org
SUMMARY:Bible Study
DESCRIPTION:
URL:https://oakgrove-mbc.org/event/bible-study/2023-11-15/
LOCATION:OH
END:VEVENT
BEGIN:VEVENT
DTSTART;TZID=America/New_York:20231111T183000
DTEND;TZID=America/New_York:20231111T203000
DTSTAMP:20260424T052253
CREATED:20230306T015113Z
LAST-MODIFIED:20230306T015113Z
UID:10000450-1699727400-1699734600@oakgrove-mbc.org
SUMMARY:Christmas Craft Night
DESCRIPTION:Join us for a fun evening making crafts!
URL:https://oakgrove-mbc.org/event/christmas-craft-night-2/
LOCATION:Oak Grove\, 9457 Baumhart Road\, Amherst\, OH\, 44001\, United States
END:VEVENT
BEGIN:VEVENT
DTSTART;TZID=America/New_York:20231111T083000
DTEND;TZID=America/New_York:20231111T100000
DTSTAMP:20260424T052253
CREATED:20230111T132625Z
LAST-MODIFIED:20230114T031715Z
UID:10000076-1699691400-1699696800@oakgrove-mbc.org
SUMMARY:Men's Breakfast
DESCRIPTION:Opportunity to enjoy fellowship\, breakfast\, and a short bible study with men of the church.  The typical schedule includes:\n\n\n8:30am:  Cooking begins / good discussion\n\n\n9:00am:  Breakfast is served\n\n\n9:30am:  Short Bible Study\n\n\nFrom time-to-time several men stay longer at the church to focus attention on church cleaning or building projects.\n\n\nJoin us!\n \n 
URL:https://oakgrove-mbc.org/event/mens-breakfast-9/2023-11-11/
LOCATION:OH
END:VEVENT
BEGIN:VEVENT
DTSTART;TZID=America/New_York:20231108T180000
DTEND;TZID=America/New_York:20231108T190000
DTSTAMP:20260424T052253
CREATED:20230113T033222Z
LAST-MODIFIED:20230113T033222Z
UID:10000231-1699466400-1699470000@oakgrove-mbc.org
SUMMARY:Bible Study
DESCRIPTION:
URL:https://oakgrove-mbc.org/event/bible-study/2023-11-08/
LOCATION:OH
END:VEVENT
BEGIN:VEVENT
DTSTART;TZID=America/New_York:20231101T180000
DTEND;TZID=America/New_York:20231101T190000
DTSTAMP:20260424T052253
CREATED:20230113T033222Z
LAST-MODIFIED:20230113T033222Z
UID:10000230-1698861600-1698865200@oakgrove-mbc.org
SUMMARY:Bible Study
DESCRIPTION:
URL:https://oakgrove-mbc.org/event/bible-study/2023-11-01/
LOCATION:OH
END:VEVENT
BEGIN:VEVENT
DTSTART;TZID=America/New_York:20231029T110000
DTEND;TZID=America/New_York:20231029T110000
DTSTAMP:20260424T052253
CREATED:20230306T014336Z
LAST-MODIFIED:20230306T014940Z
UID:10000449-1698577200-1698577200@oakgrove-mbc.org
SUMMARY:Building Fund Offering
DESCRIPTION:
URL:https://oakgrove-mbc.org/event/building-fund-offering/2023-10-29/
LOCATION:Oak Grove\, 9457 Baumhart Road\, Amherst\, OH\, 44001\, United States
END:VEVENT
BEGIN:VEVENT
DTSTART;TZID=America/New_York:20231028T183000
DTEND;TZID=America/New_York:20231028T203000
DTSTAMP:20260424T052253
CREATED:20230306T015233Z
LAST-MODIFIED:20230306T015233Z
UID:10000451-1698517800-1698525000@oakgrove-mbc.org
SUMMARY:Soup Canning Event
DESCRIPTION:This is a must attend event.  Soup anyone?
URL:https://oakgrove-mbc.org/event/soup-canning-event/
LOCATION:Oak Grove\, 9457 Baumhart Road\, Amherst\, OH\, 44001\, United States
END:VEVENT
BEGIN:VEVENT
DTSTART;TZID=America/New_York:20231025T180000
DTEND;TZID=America/New_York:20231025T190000
DTSTAMP:20260424T052253
CREATED:20230113T033222Z
LAST-MODIFIED:20230113T033222Z
UID:10000229-1698256800-1698260400@oakgrove-mbc.org
SUMMARY:Bible Study
DESCRIPTION:
URL:https://oakgrove-mbc.org/event/bible-study/2023-10-25/
LOCATION:OH
END:VEVENT
BEGIN:VEVENT
DTSTART;TZID=America/New_York:20231021T180000
DTEND;TZID=America/New_York:20231021T200000
DTSTAMP:20260424T052253
CREATED:20230306T015533Z
LAST-MODIFIED:20230306T015546Z
UID:10000187-1697911200-1697918400@oakgrove-mbc.org
SUMMARY:Gospel Singing
DESCRIPTION:Enjoy one hour of gospel singing followed by fellowship and food!
URL:https://oakgrove-mbc.org/event/gospel-singing-2/2023-10-21/
LOCATION:OH
END:VEVENT
BEGIN:VEVENT
DTSTART;TZID=America/New_York:20231018T180000
DTEND;TZID=America/New_York:20231018T190000
DTSTAMP:20260424T052253
CREATED:20230113T033222Z
LAST-MODIFIED:20230113T033222Z
UID:10000228-1697652000-1697655600@oakgrove-mbc.org
SUMMARY:Bible Study
DESCRIPTION:
URL:https://oakgrove-mbc.org/event/bible-study/2023-10-18/
LOCATION:OH
END:VEVENT
BEGIN:VEVENT
DTSTART;TZID=America/New_York:20231016T120000
DTEND;TZID=America/New_York:20231016T133000
DTSTAMP:20260424T052253
CREATED:20230114T035110Z
LAST-MODIFIED:20230114T035110Z
UID:10000356-1697457600-1697463000@oakgrove-mbc.org
SUMMARY:Silver Saints
DESCRIPTION:Luncheon / Fellowship for Adults 50 years and older.
URL:https://oakgrove-mbc.org/event/silver-saints/2023-10-16/
LOCATION:OH
END:VEVENT
BEGIN:VEVENT
DTSTART;TZID=America/New_York:20231014T150000
DTEND;TZID=America/New_York:20231014T180000
DTSTAMP:20260424T052253
CREATED:20230306T014812Z
LAST-MODIFIED:20230306T014812Z
UID:10000448-1697295600-1697306400@oakgrove-mbc.org
SUMMARY:Harvest Festival
DESCRIPTION:Fun. Family. Hayride. Candy.
URL:https://oakgrove-mbc.org/event/harvest-festival/
LOCATION:Oak Grove\, 9457 Baumhart Road\, Amherst\, OH\, 44001\, United States
END:VEVENT
BEGIN:VEVENT
DTSTART;TZID=America/New_York:20231014T083000
DTEND;TZID=America/New_York:20231014T100000
DTSTAMP:20260424T052253
CREATED:20230111T132625Z
LAST-MODIFIED:20230114T031715Z
UID:10000075-1697272200-1697277600@oakgrove-mbc.org
SUMMARY:Men's Breakfast
DESCRIPTION:Opportunity to enjoy fellowship\, breakfast\, and a short bible study with men of the church.  The typical schedule includes:\n\n\n8:30am:  Cooking begins / good discussion\n\n\n9:00am:  Breakfast is served\n\n\n9:30am:  Short Bible Study\n\n\nFrom time-to-time several men stay longer at the church to focus attention on church cleaning or building projects.\n\n\nJoin us!\n \n 
URL:https://oakgrove-mbc.org/event/mens-breakfast-9/2023-10-14/
LOCATION:OH
END:VEVENT
BEGIN:VEVENT
DTSTART;TZID=America/New_York:20231011T180000
DTEND;TZID=America/New_York:20231011T190000
DTSTAMP:20260424T052253
CREATED:20230113T033222Z
LAST-MODIFIED:20230113T033222Z
UID:10000227-1697047200-1697050800@oakgrove-mbc.org
SUMMARY:Bible Study
DESCRIPTION:
URL:https://oakgrove-mbc.org/event/bible-study/2023-10-11/
LOCATION:OH
END:VEVENT
BEGIN:VEVENT
DTSTART;TZID=America/New_York:20231004T180000
DTEND;TZID=America/New_York:20231004T190000
DTSTAMP:20260424T052253
CREATED:20230113T033222Z
LAST-MODIFIED:20230113T033222Z
UID:10000226-1696442400-1696446000@oakgrove-mbc.org
SUMMARY:Bible Study
DESCRIPTION:
URL:https://oakgrove-mbc.org/event/bible-study/2023-10-04/
LOCATION:OH
END:VEVENT
BEGIN:VEVENT
DTSTART;TZID=America/New_York:20230927T180000
DTEND;TZID=America/New_York:20230927T190000
DTSTAMP:20260424T052253
CREATED:20230113T033222Z
LAST-MODIFIED:20230113T033222Z
UID:10000225-1695837600-1695841200@oakgrove-mbc.org
SUMMARY:Bible Study
DESCRIPTION:
URL:https://oakgrove-mbc.org/event/bible-study/2023-09-27/
LOCATION:OH
END:VEVENT
BEGIN:VEVENT
DTSTART;TZID=America/New_York:20230920T180000
DTEND;TZID=America/New_York:20230920T190000
DTSTAMP:20260424T052253
CREATED:20230113T033222Z
LAST-MODIFIED:20230113T033222Z
UID:10000224-1695232800-1695236400@oakgrove-mbc.org
SUMMARY:Bible Study
DESCRIPTION:
URL:https://oakgrove-mbc.org/event/bible-study/2023-09-20/
LOCATION:OH
END:VEVENT
BEGIN:VEVENT
DTSTART;TZID=America/New_York:20230918T120000
DTEND;TZID=America/New_York:20230918T133000
DTSTAMP:20260424T052253
CREATED:20230114T035110Z
LAST-MODIFIED:20230114T035110Z
UID:10000355-1695038400-1695043800@oakgrove-mbc.org
SUMMARY:Silver Saints
DESCRIPTION:Luncheon / Fellowship for Adults 50 years and older.
URL:https://oakgrove-mbc.org/event/silver-saints/2023-09-18/
LOCATION:OH
END:VEVENT
BEGIN:VEVENT
DTSTART;TZID=America/New_York:20230916T180000
DTEND;TZID=America/New_York:20230916T200000
DTSTAMP:20260424T052253
CREATED:20230306T015533Z
LAST-MODIFIED:20230306T015546Z
UID:10000186-1694887200-1694894400@oakgrove-mbc.org
SUMMARY:Gospel Singing
DESCRIPTION:Enjoy one hour of gospel singing followed by fellowship and food!
URL:https://oakgrove-mbc.org/event/gospel-singing-2/2023-09-16/
LOCATION:OH
END:VEVENT
BEGIN:VEVENT
DTSTART;TZID=America/New_York:20230913T180000
DTEND;TZID=America/New_York:20230913T190000
DTSTAMP:20260424T052253
CREATED:20230113T033222Z
LAST-MODIFIED:20230113T033222Z
UID:10000223-1694628000-1694631600@oakgrove-mbc.org
SUMMARY:Bible Study
DESCRIPTION:
URL:https://oakgrove-mbc.org/event/bible-study/2023-09-13/
LOCATION:OH
END:VEVENT
BEGIN:VEVENT
DTSTART;TZID=America/New_York:20230909T083000
DTEND;TZID=America/New_York:20230909T100000
DTSTAMP:20260424T052253
CREATED:20230111T132625Z
LAST-MODIFIED:20230114T031715Z
UID:10000074-1694248200-1694253600@oakgrove-mbc.org
SUMMARY:Men's Breakfast
DESCRIPTION:Opportunity to enjoy fellowship\, breakfast\, and a short bible study with men of the church.  The typical schedule includes:\n\n\n8:30am:  Cooking begins / good discussion\n\n\n9:00am:  Breakfast is served\n\n\n9:30am:  Short Bible Study\n\n\nFrom time-to-time several men stay longer at the church to focus attention on church cleaning or building projects.\n\n\nJoin us!\n \n 
URL:https://oakgrove-mbc.org/event/mens-breakfast-9/2023-09-09/
LOCATION:OH
END:VEVENT
BEGIN:VEVENT
DTSTART;TZID=America/New_York:20230906T180000
DTEND;TZID=America/New_York:20230906T190000
DTSTAMP:20260424T052253
CREATED:20230113T033222Z
LAST-MODIFIED:20230113T033222Z
UID:10000222-1694023200-1694026800@oakgrove-mbc.org
SUMMARY:Bible Study
DESCRIPTION:
URL:https://oakgrove-mbc.org/event/bible-study/2023-09-06/
LOCATION:OH
END:VEVENT
BEGIN:VEVENT
DTSTART;TZID=America/New_York:20230830T180000
DTEND;TZID=America/New_York:20230830T190000
DTSTAMP:20260424T052253
CREATED:20230113T033222Z
LAST-MODIFIED:20230113T033222Z
UID:10000221-1693418400-1693422000@oakgrove-mbc.org
SUMMARY:Bible Study
DESCRIPTION:
URL:https://oakgrove-mbc.org/event/bible-study/2023-08-30/
LOCATION:OH
END:VEVENT
BEGIN:VEVENT
DTSTART;TZID=America/New_York:20230823T180000
DTEND;TZID=America/New_York:20230823T190000
DTSTAMP:20260424T052253
CREATED:20230113T033222Z
LAST-MODIFIED:20230113T033222Z
UID:10000220-1692813600-1692817200@oakgrove-mbc.org
SUMMARY:Bible Study
DESCRIPTION:
URL:https://oakgrove-mbc.org/event/bible-study/2023-08-23/
LOCATION:OH
END:VEVENT
BEGIN:VEVENT
DTSTART;VALUE=DATE:20230820
DTEND;VALUE=DATE:20230821
DTSTAMP:20260424T052253
CREATED:20230114T035429Z
LAST-MODIFIED:20230114T035429Z
UID:10000357-1692489600-1692575999@oakgrove-mbc.org
SUMMARY:50th Anniversary Homecoming
DESCRIPTION:Details TBA
URL:https://oakgrove-mbc.org/event/50th-anniversary-homecoming/
LOCATION:OH
END:VEVENT
BEGIN:VEVENT
DTSTART;TZID=America/New_York:20230819T180000
DTEND;TZID=America/New_York:20230819T200000
DTSTAMP:20260424T052253
CREATED:20230306T015533Z
LAST-MODIFIED:20230306T015546Z
UID:10000185-1692468000-1692475200@oakgrove-mbc.org
SUMMARY:Gospel Singing
DESCRIPTION:Enjoy one hour of gospel singing followed by fellowship and food!
URL:https://oakgrove-mbc.org/event/gospel-singing-2/2023-08-19/
LOCATION:OH
END:VEVENT
BEGIN:VEVENT
DTSTART;TZID=America/New_York:20230816T180000
DTEND;TZID=America/New_York:20230816T190000
DTSTAMP:20260424T052253
CREATED:20230113T033222Z
LAST-MODIFIED:20230113T033222Z
UID:10000219-1692208800-1692212400@oakgrove-mbc.org
SUMMARY:Bible Study
DESCRIPTION:
URL:https://oakgrove-mbc.org/event/bible-study/2023-08-16/
LOCATION:OH
END:VEVENT
END:VCALENDAR