BEGIN:VCALENDAR
VERSION:2.0
PRODID:-//OGMBC - ECPv6.15.20//NONSGML v1.0//EN
CALSCALE:GREGORIAN
METHOD:PUBLISH
X-WR-CALNAME:OGMBC
X-ORIGINAL-URL:https://oakgrove-mbc.org
X-WR-CALDESC:Events for OGMBC
REFRESH-INTERVAL;VALUE=DURATION:PT1H
X-Robots-Tag:noindex
X-PUBLISHED-TTL:PT1H
BEGIN:VTIMEZONE
TZID:America/New_York
BEGIN:DAYLIGHT
TZOFFSETFROM:-0500
TZOFFSETTO:-0400
TZNAME:EDT
DTSTART:20220313T070000
END:DAYLIGHT
BEGIN:STANDARD
TZOFFSETFROM:-0400
TZOFFSETTO:-0500
TZNAME:EST
DTSTART:20221106T060000
END:STANDARD
BEGIN:DAYLIGHT
TZOFFSETFROM:-0500
TZOFFSETTO:-0400
TZNAME:EDT
DTSTART:20230312T070000
END:DAYLIGHT
BEGIN:STANDARD
TZOFFSETFROM:-0400
TZOFFSETTO:-0500
TZNAME:EST
DTSTART:20231105T060000
END:STANDARD
BEGIN:DAYLIGHT
TZOFFSETFROM:-0500
TZOFFSETTO:-0400
TZNAME:EDT
DTSTART:20240310T070000
END:DAYLIGHT
BEGIN:STANDARD
TZOFFSETFROM:-0400
TZOFFSETTO:-0500
TZNAME:EST
DTSTART:20241103T060000
END:STANDARD
BEGIN:DAYLIGHT
TZOFFSETFROM:-0500
TZOFFSETTO:-0400
TZNAME:EDT
DTSTART:20250309T070000
END:DAYLIGHT
BEGIN:STANDARD
TZOFFSETFROM:-0400
TZOFFSETTO:-0500
TZNAME:EST
DTSTART:20251102T060000
END:STANDARD
END:VTIMEZONE
BEGIN:VEVENT
DTSTART;TZID=America/New_York:20240131T060000
DTEND;TZID=America/New_York:20240131T190000
DTSTAMP:20260424T093912
CREATED:20240116T180021Z
LAST-MODIFIED:20240824T155410Z
UID:10001207-1706680800-1706727600@oakgrove-mbc.org
SUMMARY:Bible Study (6pm)
DESCRIPTION:Join us for our weekly prayer meeting and bible study.
URL:https://oakgrove-mbc.org/event/bible-study-6pm-2/2024-01-31/
LOCATION:Oak Grove\, 9457 Baumhart Road\, Amherst\, OH\, 44001\, United States
END:VEVENT
BEGIN:VEVENT
DTSTART;TZID=America/New_York:20240128T180000
DTEND;TZID=America/New_York:20240128T190000
DTSTAMP:20260424T093912
CREATED:20240116T033710Z
LAST-MODIFIED:20240824T155000Z
UID:10001154-1706464800-1706468400@oakgrove-mbc.org
SUMMARY:Evening Service (6pm)
DESCRIPTION:
URL:https://oakgrove-mbc.org/event/bible-study-6pm/2024-01-28/
LOCATION:Oak Grove\, 9457 Baumhart Road\, Amherst\, OH\, 44001\, United States
END:VEVENT
BEGIN:VEVENT
DTSTART;TZID=America/New_York:20240128T093000
DTEND;TZID=America/New_York:20240128T120000
DTSTAMP:20260424T093912
CREATED:20240323T041906Z
LAST-MODIFIED:20240323T043154Z
UID:10001861-1706434200-1706443200@oakgrove-mbc.org
SUMMARY:Breakfast / Sunday School / Church Service
DESCRIPTION:Join us for a morning of fellowship\, bible study\, and church.  We meet in the Fellowship Hall at 9:30am for breakfast and fellowship.  Sunday School starts at 10am (we have classes pre-school thru adults).  The morning church service begins at 11am. \nWe hope you can join us on Sunday!  To learn more about: \n\nWhere do you go when you arrive?\nWhere do my kids go?\nWhat should I wear?\nHow can I connect?\nAm I expected to give money?\nWhat does OGMBC believe?\n\nClick here.
URL:https://oakgrove-mbc.org/event/breakfast-sunday-school-church-service/2024-01-28/
LOCATION:OH
END:VEVENT
BEGIN:VEVENT
DTSTART;TZID=America/New_York:20240124T060000
DTEND;TZID=America/New_York:20240124T190000
DTSTAMP:20260424T093912
CREATED:20240116T180021Z
LAST-MODIFIED:20240824T155410Z
UID:10001206-1706076000-1706122800@oakgrove-mbc.org
SUMMARY:Bible Study (6pm)
DESCRIPTION:Join us for our weekly prayer meeting and bible study.
URL:https://oakgrove-mbc.org/event/bible-study-6pm-2/2024-01-24/
LOCATION:Oak Grove\, 9457 Baumhart Road\, Amherst\, OH\, 44001\, United States
END:VEVENT
BEGIN:VEVENT
DTSTART;TZID=America/New_York:20240121T180000
DTEND;TZID=America/New_York:20240121T190000
DTSTAMP:20260424T093912
CREATED:20240116T033710Z
LAST-MODIFIED:20240824T155000Z
UID:10001153-1705860000-1705863600@oakgrove-mbc.org
SUMMARY:Evening Service (6pm)
DESCRIPTION:
URL:https://oakgrove-mbc.org/event/bible-study-6pm/2024-01-21/
LOCATION:Oak Grove\, 9457 Baumhart Road\, Amherst\, OH\, 44001\, United States
END:VEVENT
BEGIN:VEVENT
DTSTART;TZID=America/New_York:20240121T093000
DTEND;TZID=America/New_York:20240121T120000
DTSTAMP:20260424T093912
CREATED:20240323T041906Z
LAST-MODIFIED:20240323T043154Z
UID:10001860-1705829400-1705838400@oakgrove-mbc.org
SUMMARY:Breakfast / Sunday School / Church Service
DESCRIPTION:Join us for a morning of fellowship\, bible study\, and church.  We meet in the Fellowship Hall at 9:30am for breakfast and fellowship.  Sunday School starts at 10am (we have classes pre-school thru adults).  The morning church service begins at 11am. \nWe hope you can join us on Sunday!  To learn more about: \n\nWhere do you go when you arrive?\nWhere do my kids go?\nWhat should I wear?\nHow can I connect?\nAm I expected to give money?\nWhat does OGMBC believe?\n\nClick here.
URL:https://oakgrove-mbc.org/event/breakfast-sunday-school-church-service/2024-01-21/
LOCATION:OH
END:VEVENT
BEGIN:VEVENT
DTSTART;TZID=America/New_York:20240117T060000
DTEND;TZID=America/New_York:20240117T190000
DTSTAMP:20260424T093912
CREATED:20240116T180021Z
LAST-MODIFIED:20240824T155410Z
UID:10001205-1705471200-1705518000@oakgrove-mbc.org
SUMMARY:Bible Study (6pm)
DESCRIPTION:Join us for our weekly prayer meeting and bible study.
URL:https://oakgrove-mbc.org/event/bible-study-6pm-2/2024-01-17/
LOCATION:Oak Grove\, 9457 Baumhart Road\, Amherst\, OH\, 44001\, United States
END:VEVENT
BEGIN:VEVENT
DTSTART;TZID=America/New_York:20240114T180000
DTEND;TZID=America/New_York:20240114T190000
DTSTAMP:20260424T093912
CREATED:20240116T033710Z
LAST-MODIFIED:20240824T155000Z
UID:10001152-1705255200-1705258800@oakgrove-mbc.org
SUMMARY:Evening Service (6pm)
DESCRIPTION:
URL:https://oakgrove-mbc.org/event/bible-study-6pm/2024-01-14/
LOCATION:Oak Grove\, 9457 Baumhart Road\, Amherst\, OH\, 44001\, United States
END:VEVENT
BEGIN:VEVENT
DTSTART;TZID=America/New_York:20240114T093000
DTEND;TZID=America/New_York:20240114T120000
DTSTAMP:20260424T093912
CREATED:20240323T041906Z
LAST-MODIFIED:20240323T043154Z
UID:10001859-1705224600-1705233600@oakgrove-mbc.org
SUMMARY:Breakfast / Sunday School / Church Service
DESCRIPTION:Join us for a morning of fellowship\, bible study\, and church.  We meet in the Fellowship Hall at 9:30am for breakfast and fellowship.  Sunday School starts at 10am (we have classes pre-school thru adults).  The morning church service begins at 11am. \nWe hope you can join us on Sunday!  To learn more about: \n\nWhere do you go when you arrive?\nWhere do my kids go?\nWhat should I wear?\nHow can I connect?\nAm I expected to give money?\nWhat does OGMBC believe?\n\nClick here.
URL:https://oakgrove-mbc.org/event/breakfast-sunday-school-church-service/2024-01-14/
LOCATION:OH
END:VEVENT
BEGIN:VEVENT
DTSTART;TZID=America/New_York:20240113T083000
DTEND;TZID=America/New_York:20240113T100000
DTSTAMP:20260424T093912
CREATED:20240116T180516Z
LAST-MODIFIED:20240323T045147Z
UID:10001466-1705134600-1705140000@oakgrove-mbc.org
SUMMARY:Men's Breakfast (8:30am)
DESCRIPTION:Join us on the 2nd Saturday monthly for our men’s breakfast.  Typically involves either a short bible study and/or work party to address some church facility needs.
URL:https://oakgrove-mbc.org/event/mens-breakfast-830am/2024-01-13/
LOCATION:Oak Grove\, 9457 Baumhart Road\, Amherst\, OH\, 44001\, United States
END:VEVENT
BEGIN:VEVENT
DTSTART;TZID=America/New_York:20240110T060000
DTEND;TZID=America/New_York:20240110T190000
DTSTAMP:20260424T093912
CREATED:20240116T180021Z
LAST-MODIFIED:20240824T155410Z
UID:10001204-1704866400-1704913200@oakgrove-mbc.org
SUMMARY:Bible Study (6pm)
DESCRIPTION:Join us for our weekly prayer meeting and bible study.
URL:https://oakgrove-mbc.org/event/bible-study-6pm-2/2024-01-10/
LOCATION:Oak Grove\, 9457 Baumhart Road\, Amherst\, OH\, 44001\, United States
END:VEVENT
BEGIN:VEVENT
DTSTART;TZID=America/New_York:20240107T180000
DTEND;TZID=America/New_York:20240107T190000
DTSTAMP:20260424T093912
CREATED:20240116T033710Z
LAST-MODIFIED:20240824T155000Z
UID:10001151-1704650400-1704654000@oakgrove-mbc.org
SUMMARY:Evening Service (6pm)
DESCRIPTION:
URL:https://oakgrove-mbc.org/event/bible-study-6pm/2024-01-07/
LOCATION:Oak Grove\, 9457 Baumhart Road\, Amherst\, OH\, 44001\, United States
END:VEVENT
BEGIN:VEVENT
DTSTART;TZID=America/New_York:20240107T120000
DTEND;TZID=America/New_York:20240107T133000
DTSTAMP:20260424T093912
CREATED:20240323T125417Z
LAST-MODIFIED:20240323T125417Z
UID:10002240-1704628800-1704634200@oakgrove-mbc.org
SUMMARY:Fellowship Luncheon
DESCRIPTION:Immediately following the morning service\, OGMBC holds a luncheon in the fellowship hall.
URL:https://oakgrove-mbc.org/event/fellowship-luncheon/2024-01-07/
LOCATION:Oak Grove\, 9457 Baumhart Road\, Amherst\, OH\, 44001\, United States
END:VEVENT
BEGIN:VEVENT
DTSTART;TZID=America/New_York:20240107T093000
DTEND;TZID=America/New_York:20240107T120000
DTSTAMP:20260424T093912
CREATED:20240323T041906Z
LAST-MODIFIED:20240323T043154Z
UID:10001858-1704619800-1704628800@oakgrove-mbc.org
SUMMARY:Breakfast / Sunday School / Church Service
DESCRIPTION:Join us for a morning of fellowship\, bible study\, and church.  We meet in the Fellowship Hall at 9:30am for breakfast and fellowship.  Sunday School starts at 10am (we have classes pre-school thru adults).  The morning church service begins at 11am. \nWe hope you can join us on Sunday!  To learn more about: \n\nWhere do you go when you arrive?\nWhere do my kids go?\nWhat should I wear?\nHow can I connect?\nAm I expected to give money?\nWhat does OGMBC believe?\n\nClick here.
URL:https://oakgrove-mbc.org/event/breakfast-sunday-school-church-service/2024-01-07/
LOCATION:OH
END:VEVENT
BEGIN:VEVENT
DTSTART;VALUE=DATE:20240107
DTEND;VALUE=DATE:20240108
DTSTAMP:20260424T093912
CREATED:20240323T043021Z
LAST-MODIFIED:20240323T125301Z
UID:10002130-1704585600-1704671999@oakgrove-mbc.org
SUMMARY:Missions Fund Offering
DESCRIPTION:OGMBC is proud to support many missionaries!  A special offering is taken during the morning service on the first Sunday of each month. \nA luncheon is also held at 12:15pm in the Fellowship Hall. \nTo see a complete listing of missionaries – see: https://oakgrove-mbc.org/missions/
URL:https://oakgrove-mbc.org/event/missions-fund-offering/2024-01-07/
LOCATION:Oak Grove\, 9457 Baumhart Road\, Amherst\, OH\, 44001\, United States
END:VEVENT
BEGIN:VEVENT
DTSTART;TZID=America/New_York:20240103T060000
DTEND;TZID=America/New_York:20240103T190000
DTSTAMP:20260424T093912
CREATED:20240116T180021Z
LAST-MODIFIED:20240824T155410Z
UID:10001203-1704261600-1704308400@oakgrove-mbc.org
SUMMARY:Bible Study (6pm)
DESCRIPTION:Join us for our weekly prayer meeting and bible study.
URL:https://oakgrove-mbc.org/event/bible-study-6pm-2/2024-01-03/
LOCATION:Oak Grove\, 9457 Baumhart Road\, Amherst\, OH\, 44001\, United States
END:VEVENT
BEGIN:VEVENT
DTSTART;TZID=America/New_York:20231227T180000
DTEND;TZID=America/New_York:20231227T190000
DTSTAMP:20260424T093912
CREATED:20230113T033222Z
LAST-MODIFIED:20230113T033222Z
UID:10000238-1703700000-1703703600@oakgrove-mbc.org
SUMMARY:Bible Study
DESCRIPTION:
URL:https://oakgrove-mbc.org/event/bible-study/2023-12-27/
LOCATION:OH
END:VEVENT
BEGIN:VEVENT
DTSTART;TZID=America/New_York:20231220T180000
DTEND;TZID=America/New_York:20231220T190000
DTSTAMP:20260424T093912
CREATED:20230113T033222Z
LAST-MODIFIED:20230113T033222Z
UID:10000237-1703095200-1703098800@oakgrove-mbc.org
SUMMARY:Bible Study
DESCRIPTION:
URL:https://oakgrove-mbc.org/event/bible-study/2023-12-20/
LOCATION:OH
END:VEVENT
BEGIN:VEVENT
DTSTART;TZID=America/New_York:20231217T180000
DTEND;TZID=America/New_York:20231217T203000
DTSTAMP:20260424T093912
CREATED:20230306T015724Z
LAST-MODIFIED:20230306T015724Z
UID:10000454-1702836000-1702845000@oakgrove-mbc.org
SUMMARY:Christmas Program
DESCRIPTION:Details coming soon!
URL:https://oakgrove-mbc.org/event/christmas-program/
LOCATION:Oak Grove\, 9457 Baumhart Road\, Amherst\, OH\, 44001\, United States
END:VEVENT
BEGIN:VEVENT
DTSTART;TZID=America/New_York:20231216T083000
DTEND;TZID=America/New_York:20231216T093000
DTSTAMP:20260424T093912
CREATED:20221011T150309Z
LAST-MODIFIED:20240323T051104Z
UID:10000358-1702715400-1702719000@oakgrove-mbc.org
SUMMARY:Holiday Basket Assembly
DESCRIPTION:Volunteers gather at OGMBC to assemble Holiday Baskets.  Great fun!
URL:https://oakgrove-mbc.org/event/holiday-basket-assembly/2023-12-16/
LOCATION:OH
END:VEVENT
BEGIN:VEVENT
DTSTART;TZID=America/New_York:20231213T180000
DTEND;TZID=America/New_York:20231213T190000
DTSTAMP:20260424T093912
CREATED:20230113T033222Z
LAST-MODIFIED:20230113T033222Z
UID:10000236-1702490400-1702494000@oakgrove-mbc.org
SUMMARY:Bible Study
DESCRIPTION:
URL:https://oakgrove-mbc.org/event/bible-study/2023-12-13/
LOCATION:OH
END:VEVENT
BEGIN:VEVENT
DTSTART;TZID=America/New_York:20231209T083000
DTEND;TZID=America/New_York:20231209T100000
DTSTAMP:20260424T093912
CREATED:20230111T132625Z
LAST-MODIFIED:20230114T031715Z
UID:10000077-1702110600-1702116000@oakgrove-mbc.org
SUMMARY:Men's Breakfast
DESCRIPTION:Opportunity to enjoy fellowship\, breakfast\, and a short bible study with men of the church.  The typical schedule includes:\n\n\n8:30am:  Cooking begins / good discussion\n\n\n9:00am:  Breakfast is served\n\n\n9:30am:  Short Bible Study\n\n\nFrom time-to-time several men stay longer at the church to focus attention on church cleaning or building projects.\n\n\nJoin us!\n \n 
URL:https://oakgrove-mbc.org/event/mens-breakfast-9/2023-12-09/
LOCATION:OH
END:VEVENT
BEGIN:VEVENT
DTSTART;TZID=America/New_York:20231206T180000
DTEND;TZID=America/New_York:20231206T190000
DTSTAMP:20260424T093912
CREATED:20230113T033222Z
LAST-MODIFIED:20230113T033222Z
UID:10000235-1701885600-1701889200@oakgrove-mbc.org
SUMMARY:Bible Study
DESCRIPTION:
URL:https://oakgrove-mbc.org/event/bible-study/2023-12-06/
LOCATION:OH
END:VEVENT
BEGIN:VEVENT
DTSTART;TZID=America/New_York:20231129T180000
DTEND;TZID=America/New_York:20231129T190000
DTSTAMP:20260424T093912
CREATED:20230113T033222Z
LAST-MODIFIED:20230113T033222Z
UID:10000234-1701280800-1701284400@oakgrove-mbc.org
SUMMARY:Bible Study
DESCRIPTION:
URL:https://oakgrove-mbc.org/event/bible-study/2023-11-29/
LOCATION:OH
END:VEVENT
BEGIN:VEVENT
DTSTART;TZID=America/New_York:20231122T180000
DTEND;TZID=America/New_York:20231122T190000
DTSTAMP:20260424T093912
CREATED:20230113T033222Z
LAST-MODIFIED:20230113T033222Z
UID:10000233-1700676000-1700679600@oakgrove-mbc.org
SUMMARY:Bible Study
DESCRIPTION:
URL:https://oakgrove-mbc.org/event/bible-study/2023-11-22/
LOCATION:OH
END:VEVENT
BEGIN:VEVENT
DTSTART;TZID=America/New_York:20231115T180000
DTEND;TZID=America/New_York:20231115T190000
DTSTAMP:20260424T093912
CREATED:20230113T033222Z
LAST-MODIFIED:20230113T033222Z
UID:10000232-1700071200-1700074800@oakgrove-mbc.org
SUMMARY:Bible Study
DESCRIPTION:
URL:https://oakgrove-mbc.org/event/bible-study/2023-11-15/
LOCATION:OH
END:VEVENT
BEGIN:VEVENT
DTSTART;TZID=America/New_York:20231111T183000
DTEND;TZID=America/New_York:20231111T203000
DTSTAMP:20260424T093912
CREATED:20230306T015113Z
LAST-MODIFIED:20230306T015113Z
UID:10000450-1699727400-1699734600@oakgrove-mbc.org
SUMMARY:Christmas Craft Night
DESCRIPTION:Join us for a fun evening making crafts!
URL:https://oakgrove-mbc.org/event/christmas-craft-night-2/
LOCATION:Oak Grove\, 9457 Baumhart Road\, Amherst\, OH\, 44001\, United States
END:VEVENT
BEGIN:VEVENT
DTSTART;TZID=America/New_York:20231111T083000
DTEND;TZID=America/New_York:20231111T100000
DTSTAMP:20260424T093912
CREATED:20230111T132625Z
LAST-MODIFIED:20230114T031715Z
UID:10000076-1699691400-1699696800@oakgrove-mbc.org
SUMMARY:Men's Breakfast
DESCRIPTION:Opportunity to enjoy fellowship\, breakfast\, and a short bible study with men of the church.  The typical schedule includes:\n\n\n8:30am:  Cooking begins / good discussion\n\n\n9:00am:  Breakfast is served\n\n\n9:30am:  Short Bible Study\n\n\nFrom time-to-time several men stay longer at the church to focus attention on church cleaning or building projects.\n\n\nJoin us!\n \n 
URL:https://oakgrove-mbc.org/event/mens-breakfast-9/2023-11-11/
LOCATION:OH
END:VEVENT
BEGIN:VEVENT
DTSTART;TZID=America/New_York:20231108T180000
DTEND;TZID=America/New_York:20231108T190000
DTSTAMP:20260424T093912
CREATED:20230113T033222Z
LAST-MODIFIED:20230113T033222Z
UID:10000231-1699466400-1699470000@oakgrove-mbc.org
SUMMARY:Bible Study
DESCRIPTION:
URL:https://oakgrove-mbc.org/event/bible-study/2023-11-08/
LOCATION:OH
END:VEVENT
BEGIN:VEVENT
DTSTART;TZID=America/New_York:20231101T180000
DTEND;TZID=America/New_York:20231101T190000
DTSTAMP:20260424T093912
CREATED:20230113T033222Z
LAST-MODIFIED:20230113T033222Z
UID:10000230-1698861600-1698865200@oakgrove-mbc.org
SUMMARY:Bible Study
DESCRIPTION:
URL:https://oakgrove-mbc.org/event/bible-study/2023-11-01/
LOCATION:OH
END:VEVENT
END:VCALENDAR