BEGIN:VCALENDAR
VERSION:2.0
PRODID:-//OGMBC - ECPv6.15.20//NONSGML v1.0//EN
CALSCALE:GREGORIAN
METHOD:PUBLISH
X-WR-CALNAME:OGMBC
X-ORIGINAL-URL:https://oakgrove-mbc.org
X-WR-CALDESC:Events for OGMBC
REFRESH-INTERVAL;VALUE=DURATION:PT1H
X-Robots-Tag:noindex
X-PUBLISHED-TTL:PT1H
BEGIN:VTIMEZONE
TZID:America/New_York
BEGIN:DAYLIGHT
TZOFFSETFROM:-0500
TZOFFSETTO:-0400
TZNAME:EDT
DTSTART:20230312T070000
END:DAYLIGHT
BEGIN:STANDARD
TZOFFSETFROM:-0400
TZOFFSETTO:-0500
TZNAME:EST
DTSTART:20231105T060000
END:STANDARD
BEGIN:DAYLIGHT
TZOFFSETFROM:-0500
TZOFFSETTO:-0400
TZNAME:EDT
DTSTART:20240310T070000
END:DAYLIGHT
BEGIN:STANDARD
TZOFFSETFROM:-0400
TZOFFSETTO:-0500
TZNAME:EST
DTSTART:20241103T060000
END:STANDARD
BEGIN:DAYLIGHT
TZOFFSETFROM:-0500
TZOFFSETTO:-0400
TZNAME:EDT
DTSTART:20250309T070000
END:DAYLIGHT
BEGIN:STANDARD
TZOFFSETFROM:-0400
TZOFFSETTO:-0500
TZNAME:EST
DTSTART:20251102T060000
END:STANDARD
END:VTIMEZONE
BEGIN:VEVENT
DTSTART;TZID=America/New_York:20240626T060000
DTEND;TZID=America/New_York:20240626T190000
DTSTAMP:20260424T194305
CREATED:20240116T180021Z
LAST-MODIFIED:20240824T155410Z
UID:10001228-1719381600-1719428400@oakgrove-mbc.org
SUMMARY:Bible Study (6pm)
DESCRIPTION:Join us for our weekly prayer meeting and bible study.
URL:https://oakgrove-mbc.org/event/bible-study-6pm-2/2024-06-26/
LOCATION:Oak Grove\, 9457 Baumhart Road\, Amherst\, OH\, 44001\, United States
END:VEVENT
BEGIN:VEVENT
DTSTART;TZID=America/New_York:20240623T180000
DTEND;TZID=America/New_York:20240623T190000
DTSTAMP:20260424T194305
CREATED:20240116T033710Z
LAST-MODIFIED:20240824T155000Z
UID:10001175-1719165600-1719169200@oakgrove-mbc.org
SUMMARY:Evening Service (6pm)
DESCRIPTION:
URL:https://oakgrove-mbc.org/event/bible-study-6pm/2024-06-23/
LOCATION:Oak Grove\, 9457 Baumhart Road\, Amherst\, OH\, 44001\, United States
END:VEVENT
BEGIN:VEVENT
DTSTART;TZID=America/New_York:20240623T093000
DTEND;TZID=America/New_York:20240623T120000
DTSTAMP:20260424T194305
CREATED:20240323T041906Z
LAST-MODIFIED:20240323T043154Z
UID:10001881-1719135000-1719144000@oakgrove-mbc.org
SUMMARY:Breakfast / Sunday School / Church Service
DESCRIPTION:Join us for a morning of fellowship\, bible study\, and church.  We meet in the Fellowship Hall at 9:30am for breakfast and fellowship.  Sunday School starts at 10am (we have classes pre-school thru adults).  The morning church service begins at 11am. \nWe hope you can join us on Sunday!  To learn more about: \n\nWhere do you go when you arrive?\nWhere do my kids go?\nWhat should I wear?\nHow can I connect?\nAm I expected to give money?\nWhat does OGMBC believe?\n\nClick here.
URL:https://oakgrove-mbc.org/event/breakfast-sunday-school-church-service/2024-06-23/
LOCATION:OH
END:VEVENT
BEGIN:VEVENT
DTSTART;TZID=America/New_York:20240619T060000
DTEND;TZID=America/New_York:20240619T190000
DTSTAMP:20260424T194305
CREATED:20240116T180021Z
LAST-MODIFIED:20240824T155410Z
UID:10001227-1718776800-1718823600@oakgrove-mbc.org
SUMMARY:Bible Study (6pm)
DESCRIPTION:Join us for our weekly prayer meeting and bible study.
URL:https://oakgrove-mbc.org/event/bible-study-6pm-2/2024-06-19/
LOCATION:Oak Grove\, 9457 Baumhart Road\, Amherst\, OH\, 44001\, United States
END:VEVENT
BEGIN:VEVENT
DTSTART;TZID=America/New_York:20240616T180000
DTEND;TZID=America/New_York:20240616T190000
DTSTAMP:20260424T194305
CREATED:20240116T033710Z
LAST-MODIFIED:20240824T155000Z
UID:10001174-1718560800-1718564400@oakgrove-mbc.org
SUMMARY:Evening Service (6pm)
DESCRIPTION:
URL:https://oakgrove-mbc.org/event/bible-study-6pm/2024-06-16/
LOCATION:Oak Grove\, 9457 Baumhart Road\, Amherst\, OH\, 44001\, United States
END:VEVENT
BEGIN:VEVENT
DTSTART;TZID=America/New_York:20240616T093000
DTEND;TZID=America/New_York:20240616T120000
DTSTAMP:20260424T194305
CREATED:20240323T041906Z
LAST-MODIFIED:20240323T043154Z
UID:10001880-1718530200-1718539200@oakgrove-mbc.org
SUMMARY:Breakfast / Sunday School / Church Service
DESCRIPTION:Join us for a morning of fellowship\, bible study\, and church.  We meet in the Fellowship Hall at 9:30am for breakfast and fellowship.  Sunday School starts at 10am (we have classes pre-school thru adults).  The morning church service begins at 11am. \nWe hope you can join us on Sunday!  To learn more about: \n\nWhere do you go when you arrive?\nWhere do my kids go?\nWhat should I wear?\nHow can I connect?\nAm I expected to give money?\nWhat does OGMBC believe?\n\nClick here.
URL:https://oakgrove-mbc.org/event/breakfast-sunday-school-church-service/2024-06-16/
LOCATION:OH
END:VEVENT
BEGIN:VEVENT
DTSTART;TZID=America/New_York:20240612T183000
DTEND;TZID=America/New_York:20240612T203000
DTSTAMP:20260424T194305
CREATED:20240323T044541Z
LAST-MODIFIED:20240323T044541Z
UID:10002198-1718217000-1718224200@oakgrove-mbc.org
SUMMARY:Vacation Bible School (VBS)
DESCRIPTION:OGMBC is proud to offer a vacation bible school program for children ages 4 thru 12.  Look for more details soon!
URL:https://oakgrove-mbc.org/event/vacation-bible-school-vbs-2/2024-06-12/
LOCATION:Oak Grove\, 9457 Baumhart Road\, Amherst\, OH\, 44001\, United States
END:VEVENT
BEGIN:VEVENT
DTSTART;TZID=America/New_York:20240611T183000
DTEND;TZID=America/New_York:20240611T203000
DTSTAMP:20260424T194305
CREATED:20240323T044541Z
LAST-MODIFIED:20240323T044541Z
UID:10002197-1718130600-1718137800@oakgrove-mbc.org
SUMMARY:Vacation Bible School (VBS)
DESCRIPTION:OGMBC is proud to offer a vacation bible school program for children ages 4 thru 12.  Look for more details soon!
URL:https://oakgrove-mbc.org/event/vacation-bible-school-vbs-2/2024-06-11/
LOCATION:Oak Grove\, 9457 Baumhart Road\, Amherst\, OH\, 44001\, United States
END:VEVENT
BEGIN:VEVENT
DTSTART;TZID=America/New_York:20240610T183000
DTEND;TZID=America/New_York:20240610T203000
DTSTAMP:20260424T194305
CREATED:20240323T044541Z
LAST-MODIFIED:20240323T044541Z
UID:10002196-1718044200-1718051400@oakgrove-mbc.org
SUMMARY:Vacation Bible School (VBS)
DESCRIPTION:OGMBC is proud to offer a vacation bible school program for children ages 4 thru 12.  Look for more details soon!
URL:https://oakgrove-mbc.org/event/vacation-bible-school-vbs-2/2024-06-10/
LOCATION:Oak Grove\, 9457 Baumhart Road\, Amherst\, OH\, 44001\, United States
END:VEVENT
BEGIN:VEVENT
DTSTART;TZID=America/New_York:20240609T183000
DTEND;TZID=America/New_York:20240609T203000
DTSTAMP:20260424T194305
CREATED:20240323T044541Z
LAST-MODIFIED:20240323T044541Z
UID:10002195-1717957800-1717965000@oakgrove-mbc.org
SUMMARY:Vacation Bible School (VBS)
DESCRIPTION:OGMBC is proud to offer a vacation bible school program for children ages 4 thru 12.  Look for more details soon!
URL:https://oakgrove-mbc.org/event/vacation-bible-school-vbs-2/2024-06-09/
LOCATION:Oak Grove\, 9457 Baumhart Road\, Amherst\, OH\, 44001\, United States
END:VEVENT
BEGIN:VEVENT
DTSTART;TZID=America/New_York:20240609T093000
DTEND;TZID=America/New_York:20240609T120000
DTSTAMP:20260424T194305
CREATED:20240323T041906Z
LAST-MODIFIED:20240323T043154Z
UID:10001879-1717925400-1717934400@oakgrove-mbc.org
SUMMARY:Breakfast / Sunday School / Church Service
DESCRIPTION:Join us for a morning of fellowship\, bible study\, and church.  We meet in the Fellowship Hall at 9:30am for breakfast and fellowship.  Sunday School starts at 10am (we have classes pre-school thru adults).  The morning church service begins at 11am. \nWe hope you can join us on Sunday!  To learn more about: \n\nWhere do you go when you arrive?\nWhere do my kids go?\nWhat should I wear?\nHow can I connect?\nAm I expected to give money?\nWhat does OGMBC believe?\n\nClick here.
URL:https://oakgrove-mbc.org/event/breakfast-sunday-school-church-service/2024-06-09/
LOCATION:OH
END:VEVENT
BEGIN:VEVENT
DTSTART;TZID=America/New_York:20240608T083000
DTEND;TZID=America/New_York:20240608T100000
DTSTAMP:20260424T194305
CREATED:20240116T180516Z
LAST-MODIFIED:20240323T045147Z
UID:10002210-1717835400-1717840800@oakgrove-mbc.org
SUMMARY:Men's Breakfast (8:30am)
DESCRIPTION:Join us on the 2nd Saturday monthly for our men’s breakfast.  Typically involves either a short bible study and/or work party to address some church facility needs.
URL:https://oakgrove-mbc.org/event/mens-breakfast-830am/2024-06-08/
LOCATION:Oak Grove\, 9457 Baumhart Road\, Amherst\, OH\, 44001\, United States
END:VEVENT
BEGIN:VEVENT
DTSTART;TZID=America/New_York:20240605T060000
DTEND;TZID=America/New_York:20240605T190000
DTSTAMP:20260424T194305
CREATED:20240116T180021Z
LAST-MODIFIED:20240824T155410Z
UID:10001225-1717567200-1717614000@oakgrove-mbc.org
SUMMARY:Bible Study (6pm)
DESCRIPTION:Join us for our weekly prayer meeting and bible study.
URL:https://oakgrove-mbc.org/event/bible-study-6pm-2/2024-06-05/
LOCATION:Oak Grove\, 9457 Baumhart Road\, Amherst\, OH\, 44001\, United States
END:VEVENT
BEGIN:VEVENT
DTSTART;TZID=America/New_York:20240602T120000
DTEND;TZID=America/New_York:20240602T133000
DTSTAMP:20260424T194305
CREATED:20240323T125417Z
LAST-MODIFIED:20240323T125417Z
UID:10002245-1717329600-1717335000@oakgrove-mbc.org
SUMMARY:Fellowship Luncheon
DESCRIPTION:Immediately following the morning service\, OGMBC holds a luncheon in the fellowship hall.
URL:https://oakgrove-mbc.org/event/fellowship-luncheon/2024-06-02/
LOCATION:Oak Grove\, 9457 Baumhart Road\, Amherst\, OH\, 44001\, United States
END:VEVENT
BEGIN:VEVENT
DTSTART;TZID=America/New_York:20240602T093000
DTEND;TZID=America/New_York:20240602T120000
DTSTAMP:20260424T194305
CREATED:20240323T041906Z
LAST-MODIFIED:20240323T043154Z
UID:10001878-1717320600-1717329600@oakgrove-mbc.org
SUMMARY:Breakfast / Sunday School / Church Service
DESCRIPTION:Join us for a morning of fellowship\, bible study\, and church.  We meet in the Fellowship Hall at 9:30am for breakfast and fellowship.  Sunday School starts at 10am (we have classes pre-school thru adults).  The morning church service begins at 11am. \nWe hope you can join us on Sunday!  To learn more about: \n\nWhere do you go when you arrive?\nWhere do my kids go?\nWhat should I wear?\nHow can I connect?\nAm I expected to give money?\nWhat does OGMBC believe?\n\nClick here.
URL:https://oakgrove-mbc.org/event/breakfast-sunday-school-church-service/2024-06-02/
LOCATION:OH
END:VEVENT
BEGIN:VEVENT
DTSTART;VALUE=DATE:20240602
DTEND;VALUE=DATE:20240603
DTSTAMP:20260424T194305
CREATED:20240323T043021Z
LAST-MODIFIED:20240323T125301Z
UID:10002135-1717286400-1717372799@oakgrove-mbc.org
SUMMARY:Missions Fund Offering
DESCRIPTION:OGMBC is proud to support many missionaries!  A special offering is taken during the morning service on the first Sunday of each month. \nA luncheon is also held at 12:15pm in the Fellowship Hall. \nTo see a complete listing of missionaries – see: https://oakgrove-mbc.org/missions/
URL:https://oakgrove-mbc.org/event/missions-fund-offering/2024-06-02/
LOCATION:Oak Grove\, 9457 Baumhart Road\, Amherst\, OH\, 44001\, United States
END:VEVENT
BEGIN:VEVENT
DTSTART;TZID=America/New_York:20240601T170000
DTEND;TZID=America/New_York:20240601T183000
DTSTAMP:20260424T194305
CREATED:20230306T013713Z
LAST-MODIFIED:20240323T125705Z
UID:10002303-1717261200-1717266600@oakgrove-mbc.org
SUMMARY:Annual Business Meeting
DESCRIPTION:OGMBC holds its annual business meeting the first Saturday of June.  At this meeting the church votes on it’s annual budget\, officers\, and other business which is discussed two weeks prior at a “business discussion.”  Consult church bylaws for more information.
URL:https://oakgrove-mbc.org/event/annual-business-meeting-cookout-to-follow/2024-06-01/
LOCATION:Oak Grove\, 9457 Baumhart Road\, Amherst\, OH\, 44001\, United States
END:VEVENT
BEGIN:VEVENT
DTSTART;TZID=America/New_York:20240529T060000
DTEND;TZID=America/New_York:20240529T190000
DTSTAMP:20260424T194305
CREATED:20240116T180021Z
LAST-MODIFIED:20240824T155410Z
UID:10001224-1716962400-1717009200@oakgrove-mbc.org
SUMMARY:Bible Study (6pm)
DESCRIPTION:Join us for our weekly prayer meeting and bible study.
URL:https://oakgrove-mbc.org/event/bible-study-6pm-2/2024-05-29/
LOCATION:Oak Grove\, 9457 Baumhart Road\, Amherst\, OH\, 44001\, United States
END:VEVENT
BEGIN:VEVENT
DTSTART;TZID=America/New_York:20240527T090000
DTEND;TZID=America/New_York:20240527T150000
DTSTAMP:20260424T194305
CREATED:20230306T013440Z
LAST-MODIFIED:20240324T010755Z
UID:10002334-1716800400-1716822000@oakgrove-mbc.org
SUMMARY:South Amherst & Birmingham Memorial Day Parades
DESCRIPTION:Join us in both South Amherst & Birmingham to celebrate Memorial Day and see the OGMBC Vacation Bible School float!
URL:https://oakgrove-mbc.org/event/south-amherst-birmingham-memorial-day-parades/2024-05-27/
LOCATION:Oak Grove\, 9457 Baumhart Road\, Amherst\, OH\, 44001\, United States
END:VEVENT
BEGIN:VEVENT
DTSTART;TZID=America/New_York:20240526T180000
DTEND;TZID=America/New_York:20240526T190000
DTSTAMP:20260424T194305
CREATED:20240116T033710Z
LAST-MODIFIED:20240824T155000Z
UID:10001171-1716746400-1716750000@oakgrove-mbc.org
SUMMARY:Evening Service (6pm)
DESCRIPTION:
URL:https://oakgrove-mbc.org/event/bible-study-6pm/2024-05-26/
LOCATION:Oak Grove\, 9457 Baumhart Road\, Amherst\, OH\, 44001\, United States
END:VEVENT
BEGIN:VEVENT
DTSTART;TZID=America/New_York:20240526T130000
DTEND;TZID=America/New_York:20240526T153000
DTSTAMP:20260424T194305
CREATED:20230306T013304Z
LAST-MODIFIED:20240323T130021Z
UID:10002320-1716728400-1716737400@oakgrove-mbc.org
SUMMARY:Kipton Memorial Day Parade
DESCRIPTION:Join us in Kipton to celebrate memorial day and see the OGMBC Vacation Bible School float!
URL:https://oakgrove-mbc.org/event/kipton-memorial-day-parade/2024-05-26/
LOCATION:Oak Grove\, 9457 Baumhart Road\, Amherst\, OH\, 44001\, United States
END:VEVENT
BEGIN:VEVENT
DTSTART;TZID=America/New_York:20240526T093000
DTEND;TZID=America/New_York:20240526T120000
DTSTAMP:20260424T194305
CREATED:20240323T041906Z
LAST-MODIFIED:20240323T043154Z
UID:10001877-1716715800-1716724800@oakgrove-mbc.org
SUMMARY:Breakfast / Sunday School / Church Service
DESCRIPTION:Join us for a morning of fellowship\, bible study\, and church.  We meet in the Fellowship Hall at 9:30am for breakfast and fellowship.  Sunday School starts at 10am (we have classes pre-school thru adults).  The morning church service begins at 11am. \nWe hope you can join us on Sunday!  To learn more about: \n\nWhere do you go when you arrive?\nWhere do my kids go?\nWhat should I wear?\nHow can I connect?\nAm I expected to give money?\nWhat does OGMBC believe?\n\nClick here.
URL:https://oakgrove-mbc.org/event/breakfast-sunday-school-church-service/2024-05-26/
LOCATION:OH
END:VEVENT
BEGIN:VEVENT
DTSTART;TZID=America/New_York:20240522T060000
DTEND;TZID=America/New_York:20240522T190000
DTSTAMP:20260424T194305
CREATED:20240116T180021Z
LAST-MODIFIED:20240824T155410Z
UID:10001223-1716357600-1716404400@oakgrove-mbc.org
SUMMARY:Bible Study (6pm)
DESCRIPTION:Join us for our weekly prayer meeting and bible study.
URL:https://oakgrove-mbc.org/event/bible-study-6pm-2/2024-05-22/
LOCATION:Oak Grove\, 9457 Baumhart Road\, Amherst\, OH\, 44001\, United States
END:VEVENT
BEGIN:VEVENT
DTSTART;TZID=America/New_York:20240519T180000
DTEND;TZID=America/New_York:20240519T190000
DTSTAMP:20260424T194305
CREATED:20240116T033710Z
LAST-MODIFIED:20240824T155000Z
UID:10001170-1716141600-1716145200@oakgrove-mbc.org
SUMMARY:Evening Service (6pm)
DESCRIPTION:
URL:https://oakgrove-mbc.org/event/bible-study-6pm/2024-05-19/
LOCATION:Oak Grove\, 9457 Baumhart Road\, Amherst\, OH\, 44001\, United States
END:VEVENT
BEGIN:VEVENT
DTSTART;TZID=America/New_York:20240519T093000
DTEND;TZID=America/New_York:20240519T120000
DTSTAMP:20260424T194305
CREATED:20240323T041906Z
LAST-MODIFIED:20240323T043154Z
UID:10001876-1716111000-1716120000@oakgrove-mbc.org
SUMMARY:Breakfast / Sunday School / Church Service
DESCRIPTION:Join us for a morning of fellowship\, bible study\, and church.  We meet in the Fellowship Hall at 9:30am for breakfast and fellowship.  Sunday School starts at 10am (we have classes pre-school thru adults).  The morning church service begins at 11am. \nWe hope you can join us on Sunday!  To learn more about: \n\nWhere do you go when you arrive?\nWhere do my kids go?\nWhat should I wear?\nHow can I connect?\nAm I expected to give money?\nWhat does OGMBC believe?\n\nClick here.
URL:https://oakgrove-mbc.org/event/breakfast-sunday-school-church-service/2024-05-19/
LOCATION:OH
END:VEVENT
BEGIN:VEVENT
DTSTART;TZID=America/New_York:20240518T180000
DTEND;TZID=America/New_York:20240518T193000
DTSTAMP:20260424T194305
CREATED:20240315T023205Z
LAST-MODIFIED:20240315T023205Z
UID:10001848-1716055200-1716060600@oakgrove-mbc.org
SUMMARY:Singing - Ron Pickrell Ministries
DESCRIPTION:Join us monthly on the third Saturday of the month at 6pm for a singing event to be followed by fellowship/refreshments.  The event starts at 6pm.
URL:https://oakgrove-mbc.org/event/singing-ron-pickrell-ministries/
LOCATION:OH
END:VEVENT
BEGIN:VEVENT
DTSTART;TZID=America/New_York:20240518T160000
DTEND;TZID=America/New_York:20240518T173000
DTSTAMP:20260424T194305
CREATED:20230506T121744Z
LAST-MODIFIED:20240323T125924Z
UID:10002315-1716048000-1716053400@oakgrove-mbc.org
SUMMARY:Annual Business Discussion
DESCRIPTION:
URL:https://oakgrove-mbc.org/event/annual-business-discussion/2024-05-18/
LOCATION:Oak Grove\, 9457 Baumhart Road\, Amherst\, OH\, 44001\, United States
END:VEVENT
BEGIN:VEVENT
DTSTART;TZID=America/New_York:20240515T060000
DTEND;TZID=America/New_York:20240515T190000
DTSTAMP:20260424T194305
CREATED:20240116T180021Z
LAST-MODIFIED:20240824T155410Z
UID:10001222-1715752800-1715799600@oakgrove-mbc.org
SUMMARY:Bible Study (6pm)
DESCRIPTION:Join us for our weekly prayer meeting and bible study.
URL:https://oakgrove-mbc.org/event/bible-study-6pm-2/2024-05-15/
LOCATION:Oak Grove\, 9457 Baumhart Road\, Amherst\, OH\, 44001\, United States
END:VEVENT
BEGIN:VEVENT
DTSTART;TZID=America/New_York:20240512T180000
DTEND;TZID=America/New_York:20240512T190000
DTSTAMP:20260424T194305
CREATED:20240116T033710Z
LAST-MODIFIED:20240824T155000Z
UID:10001169-1715536800-1715540400@oakgrove-mbc.org
SUMMARY:Evening Service (6pm)
DESCRIPTION:
URL:https://oakgrove-mbc.org/event/bible-study-6pm/2024-05-12/
LOCATION:Oak Grove\, 9457 Baumhart Road\, Amherst\, OH\, 44001\, United States
END:VEVENT
BEGIN:VEVENT
DTSTART;TZID=America/New_York:20240512T093000
DTEND;TZID=America/New_York:20240512T120000
DTSTAMP:20260424T194305
CREATED:20240323T041906Z
LAST-MODIFIED:20240323T043154Z
UID:10001875-1715506200-1715515200@oakgrove-mbc.org
SUMMARY:Breakfast / Sunday School / Church Service
DESCRIPTION:Join us for a morning of fellowship\, bible study\, and church.  We meet in the Fellowship Hall at 9:30am for breakfast and fellowship.  Sunday School starts at 10am (we have classes pre-school thru adults).  The morning church service begins at 11am. \nWe hope you can join us on Sunday!  To learn more about: \n\nWhere do you go when you arrive?\nWhere do my kids go?\nWhat should I wear?\nHow can I connect?\nAm I expected to give money?\nWhat does OGMBC believe?\n\nClick here.
URL:https://oakgrove-mbc.org/event/breakfast-sunday-school-church-service/2024-05-12/
LOCATION:OH
END:VEVENT
END:VCALENDAR