BEGIN:VCALENDAR
VERSION:2.0
PRODID:-//OGMBC - ECPv6.15.20//NONSGML v1.0//EN
CALSCALE:GREGORIAN
METHOD:PUBLISH
X-WR-CALNAME:OGMBC
X-ORIGINAL-URL:https://oakgrove-mbc.org
X-WR-CALDESC:Events for OGMBC
REFRESH-INTERVAL;VALUE=DURATION:PT1H
X-Robots-Tag:noindex
X-PUBLISHED-TTL:PT1H
BEGIN:VTIMEZONE
TZID:America/New_York
BEGIN:DAYLIGHT
TZOFFSETFROM:-0500
TZOFFSETTO:-0400
TZNAME:EDT
DTSTART:20250309T070000
END:DAYLIGHT
BEGIN:STANDARD
TZOFFSETFROM:-0400
TZOFFSETTO:-0500
TZNAME:EST
DTSTART:20251102T060000
END:STANDARD
BEGIN:DAYLIGHT
TZOFFSETFROM:-0500
TZOFFSETTO:-0400
TZNAME:EDT
DTSTART:20260308T070000
END:DAYLIGHT
BEGIN:STANDARD
TZOFFSETFROM:-0400
TZOFFSETTO:-0500
TZNAME:EST
DTSTART:20261101T060000
END:STANDARD
BEGIN:DAYLIGHT
TZOFFSETFROM:-0500
TZOFFSETTO:-0400
TZNAME:EDT
DTSTART:20270314T070000
END:DAYLIGHT
BEGIN:STANDARD
TZOFFSETFROM:-0400
TZOFFSETTO:-0500
TZNAME:EST
DTSTART:20271107T060000
END:STANDARD
BEGIN:DAYLIGHT
TZOFFSETFROM:-0500
TZOFFSETTO:-0400
TZNAME:EDT
DTSTART:20280312T070000
END:DAYLIGHT
BEGIN:STANDARD
TZOFFSETFROM:-0400
TZOFFSETTO:-0500
TZNAME:EST
DTSTART:20281105T060000
END:STANDARD
BEGIN:DAYLIGHT
TZOFFSETFROM:-0500
TZOFFSETTO:-0400
TZNAME:EDT
DTSTART:20290311T070000
END:DAYLIGHT
BEGIN:STANDARD
TZOFFSETFROM:-0400
TZOFFSETTO:-0500
TZNAME:EST
DTSTART:20291104T060000
END:STANDARD
END:VTIMEZONE
BEGIN:VEVENT
DTSTART;VALUE=DATE:20260503
DTEND;VALUE=DATE:20260504
DTSTAMP:20260423T113115
CREATED:20240323T043021Z
LAST-MODIFIED:20240323T125301Z
UID:10002158-1777766400-1777852799@oakgrove-mbc.org
SUMMARY:Missions Fund Offering
DESCRIPTION:OGMBC is proud to support many missionaries!  A special offering is taken during the morning service on the first Sunday of each month. \nA luncheon is also held at 12:15pm in the Fellowship Hall. \nTo see a complete listing of missionaries – see: https://oakgrove-mbc.org/missions/
URL:https://oakgrove-mbc.org/event/missions-fund-offering/2026-05-03/
LOCATION:Oak Grove\, 9457 Baumhart Road\, Amherst\, OH\, 44001\, United States
END:VEVENT
BEGIN:VEVENT
DTSTART;VALUE=DATE:20260607
DTEND;VALUE=DATE:20260608
DTSTAMP:20260423T113115
CREATED:20240323T043021Z
LAST-MODIFIED:20240323T125301Z
UID:10002159-1780790400-1780876799@oakgrove-mbc.org
SUMMARY:Missions Fund Offering
DESCRIPTION:OGMBC is proud to support many missionaries!  A special offering is taken during the morning service on the first Sunday of each month. \nA luncheon is also held at 12:15pm in the Fellowship Hall. \nTo see a complete listing of missionaries – see: https://oakgrove-mbc.org/missions/
URL:https://oakgrove-mbc.org/event/missions-fund-offering/2026-06-07/
LOCATION:Oak Grove\, 9457 Baumhart Road\, Amherst\, OH\, 44001\, United States
END:VEVENT
BEGIN:VEVENT
DTSTART;VALUE=DATE:20260705
DTEND;VALUE=DATE:20260706
DTSTAMP:20260423T113115
CREATED:20240323T043021Z
LAST-MODIFIED:20240323T125301Z
UID:10002160-1783209600-1783295999@oakgrove-mbc.org
SUMMARY:Missions Fund Offering
DESCRIPTION:OGMBC is proud to support many missionaries!  A special offering is taken during the morning service on the first Sunday of each month. \nA luncheon is also held at 12:15pm in the Fellowship Hall. \nTo see a complete listing of missionaries – see: https://oakgrove-mbc.org/missions/
URL:https://oakgrove-mbc.org/event/missions-fund-offering/2026-07-05/
LOCATION:Oak Grove\, 9457 Baumhart Road\, Amherst\, OH\, 44001\, United States
END:VEVENT
BEGIN:VEVENT
DTSTART;VALUE=DATE:20260802
DTEND;VALUE=DATE:20260803
DTSTAMP:20260423T113115
CREATED:20240323T043021Z
LAST-MODIFIED:20240323T125301Z
UID:10002161-1785628800-1785715199@oakgrove-mbc.org
SUMMARY:Missions Fund Offering
DESCRIPTION:OGMBC is proud to support many missionaries!  A special offering is taken during the morning service on the first Sunday of each month. \nA luncheon is also held at 12:15pm in the Fellowship Hall. \nTo see a complete listing of missionaries – see: https://oakgrove-mbc.org/missions/
URL:https://oakgrove-mbc.org/event/missions-fund-offering/2026-08-02/
LOCATION:Oak Grove\, 9457 Baumhart Road\, Amherst\, OH\, 44001\, United States
END:VEVENT
BEGIN:VEVENT
DTSTART;VALUE=DATE:20260906
DTEND;VALUE=DATE:20260907
DTSTAMP:20260423T113115
CREATED:20240323T043021Z
LAST-MODIFIED:20240323T125301Z
UID:10002162-1788652800-1788739199@oakgrove-mbc.org
SUMMARY:Missions Fund Offering
DESCRIPTION:OGMBC is proud to support many missionaries!  A special offering is taken during the morning service on the first Sunday of each month. \nA luncheon is also held at 12:15pm in the Fellowship Hall. \nTo see a complete listing of missionaries – see: https://oakgrove-mbc.org/missions/
URL:https://oakgrove-mbc.org/event/missions-fund-offering/2026-09-06/
LOCATION:Oak Grove\, 9457 Baumhart Road\, Amherst\, OH\, 44001\, United States
END:VEVENT
BEGIN:VEVENT
DTSTART;VALUE=DATE:20261004
DTEND;VALUE=DATE:20261005
DTSTAMP:20260423T113115
CREATED:20240323T043021Z
LAST-MODIFIED:20240323T125301Z
UID:10002163-1791072000-1791158399@oakgrove-mbc.org
SUMMARY:Missions Fund Offering
DESCRIPTION:OGMBC is proud to support many missionaries!  A special offering is taken during the morning service on the first Sunday of each month. \nA luncheon is also held at 12:15pm in the Fellowship Hall. \nTo see a complete listing of missionaries – see: https://oakgrove-mbc.org/missions/
URL:https://oakgrove-mbc.org/event/missions-fund-offering/2026-10-04/
LOCATION:Oak Grove\, 9457 Baumhart Road\, Amherst\, OH\, 44001\, United States
END:VEVENT
BEGIN:VEVENT
DTSTART;VALUE=DATE:20261101
DTEND;VALUE=DATE:20261102
DTSTAMP:20260423T113115
CREATED:20240323T043021Z
LAST-MODIFIED:20240323T125301Z
UID:10002164-1793491200-1793573999@oakgrove-mbc.org
SUMMARY:Missions Fund Offering
DESCRIPTION:OGMBC is proud to support many missionaries!  A special offering is taken during the morning service on the first Sunday of each month. \nA luncheon is also held at 12:15pm in the Fellowship Hall. \nTo see a complete listing of missionaries – see: https://oakgrove-mbc.org/missions/
URL:https://oakgrove-mbc.org/event/missions-fund-offering/2026-11-01/
LOCATION:Oak Grove\, 9457 Baumhart Road\, Amherst\, OH\, 44001\, United States
END:VEVENT
BEGIN:VEVENT
DTSTART;VALUE=DATE:20261206
DTEND;VALUE=DATE:20261207
DTSTAMP:20260423T113115
CREATED:20240323T043021Z
LAST-MODIFIED:20240323T125301Z
UID:10002165-1796515200-1796601599@oakgrove-mbc.org
SUMMARY:Missions Fund Offering
DESCRIPTION:OGMBC is proud to support many missionaries!  A special offering is taken during the morning service on the first Sunday of each month. \nA luncheon is also held at 12:15pm in the Fellowship Hall. \nTo see a complete listing of missionaries – see: https://oakgrove-mbc.org/missions/
URL:https://oakgrove-mbc.org/event/missions-fund-offering/2026-12-06/
LOCATION:Oak Grove\, 9457 Baumhart Road\, Amherst\, OH\, 44001\, United States
END:VEVENT
BEGIN:VEVENT
DTSTART;VALUE=DATE:20270103
DTEND;VALUE=DATE:20270104
DTSTAMP:20260423T113115
CREATED:20240323T043021Z
LAST-MODIFIED:20240323T125301Z
UID:10002166-1798934400-1799020799@oakgrove-mbc.org
SUMMARY:Missions Fund Offering
DESCRIPTION:OGMBC is proud to support many missionaries!  A special offering is taken during the morning service on the first Sunday of each month. \nA luncheon is also held at 12:15pm in the Fellowship Hall. \nTo see a complete listing of missionaries – see: https://oakgrove-mbc.org/missions/
URL:https://oakgrove-mbc.org/event/missions-fund-offering/2027-01-03/
LOCATION:Oak Grove\, 9457 Baumhart Road\, Amherst\, OH\, 44001\, United States
END:VEVENT
BEGIN:VEVENT
DTSTART;VALUE=DATE:20270207
DTEND;VALUE=DATE:20270208
DTSTAMP:20260423T113115
CREATED:20240323T043021Z
LAST-MODIFIED:20240323T125301Z
UID:10002167-1801958400-1802044799@oakgrove-mbc.org
SUMMARY:Missions Fund Offering
DESCRIPTION:OGMBC is proud to support many missionaries!  A special offering is taken during the morning service on the first Sunday of each month. \nA luncheon is also held at 12:15pm in the Fellowship Hall. \nTo see a complete listing of missionaries – see: https://oakgrove-mbc.org/missions/
URL:https://oakgrove-mbc.org/event/missions-fund-offering/2027-02-07/
LOCATION:Oak Grove\, 9457 Baumhart Road\, Amherst\, OH\, 44001\, United States
END:VEVENT
BEGIN:VEVENT
DTSTART;VALUE=DATE:20270307
DTEND;VALUE=DATE:20270308
DTSTAMP:20260423T113115
CREATED:20240323T043021Z
LAST-MODIFIED:20240323T125301Z
UID:10002168-1804377600-1804463999@oakgrove-mbc.org
SUMMARY:Missions Fund Offering
DESCRIPTION:OGMBC is proud to support many missionaries!  A special offering is taken during the morning service on the first Sunday of each month. \nA luncheon is also held at 12:15pm in the Fellowship Hall. \nTo see a complete listing of missionaries – see: https://oakgrove-mbc.org/missions/
URL:https://oakgrove-mbc.org/event/missions-fund-offering/2027-03-07/
LOCATION:Oak Grove\, 9457 Baumhart Road\, Amherst\, OH\, 44001\, United States
END:VEVENT
BEGIN:VEVENT
DTSTART;VALUE=DATE:20270404
DTEND;VALUE=DATE:20270405
DTSTAMP:20260423T113115
CREATED:20240323T043021Z
LAST-MODIFIED:20240323T125301Z
UID:10002169-1806796800-1806883199@oakgrove-mbc.org
SUMMARY:Missions Fund Offering
DESCRIPTION:OGMBC is proud to support many missionaries!  A special offering is taken during the morning service on the first Sunday of each month. \nA luncheon is also held at 12:15pm in the Fellowship Hall. \nTo see a complete listing of missionaries – see: https://oakgrove-mbc.org/missions/
URL:https://oakgrove-mbc.org/event/missions-fund-offering/2027-04-04/
LOCATION:Oak Grove\, 9457 Baumhart Road\, Amherst\, OH\, 44001\, United States
END:VEVENT
BEGIN:VEVENT
DTSTART;VALUE=DATE:20270502
DTEND;VALUE=DATE:20270503
DTSTAMP:20260423T113115
CREATED:20240323T043021Z
LAST-MODIFIED:20240323T125301Z
UID:10002170-1809216000-1809302399@oakgrove-mbc.org
SUMMARY:Missions Fund Offering
DESCRIPTION:OGMBC is proud to support many missionaries!  A special offering is taken during the morning service on the first Sunday of each month. \nA luncheon is also held at 12:15pm in the Fellowship Hall. \nTo see a complete listing of missionaries – see: https://oakgrove-mbc.org/missions/
URL:https://oakgrove-mbc.org/event/missions-fund-offering/2027-05-02/
LOCATION:Oak Grove\, 9457 Baumhart Road\, Amherst\, OH\, 44001\, United States
END:VEVENT
BEGIN:VEVENT
DTSTART;VALUE=DATE:20270606
DTEND;VALUE=DATE:20270607
DTSTAMP:20260423T113115
CREATED:20240323T043021Z
LAST-MODIFIED:20240323T125301Z
UID:10002171-1812240000-1812326399@oakgrove-mbc.org
SUMMARY:Missions Fund Offering
DESCRIPTION:OGMBC is proud to support many missionaries!  A special offering is taken during the morning service on the first Sunday of each month. \nA luncheon is also held at 12:15pm in the Fellowship Hall. \nTo see a complete listing of missionaries – see: https://oakgrove-mbc.org/missions/
URL:https://oakgrove-mbc.org/event/missions-fund-offering/2027-06-06/
LOCATION:Oak Grove\, 9457 Baumhart Road\, Amherst\, OH\, 44001\, United States
END:VEVENT
BEGIN:VEVENT
DTSTART;VALUE=DATE:20270704
DTEND;VALUE=DATE:20270705
DTSTAMP:20260423T113115
CREATED:20240323T043021Z
LAST-MODIFIED:20240323T125301Z
UID:10002172-1814659200-1814745599@oakgrove-mbc.org
SUMMARY:Missions Fund Offering
DESCRIPTION:OGMBC is proud to support many missionaries!  A special offering is taken during the morning service on the first Sunday of each month. \nA luncheon is also held at 12:15pm in the Fellowship Hall. \nTo see a complete listing of missionaries – see: https://oakgrove-mbc.org/missions/
URL:https://oakgrove-mbc.org/event/missions-fund-offering/2027-07-04/
LOCATION:Oak Grove\, 9457 Baumhart Road\, Amherst\, OH\, 44001\, United States
END:VEVENT
BEGIN:VEVENT
DTSTART;VALUE=DATE:20270801
DTEND;VALUE=DATE:20270802
DTSTAMP:20260423T113115
CREATED:20240323T043021Z
LAST-MODIFIED:20240323T125301Z
UID:10002173-1817078400-1817164799@oakgrove-mbc.org
SUMMARY:Missions Fund Offering
DESCRIPTION:OGMBC is proud to support many missionaries!  A special offering is taken during the morning service on the first Sunday of each month. \nA luncheon is also held at 12:15pm in the Fellowship Hall. \nTo see a complete listing of missionaries – see: https://oakgrove-mbc.org/missions/
URL:https://oakgrove-mbc.org/event/missions-fund-offering/2027-08-01/
LOCATION:Oak Grove\, 9457 Baumhart Road\, Amherst\, OH\, 44001\, United States
END:VEVENT
BEGIN:VEVENT
DTSTART;VALUE=DATE:20270905
DTEND;VALUE=DATE:20270906
DTSTAMP:20260423T113115
CREATED:20240323T043021Z
LAST-MODIFIED:20240323T125301Z
UID:10002174-1820102400-1820188799@oakgrove-mbc.org
SUMMARY:Missions Fund Offering
DESCRIPTION:OGMBC is proud to support many missionaries!  A special offering is taken during the morning service on the first Sunday of each month. \nA luncheon is also held at 12:15pm in the Fellowship Hall. \nTo see a complete listing of missionaries – see: https://oakgrove-mbc.org/missions/
URL:https://oakgrove-mbc.org/event/missions-fund-offering/2027-09-05/
LOCATION:Oak Grove\, 9457 Baumhart Road\, Amherst\, OH\, 44001\, United States
END:VEVENT
BEGIN:VEVENT
DTSTART;VALUE=DATE:20271003
DTEND;VALUE=DATE:20271004
DTSTAMP:20260423T113115
CREATED:20240323T043021Z
LAST-MODIFIED:20240323T125301Z
UID:10002175-1822521600-1822607999@oakgrove-mbc.org
SUMMARY:Missions Fund Offering
DESCRIPTION:OGMBC is proud to support many missionaries!  A special offering is taken during the morning service on the first Sunday of each month. \nA luncheon is also held at 12:15pm in the Fellowship Hall. \nTo see a complete listing of missionaries – see: https://oakgrove-mbc.org/missions/
URL:https://oakgrove-mbc.org/event/missions-fund-offering/2027-10-03/
LOCATION:Oak Grove\, 9457 Baumhart Road\, Amherst\, OH\, 44001\, United States
END:VEVENT
BEGIN:VEVENT
DTSTART;VALUE=DATE:20271107
DTEND;VALUE=DATE:20271108
DTSTAMP:20260423T113115
CREATED:20240323T043021Z
LAST-MODIFIED:20240323T125301Z
UID:10002176-1825545600-1825628399@oakgrove-mbc.org
SUMMARY:Missions Fund Offering
DESCRIPTION:OGMBC is proud to support many missionaries!  A special offering is taken during the morning service on the first Sunday of each month. \nA luncheon is also held at 12:15pm in the Fellowship Hall. \nTo see a complete listing of missionaries – see: https://oakgrove-mbc.org/missions/
URL:https://oakgrove-mbc.org/event/missions-fund-offering/2027-11-07/
LOCATION:Oak Grove\, 9457 Baumhart Road\, Amherst\, OH\, 44001\, United States
END:VEVENT
BEGIN:VEVENT
DTSTART;VALUE=DATE:20271205
DTEND;VALUE=DATE:20271206
DTSTAMP:20260423T113115
CREATED:20240323T043021Z
LAST-MODIFIED:20240323T125301Z
UID:10002177-1827964800-1828051199@oakgrove-mbc.org
SUMMARY:Missions Fund Offering
DESCRIPTION:OGMBC is proud to support many missionaries!  A special offering is taken during the morning service on the first Sunday of each month. \nA luncheon is also held at 12:15pm in the Fellowship Hall. \nTo see a complete listing of missionaries – see: https://oakgrove-mbc.org/missions/
URL:https://oakgrove-mbc.org/event/missions-fund-offering/2027-12-05/
LOCATION:Oak Grove\, 9457 Baumhart Road\, Amherst\, OH\, 44001\, United States
END:VEVENT
BEGIN:VEVENT
DTSTART;VALUE=DATE:20280102
DTEND;VALUE=DATE:20280103
DTSTAMP:20260423T113115
CREATED:20240323T043021Z
LAST-MODIFIED:20240323T125301Z
UID:10002178-1830384000-1830470399@oakgrove-mbc.org
SUMMARY:Missions Fund Offering
DESCRIPTION:OGMBC is proud to support many missionaries!  A special offering is taken during the morning service on the first Sunday of each month. \nA luncheon is also held at 12:15pm in the Fellowship Hall. \nTo see a complete listing of missionaries – see: https://oakgrove-mbc.org/missions/
URL:https://oakgrove-mbc.org/event/missions-fund-offering/2028-01-02/
LOCATION:Oak Grove\, 9457 Baumhart Road\, Amherst\, OH\, 44001\, United States
END:VEVENT
BEGIN:VEVENT
DTSTART;VALUE=DATE:20280206
DTEND;VALUE=DATE:20280207
DTSTAMP:20260423T113115
CREATED:20240323T043021Z
LAST-MODIFIED:20240323T125301Z
UID:10002179-1833408000-1833494399@oakgrove-mbc.org
SUMMARY:Missions Fund Offering
DESCRIPTION:OGMBC is proud to support many missionaries!  A special offering is taken during the morning service on the first Sunday of each month. \nA luncheon is also held at 12:15pm in the Fellowship Hall. \nTo see a complete listing of missionaries – see: https://oakgrove-mbc.org/missions/
URL:https://oakgrove-mbc.org/event/missions-fund-offering/2028-02-06/
LOCATION:Oak Grove\, 9457 Baumhart Road\, Amherst\, OH\, 44001\, United States
END:VEVENT
BEGIN:VEVENT
DTSTART;VALUE=DATE:20280305
DTEND;VALUE=DATE:20280306
DTSTAMP:20260423T113115
CREATED:20240323T043021Z
LAST-MODIFIED:20240323T125301Z
UID:10002180-1835827200-1835913599@oakgrove-mbc.org
SUMMARY:Missions Fund Offering
DESCRIPTION:OGMBC is proud to support many missionaries!  A special offering is taken during the morning service on the first Sunday of each month. \nA luncheon is also held at 12:15pm in the Fellowship Hall. \nTo see a complete listing of missionaries – see: https://oakgrove-mbc.org/missions/
URL:https://oakgrove-mbc.org/event/missions-fund-offering/2028-03-05/
LOCATION:Oak Grove\, 9457 Baumhart Road\, Amherst\, OH\, 44001\, United States
END:VEVENT
BEGIN:VEVENT
DTSTART;VALUE=DATE:20280402
DTEND;VALUE=DATE:20280403
DTSTAMP:20260423T113115
CREATED:20240323T043021Z
LAST-MODIFIED:20240323T125301Z
UID:10002181-1838246400-1838332799@oakgrove-mbc.org
SUMMARY:Missions Fund Offering
DESCRIPTION:OGMBC is proud to support many missionaries!  A special offering is taken during the morning service on the first Sunday of each month. \nA luncheon is also held at 12:15pm in the Fellowship Hall. \nTo see a complete listing of missionaries – see: https://oakgrove-mbc.org/missions/
URL:https://oakgrove-mbc.org/event/missions-fund-offering/2028-04-02/
LOCATION:Oak Grove\, 9457 Baumhart Road\, Amherst\, OH\, 44001\, United States
END:VEVENT
BEGIN:VEVENT
DTSTART;VALUE=DATE:20280507
DTEND;VALUE=DATE:20280508
DTSTAMP:20260423T113115
CREATED:20240323T043021Z
LAST-MODIFIED:20240323T125301Z
UID:10002182-1841270400-1841356799@oakgrove-mbc.org
SUMMARY:Missions Fund Offering
DESCRIPTION:OGMBC is proud to support many missionaries!  A special offering is taken during the morning service on the first Sunday of each month. \nA luncheon is also held at 12:15pm in the Fellowship Hall. \nTo see a complete listing of missionaries – see: https://oakgrove-mbc.org/missions/
URL:https://oakgrove-mbc.org/event/missions-fund-offering/2028-05-07/
LOCATION:Oak Grove\, 9457 Baumhart Road\, Amherst\, OH\, 44001\, United States
END:VEVENT
BEGIN:VEVENT
DTSTART;VALUE=DATE:20280604
DTEND;VALUE=DATE:20280605
DTSTAMP:20260423T113115
CREATED:20240323T043021Z
LAST-MODIFIED:20240323T125301Z
UID:10002183-1843689600-1843775999@oakgrove-mbc.org
SUMMARY:Missions Fund Offering
DESCRIPTION:OGMBC is proud to support many missionaries!  A special offering is taken during the morning service on the first Sunday of each month. \nA luncheon is also held at 12:15pm in the Fellowship Hall. \nTo see a complete listing of missionaries – see: https://oakgrove-mbc.org/missions/
URL:https://oakgrove-mbc.org/event/missions-fund-offering/2028-06-04/
LOCATION:Oak Grove\, 9457 Baumhart Road\, Amherst\, OH\, 44001\, United States
END:VEVENT
BEGIN:VEVENT
DTSTART;VALUE=DATE:20280702
DTEND;VALUE=DATE:20280703
DTSTAMP:20260423T113115
CREATED:20240323T043021Z
LAST-MODIFIED:20240323T125301Z
UID:10002184-1846108800-1846195199@oakgrove-mbc.org
SUMMARY:Missions Fund Offering
DESCRIPTION:OGMBC is proud to support many missionaries!  A special offering is taken during the morning service on the first Sunday of each month. \nA luncheon is also held at 12:15pm in the Fellowship Hall. \nTo see a complete listing of missionaries – see: https://oakgrove-mbc.org/missions/
URL:https://oakgrove-mbc.org/event/missions-fund-offering/2028-07-02/
LOCATION:Oak Grove\, 9457 Baumhart Road\, Amherst\, OH\, 44001\, United States
END:VEVENT
BEGIN:VEVENT
DTSTART;VALUE=DATE:20280806
DTEND;VALUE=DATE:20280807
DTSTAMP:20260423T113115
CREATED:20240323T043021Z
LAST-MODIFIED:20240323T125301Z
UID:10002185-1849132800-1849219199@oakgrove-mbc.org
SUMMARY:Missions Fund Offering
DESCRIPTION:OGMBC is proud to support many missionaries!  A special offering is taken during the morning service on the first Sunday of each month. \nA luncheon is also held at 12:15pm in the Fellowship Hall. \nTo see a complete listing of missionaries – see: https://oakgrove-mbc.org/missions/
URL:https://oakgrove-mbc.org/event/missions-fund-offering/2028-08-06/
LOCATION:Oak Grove\, 9457 Baumhart Road\, Amherst\, OH\, 44001\, United States
END:VEVENT
BEGIN:VEVENT
DTSTART;VALUE=DATE:20280903
DTEND;VALUE=DATE:20280904
DTSTAMP:20260423T113115
CREATED:20240323T043021Z
LAST-MODIFIED:20240323T125301Z
UID:10002186-1851552000-1851638399@oakgrove-mbc.org
SUMMARY:Missions Fund Offering
DESCRIPTION:OGMBC is proud to support many missionaries!  A special offering is taken during the morning service on the first Sunday of each month. \nA luncheon is also held at 12:15pm in the Fellowship Hall. \nTo see a complete listing of missionaries – see: https://oakgrove-mbc.org/missions/
URL:https://oakgrove-mbc.org/event/missions-fund-offering/2028-09-03/
LOCATION:Oak Grove\, 9457 Baumhart Road\, Amherst\, OH\, 44001\, United States
END:VEVENT
BEGIN:VEVENT
DTSTART;VALUE=DATE:20281001
DTEND;VALUE=DATE:20281002
DTSTAMP:20260423T113115
CREATED:20240323T043021Z
LAST-MODIFIED:20240323T125301Z
UID:10002187-1853971200-1854057599@oakgrove-mbc.org
SUMMARY:Missions Fund Offering
DESCRIPTION:OGMBC is proud to support many missionaries!  A special offering is taken during the morning service on the first Sunday of each month. \nA luncheon is also held at 12:15pm in the Fellowship Hall. \nTo see a complete listing of missionaries – see: https://oakgrove-mbc.org/missions/
URL:https://oakgrove-mbc.org/event/missions-fund-offering/2028-10-01/
LOCATION:Oak Grove\, 9457 Baumhart Road\, Amherst\, OH\, 44001\, United States
END:VEVENT
END:VCALENDAR