BEGIN:VCALENDAR
VERSION:2.0
PRODID:-//OGMBC - ECPv6.15.20//NONSGML v1.0//EN
CALSCALE:GREGORIAN
METHOD:PUBLISH
X-WR-CALNAME:OGMBC
X-ORIGINAL-URL:https://oakgrove-mbc.org
X-WR-CALDESC:Events for OGMBC
REFRESH-INTERVAL;VALUE=DURATION:PT1H
X-Robots-Tag:noindex
X-PUBLISHED-TTL:PT1H
BEGIN:VTIMEZONE
TZID:America/New_York
BEGIN:DAYLIGHT
TZOFFSETFROM:-0500
TZOFFSETTO:-0400
TZNAME:EDT
DTSTART:20250309T070000
END:DAYLIGHT
BEGIN:STANDARD
TZOFFSETFROM:-0400
TZOFFSETTO:-0500
TZNAME:EST
DTSTART:20251102T060000
END:STANDARD
BEGIN:DAYLIGHT
TZOFFSETFROM:-0500
TZOFFSETTO:-0400
TZNAME:EDT
DTSTART:20260308T070000
END:DAYLIGHT
BEGIN:STANDARD
TZOFFSETFROM:-0400
TZOFFSETTO:-0500
TZNAME:EST
DTSTART:20261101T060000
END:STANDARD
BEGIN:DAYLIGHT
TZOFFSETFROM:-0500
TZOFFSETTO:-0400
TZNAME:EDT
DTSTART:20270314T070000
END:DAYLIGHT
BEGIN:STANDARD
TZOFFSETFROM:-0400
TZOFFSETTO:-0500
TZNAME:EST
DTSTART:20271107T060000
END:STANDARD
BEGIN:DAYLIGHT
TZOFFSETFROM:-0500
TZOFFSETTO:-0400
TZNAME:EDT
DTSTART:20280312T070000
END:DAYLIGHT
BEGIN:STANDARD
TZOFFSETFROM:-0400
TZOFFSETTO:-0500
TZNAME:EST
DTSTART:20281105T060000
END:STANDARD
BEGIN:DAYLIGHT
TZOFFSETFROM:-0500
TZOFFSETTO:-0400
TZNAME:EDT
DTSTART:20290311T070000
END:DAYLIGHT
BEGIN:STANDARD
TZOFFSETFROM:-0400
TZOFFSETTO:-0500
TZNAME:EST
DTSTART:20291104T060000
END:STANDARD
END:VTIMEZONE
BEGIN:VEVENT
DTSTART;TZID=America/New_York:20260524T130000
DTEND;TZID=America/New_York:20260524T153000
DTSTAMP:20260423T125105
CREATED:20230306T013304Z
LAST-MODIFIED:20240323T130021Z
UID:10002322-1779627600-1779636600@oakgrove-mbc.org
SUMMARY:Kipton Memorial Day Parade
DESCRIPTION:Join us in Kipton to celebrate memorial day and see the OGMBC Vacation Bible School float!
URL:https://oakgrove-mbc.org/event/kipton-memorial-day-parade/2026-05-24/
LOCATION:Oak Grove\, 9457 Baumhart Road\, Amherst\, OH\, 44001\, United States
END:VEVENT
BEGIN:VEVENT
DTSTART;TZID=America/New_York:20270523T130000
DTEND;TZID=America/New_York:20270523T153000
DTSTAMP:20260423T125105
CREATED:20230306T013304Z
LAST-MODIFIED:20240323T130021Z
UID:10002323-1811077200-1811086200@oakgrove-mbc.org
SUMMARY:Kipton Memorial Day Parade
DESCRIPTION:Join us in Kipton to celebrate memorial day and see the OGMBC Vacation Bible School float!
URL:https://oakgrove-mbc.org/event/kipton-memorial-day-parade/2027-05-23/
LOCATION:Oak Grove\, 9457 Baumhart Road\, Amherst\, OH\, 44001\, United States
END:VEVENT
BEGIN:VEVENT
DTSTART;TZID=America/New_York:20280528T130000
DTEND;TZID=America/New_York:20280528T153000
DTSTAMP:20260423T125105
CREATED:20230306T013304Z
LAST-MODIFIED:20240323T130021Z
UID:10002324-1843131600-1843140600@oakgrove-mbc.org
SUMMARY:Kipton Memorial Day Parade
DESCRIPTION:Join us in Kipton to celebrate memorial day and see the OGMBC Vacation Bible School float!
URL:https://oakgrove-mbc.org/event/kipton-memorial-day-parade/2028-05-28/
LOCATION:Oak Grove\, 9457 Baumhart Road\, Amherst\, OH\, 44001\, United States
END:VEVENT
END:VCALENDAR